{"text_format":"1","workbook":"xlsx","n_sheets":8,"sheets":["Alapadatok","állásidő_kódok","Állásidő_kimutatás","Állásidők_rögzítése","wk_45_1","wk_45_2","wk_45_3","wk_45_4"],"not_rendered":{"charts":1,"images":1,"macros":1,"external_links":0,"defined_names":76,"comments":0,"pivot_tables":0},"unopened":[],"bounds":{"document_bytes":16777216,"sheet_cells":100000,"rows_first":2000,"rows_last":500,"rows_between":2000,"halvings":0,"cell_chars":16384,"cell_head_chars":4096},"cells_cut":0,"cells_raw":0,"read":"whole","date_system":"1900"}

{"sheet":"Alapadatok","index":0,"n_rows":21,"n_cols":12,"rows_kept":21,"cut":false,"hidden":false,"merged":[]}
[]
[null,"Terület (ez lesz a műszakriport fejléce):","MG 160/180"]
[null,null,null,"Éjszaka",null,null,"Délelőtt",null,null,"Délután"]
[null,null,"Koordinátori terület neve","Elvárt db\nMPS alapján","MPS alapján szükséges létszám","Elvárt db/ operátor","Elvárt db\nMPS alapján","MPS alapján szükséges létszám","Elvárt db/ operátor","Elvárt db\nMPS alapján","MPS alapján szükséges létszám","Elvárt db/ operátor"]
[null,"1. Cella neve (ez jelenik meg a műszakriportban)","Motor sor",52,7,7.43,54,8,6.75,54,8,6.75]
[null,"2. Cella neve (ez jelenik meg a műszakriportban)","2p Sztátor sor",50,6,8.33,52,6,8.67,45,5,9]
[null,"3. Cella neve (ez jelenik meg a műszakriportban)","4p sztátor sor",0,0,0,20,4,5,0,0,0]
[null,"4. Cella neve (ez jelenik meg a műszakriportban)","DE cella",52,2,26,52,2,26,52,2,26]
[null,"5. Cella neve (ez jelenik meg a műszakriportban)","NDE cella",95,1,95,95,1,95,95,1,95]
[null,"6. Cella neve (ez jelenik meg a műszakriportban)","T+R",54,3,18,54,3,18,54,3,18]
[null,"7. Cella neve (ez jelenik meg a műszakriportban)","Cella7",0,0,{"$f":"IF(E11=0,0,D11/E11)","v":0},0,0,{"$f":"IF(H11=0,0,G11/H11)","v":0},0,0,{"$f":"IF(K11=0,0,J11/K11)","v":0}]
[null,"8. Cella neve (ez jelenik meg a műszakriportban)","Cella8",0,0,0,0,0,0,0,0,0]
[null,"9. Cella neve (ez jelenik meg a műszakriportban)","Cella9",0,0,0,0,0,0,0,0,0]
[null,"10. Cella neve (ez jelenik meg a műszakriportban)","Cella10",0,0,0,0,0,0,0,0,0]
[null,"11. Cella neve (ez jelenik meg a műszakriportban)","Cella11",0,0,0,0,0,0,0,0,0]
[null,"12. Cella neve (ez jelenik meg a műszakriportban)","Cella12",0,0,0,0,0,0,0,0,0]
[null,"13. Cella neve (ez jelenik meg a műszakriportban)","Cella13",0,0,0,0,0,0,0,0,0]
[null,"14. Cella neve (ez jelenik meg a műszakriportban)","Cella14",0,0,0,0,0,0,0,0,0]
[null,"15. Cella neve (ez jelenik meg a műszakriportban)","Cella15",0,0,{"$f":"IF(E19=0,0,D19/E19)","v":0},0,0,0,0,0,{"$f":"IF(K19=0,0,J19/K19)","v":0}]
[]
[null,null,"     FIGYELEM: Töltsd fel a vastag kereten belüli (színes cellák) adatait!"]

{"sheet":"állásidő_kódok","index":1,"n_rows":135,"n_cols":11,"rows_kept":135,"cut":false,"hidden":false,"merged":[]}
[null,"Állásidő hibakódok / Downtime codes "]
[]
[null,"Probléma kódja","Kategória","Probléma leírása",null,"Módosítás:"]
[null,5,"Emberi erőforrás hiány I.","E-I. - 5%-os emberi erőforrás hiány",null,"Régit hagyd meg!"]
[null,10,"Emberi erőforrás hiány I.","E-I. - 10%-os emberi erőforrás hiány",null,"Új kódot új sorba vigyél fel!"]
[null,1,"Emberi erőforrás hiány I.","E-I. - Emberi erőforrás hiány"]
[]
[null,null,null,null,null,"Kategória javaslatok:"]
[null,null,null,null,null,null,"1-től 99-ig","Emberi erőforrás hiány I."]
[null,null,null,null,null,null,null,"Pl.: ","5%-os hiány","5-ös kód","(22 perc)"]
[null,null,null,null,null,null,null,null,"10%-os hiány","10-es kód","(44,5 perc)"]
[]
[null,null,null,null,null,null,"100-tól 199-ig","Emberi erőforrás hiány II."]
[null,null,null,null,null,null,null,"Pl.:","Betanulás-betanítás","105-ös kód","(xxx perc)"]
[null,null,null,null,null,null,null,null,"Gépbeállítóra várakozás","110-es kód","(yyy perc)"]
[]
[null,100,"Emberi erőforrás hiány II.","E-II. - Betanulás-betanítás",null,null,"200-tól 249-ig","Anyagellátási problémák"]
[null,102,"Emberi erőforrás hiány II.","E-II. - Lapkaszoba",null,null,null,"Pl.:","Anyaghiány SM-ból","205-ös kód","(xxx perc)"]
[null,105,"Emberi erőforrás hiány II.","E-II. - Gépbeállítóra várakozás",null,null,null,null,"Csomagolóanyag hiány","210-es kód","(yyy perc)"]
[]
[null,null,null,null,null,null,"250-től 299-ig","Anyaghibák miatti kiesések"]
[null,null,null,null,null,null,null,"Pl.:","Raktári alapanyag hiba","255-ös kód","(xxx perc)"]
[null,null,null,null,null,null,null,null,"Komponens anyag hiba","260-as kód","(yyy perc)"]
[]
[null,null,null,null,null,null,"300-tól 399-ig","Géphibák"]
[null,null,null,null,null,null,null,"Pl.:","Gyártósor meghibásodása","305-ös kód","(xxx perc)"]
[null,null,null,null,null,null,null,null,"Teszter meghibásodása","310-es kód","(yyy perc)"]
[]
[null,null,null,null,null,null,"400-tól 499-ig","Javítás miatti operátori kieső idők"]
[null,null,null,null,null,null,null,"Pl.:","Szivattyú keveset emel","405-ös kód","(xxx perc)"]
[null,null,null,null,null,null,null,null,"Szivattyú sokat emel","410-es kód","(yyy perc)"]
[]
[null,null,null,null,null,null,"500-tól 599-ig","Támogató funkciók miatti kieső idők"]
[null,200,"Anyagellátási problémák","AE - Anyaghiány Szupermarketból",null,null,null,"Pl.:","Mérnöki döntésre várakozás","505-ös kód","(xxx perc)"]
[null,201,"Anyagellátási problémák","AE-Alapanyaghiány (GW)",null,null,null,null,"BOM hiba","510-es kód","(yyy perc)"]
[null,205,"Anyagellátási problémák","AE - Csomagolóanyag hiány"]
[null,null,null,null,null,null,"900-tól 999-ig","Tervezett kieső idők"]
[null,null,null,null,null,null,null,"Pl.:","Tervezett karbantartás","905-ös kód","(xxx perc)"]
[null,null,null,null,null,null,null,null,"Gyár gyűlés","910-es kód","(yyy perc)"]
[]
[]
[]
[]
[]
[]
[]
[]
[]
[]
[]
[]
[]
[null,250,"Anyaghibák miatti kiesések","AH - Raktári alapanyag hiba"]
[null,255,"Anyaghibák miatti kiesések","AH - Komponens anyag hiba"]
[]
[]
[]
[]
[]
[]
[]
[]
[]
[]
[]
[]
[]
[]
[]
[]
[]
[]
[]
[]
[null,300,"Géphiba miatti kieső idő","G - Gyártósor meghibásodása"]
[null,301,"Géphiba miatti kieső idő","G - Címke nyomtató hiba"]
[null,302,"Géphiba miatti kieső idő","G - Gravírozó hiba"]
[null,303,"Géphiba miatti kieső idő","G - T+R Okuma hiba"]
[null,304,"Géphiba miatti kieső idő","G - Gagemax hiba/várakozás"]
[null,305,"Géphiba miatti kieső idő","G - Teszter meghibásodása"]
[null,306,"Géphiba miatti kieső idő","G - NDE Géphiba"]
[null,307,"Géphiba miatti kieső idő","G - E-tower hiba"]
[null,308,"Géphiba miatti kieső idő","G - T+R robothiba"]
[null,309,"Géphiba miatti kieső idő","G - Helios hiba "]
[null,310,"Géphiba miatti kieső idő","G - Átállás"]
[null,311,"Géphiba miatti kieső idő","G - DE cella robothiba"]
[null,312,"Géphiba miatti kieső idő","G - DE cella OP20-doosan hiba"]
[null,313,"Géphiba miatti kieső idő","G - Aliance lakkozó hiba"]
[null,314,"Géphiba miatti kieső idő","G - Gép kiöntött "]
[null,315,"Géphiba miatti kieső idő","G - Karbantartói javítás"]
[null,316,"Géphiba miatti kieső idő","G - Szakszerviz"]
[null,317,"Géphiba miatti kieső idő","G - BWS hiba"]
[null,318,"Géphiba miatti kieső idő","G - T+R Doosan hiba"]
[null,319,"Géphiba miatti kieső idő","G - Sztátor saruzó hiba"]
[null,320,"Géphiba miatti kieső idő","G - MG /MGE teszter hiba"]
[null,321,"Géphiba miatti kieső idő","G - Indukciós kemence hiba"]
[null,322,"Géphiba miatti kieső idő","G - T+R OP30 hiba"]
[null,323,"Géphiba miatti kieső idő","G - DE cella OP10-Mori hiba"]
[null,324,"Géphiba miatti kieső idő","G - T+R OP50 hiba"]
[null,325,"Géphiba miatti kieső idő","G - Fúrótörés"]
[null,326,"Géphiba miatti kieső idő","G - Program módosítás"]
[null,327,"Géphiba miatti kieső idő","G - Borogató hiba"]
[null,328,"Géphiba miatti kieső idő","G - MQ szerver hiba"]
[null,329,"Géphiba miatti kieső idő","G - MG címke nyomtató hiba"]
[null,330,"Géphiba miatti kieső idő","G - MGE címke nyomtató hiba"]
[null,400,"Javítás miatti operátori kieső idők","J - Szivattyú keveset emel"]
[null,405,"Javítás miatti operátori kieső idők","J - Szivattyú sokat emel"]
[null,406,"Javítás miatti operátori kieső idők","J - minőségügyi probléma"]
[]
[]
[]
[]
[]
[]
[]
[]
[]
[]
[]
[]
[null,600,"Támogató funkciók miatti kieső idők","TF - Mérnöki döntésre várakozás"]
[null,605,"Támogató funkciók miatti kieső idők","TF - BOM hiba"]
[]
[]
[]
[]
[]
[null,900,"Tervezett kieső idők","T - Tervezett karbantartás"]
[null,901,"Tervezett kieső idők","T - PDD"]
[null,902,"Tervezett kieső idők","T - Munkavédelmi oktatás"]
[null,903,"Tervezett kieső idők","T - dtv projekt"]
[null,904,"Tervezett kieső idők","T - EMS"]
[null,905,"Tervezett kieső idők","T - Gyári gyűlés"]
[null,906,"Tervezett kieső idők","T - Tervezett takarítás"]
[null,null,"Tervezett kieső idők"]

{"sheet":"Állásidő_kimutatás","index":2,"n_rows":42,"n_cols":33,"rows_kept":42,"cut":false,"hidden":false,"merged":[[2,0,2,1],[8,0,8,1],[37,20,37,21],[1,32,1,37],[1,6,1,13],[1,16,1,18],[1,20,1,22],[1,27,1,28],[37,0,38,0]]}
[null,null,null,null,null,null,null,"Írd be!",null,null,null,null,null,null,null,null,"Írd be!",null,null,null,"Írd be!",null,null,null,null,null,"Válaszd ki!",null,null,"Válaszd ki!",null,null,"Válaszd ki!"]
[null,null,null,null,null,"Terület:","MG 160/180",null,null,null,null,null,null,null,null,"Dátum:","2018-11-01",null,null,"-tól","2018-11-23",null,null,"-ig",null,"Műszak:",null,"Napszak:",null,"Délután",null,"Cella:","Motor sor"]
["Összes Állásidők területenként"]
["Éjszaka",{"$f":"SUM(Állásidők_rögzítése!$C$3:$C$1700)","v":1150}]
["Délelőtt",{"$f":"SUM(Állásidők_rögzítése!$E$3:$E$1700)","v":1620}]
["Délután",{"$f":"SUM(Állásidők_rögzítése!$G$3:$G$1700)","v":1530}]
["Összesen",{"$f":"SUM(B4:B6)","v":4300}]
[]
["Sum of Időtartam (Perc)"]
["Állásidő megnevezése","Perc"]
[{"$f":"IFERROR(VLOOKUP(Állásidők_rögzítése!AE2,állásidő_kódok!$B:$D,3,0),\"\")","v":"E-II. - Betanulás-betanítás"},{"$f":"IF(Állásidők_rögzítése!$AF2=0,\"\",Állásidők_rögzítése!$AF2)","v":380}]
[{"$f":"IFERROR(VLOOKUP(Állásidők_rögzítése!AE3,állásidő_kódok!$B:$D,3,0),\"\")","v":"G - DE cella robothiba"},{"$f":"IF(Állásidők_rögzítése!$AF3=0,\"\",Állásidők_rögzítése!$AF3)","v":60}]
[{"$f":"IFERROR(VLOOKUP(Állásidők_rögzítése!AE4,állásidő_kódok!$B:$D,3,0),\"\")","v":"E-I. - Emberi erőforrás hiány"},{"$f":"IF(Állásidők_rögzítése!$AF4=0,\"\",Állásidők_rögzítése!$AF4)","v":930}]
[{"$f":"IFERROR(VLOOKUP(Állásidők_rögzítése!AE5,állásidő_kódok!$B:$D,3,0),\"\")","v":"AE - Anyaghiány Szupermarketból"},{"$f":"IF(Állásidők_rögzítése!$AF5=0,\"\",Állásidők_rögzítése!$AF5)","v":330}]
[{"$f":"IFERROR(VLOOKUP(Állásidők_rögzítése!AE6,állásidő_kódok!$B:$D,3,0),\"\")","v":"AE - Csomagolóanyag hiány"},{"$f":"IF(Állásidők_rögzítése!$AF6=0,\"\",Állásidők_rögzítése!$AF6)","v":400}]
[{"$f":"IFERROR(VLOOKUP(Állásidők_rögzítése!AE7,állásidő_kódok!$B:$D,3,0),\"\")","v":""},{"$f":"IF(Állásidők_rögzítése!$AF7=0,\"\",Állásidők_rögzítése!$AF7)","v":""}]
[{"$f":"IFERROR(VLOOKUP(Állásidők_rögzítése!AE8,állásidő_kódok!$B:$D,3,0),\"\")","v":"E-I. - 5%-os emberi erőforrás hiány"},{"$f":"IF(Állásidők_rögzítése!$AF8=0,\"\",Állásidők_rögzítése!$AF8)","v":400}]
[{"$f":"IFERROR(VLOOKUP(Állásidők_rögzítése!AE9,állásidő_kódok!$B:$D,3,0),\"\")","v":"G - Gyártósor meghibásodása"},{"$f":"IF(Állásidők_rögzítése!$AF9=0,\"\",Állásidők_rögzítése!$AF9)","v":200}]
[{"$f":"IFERROR(VLOOKUP(Állásidők_rögzítése!AE10,állásidő_kódok!$B:$D,3,0),\"\")","v":"J - Szivattyú keveset emel"},{"$f":"IF(Állásidők_rögzítése!$AF10=0,\"\",Állásidők_rögzítése!$AF10)","v":480}]
[{"$f":"IFERROR(VLOOKUP(Állásidők_rögzítése!AE11,állásidő_kódok!$B:$D,3,0),\"\")","v":"AE-Alapanyaghiány (GW)"},{"$f":"IF(Állásidők_rögzítése!$AF11=0,\"\",Állásidők_rögzítése!$AF11)","v":700}]
[{"$f":"IFERROR(VLOOKUP(Állásidők_rögzítése!AE12,állásidő_kódok!$B:$D,3,0),\"\")","v":"G - Szakszerviz"},{"$f":"IF(Állásidők_rögzítése!$AF12=0,\"\",Állásidők_rögzítése!$AF12)","v":240}]
[{"$f":"IFERROR(VLOOKUP(Állásidők_rögzítése!AE13,állásidő_kódok!$B:$D,3,0),\"\")","v":"G - Karbantartói javítás"},{"$f":"IF(Állásidők_rögzítése!$AF13=0,\"\",Állásidők_rögzítése!$AF13)","v":150}]
[{"$f":"IFERROR(VLOOKUP(Állásidők_rögzítése!AE14,állásidő_kódok!$B:$D,3,0),\"\")","v":"G - Átállás"},{"$f":"IF(Állásidők_rögzítése!$AF14=0,\"\",Állásidők_rögzítése!$AF14)","v":30}]
[{"$f":"IFERROR(VLOOKUP(Állásidők_rögzítése!AE15,állásidő_kódok!$B:$D,3,0),\"\")","v":""},{"$f":"IF(Állásidők_rögzítése!$AF15=0,\"\",Állásidők_rögzítése!$AF15)","v":""}]
[{"$f":"IFERROR(VLOOKUP(Állásidők_rögzítése!AE16,állásidő_kódok!$B:$D,3,0),\"\")","v":""},{"$f":"IF(Állásidők_rögzítése!$AF16=0,\"\",Állásidők_rögzítése!$AF16)","v":""}]
[{"$f":"IFERROR(VLOOKUP(Állásidők_rögzítése!AE17,állásidő_kódok!$B:$D,3,0),\"\")","v":""},{"$f":"IF(Állásidők_rögzítése!$AF17=0,\"\",Állásidők_rögzítése!$AF17)","v":""}]
[{"$f":"IFERROR(VLOOKUP(Állásidők_rögzítése!AE18,állásidő_kódok!$B:$D,3,0),\"\")","v":""},{"$f":"IF(Állásidők_rögzítése!$AF18=0,\"\",Állásidők_rögzítése!$AF18)","v":""}]
[{"$f":"IFERROR(VLOOKUP(Állásidők_rögzítése!AE19,állásidő_kódok!$B:$D,3,0),\"\")","v":""},{"$f":"IF(Állásidők_rögzítése!$AF19=0,\"\",Állásidők_rögzítése!$AF19)","v":""}]
[{"$f":"IFERROR(VLOOKUP(Állásidők_rögzítése!AE20,állásidő_kódok!$B:$D,3,0),\"\")","v":""},{"$f":"IF(Állásidők_rögzítése!$AF20=0,\"\",Állásidők_rögzítése!$AF20)","v":""}]
[{"$f":"IFERROR(VLOOKUP(Állásidők_rögzítése!AE21,állásidő_kódok!$B:$D,3,0),\"\")","v":""},{"$f":"IF(Állásidők_rögzítése!$AF21=0,\"\",Állásidők_rögzítése!$AF21)","v":""}]
[]
["Napszak:","Éjszaka"]
[null,"Délelőtt"]
[null,"Délután"]
[null,"Mind"]
[]
["Cella:",{"$f":"Alapadatok!C5","v":"Motor sor"}]
["Válaszd ki melyik sor állásidejét jelenítse meg a diagram!",{"$f":"Alapadatok!C6","v":"2p Sztátor sor"},null,null,null,null,null,null,null,null,null,null,null,null,null,null,null,null,null,"összesen",{"$f":"Állásidők_rögzítése!AF22","v":4300},null,"perc"]
[null,{"$f":"Alapadatok!C7","v":"4p sztátor sor"}]
[null,{"$f":"Alapadatok!C8","v":"DE cella"}]
[null,{"$f":"Alapadatok!C9","v":"NDE cella"},null,null,"Segéd gombok (nem kell használni őket)"]
[null,{"$f":"Alapadatok!C10","v":"T+R"}]

{"sheet":"Állásidők_rögzítése","index":3,"n_rows":1048576,"n_cols":33,"rows_kept":4500,"cut":true,"hidden":false,"merged":[[14,9,15,16]],"bounds":{"rows_first":2000,"rows_last":500,"rows_between":2000,"halvings":0}}
[null,"Éjszakás",null,"Délelőttös",null,"Délutános",null,null,null,null,null,null,null,null,null,null,null,null,null,null,null,null,null,null,null,null,null,"Össz.Kód","Össz.Perc",null,"Összegzett állásidők"]
["#","Kod","Perc","Kod","Perc","Kod","Perc",null,null,null,null,null,null,null,null,null,null,null,null,null,null,null,null,null,null,null,"Ez kell è",{"$f":"IFERROR(INDEX($J$20:$J$44,MATCH(0,COUNTIF($U$19:U19,$J$20:$J$44),0)),\"\")","v":100},{"$f":"SUMIF($J$20:$J$30,AB2,$K$20:$K$44)","v":30},null,{"$f":"IFERROR(INDEX($AB$2:$AB$61,MATCH(0,COUNTIF($AE$1:AE1,$AB$2:$AB$61),0)),\"\")","v":100},{"$f":"SUMIF(AB2:AC61,AE2,AC2:AC61)","v":380},"perc"]
[1,100,30,100,200,100,30,null,null,null,null,null,null,null,null,null,null,null,null,null,null,null,null,null,null,null,null,{"$f":"IFERROR(INDEX($J$20:$J$44,MATCH(0,COUNTIF($U$19:U20,$J$20:$J$44),0)),\"\")","v":311},{"$f":"SUMIF($J$20:$J$30,AB3,$K$20:$K$44)","v":60},null,{"$f":"IFERROR(INDEX($AB$2:$AB$61,MATCH(0,COUNTIF($AE$1:AE2,$AB$2:$AB$61),0)),\"\")","v":311},{"$f":"SUMIF(AB3:AC62,AE3,AC3:AC62)","v":60},"perc"]
[2,null,null,5,200,null,null,null,null,null,null,null,null,null,null,null,null,null,null,null,null,null,null,null,null,null,null,{"$f":"IFERROR(INDEX($J$20:$J$44,MATCH(0,COUNTIF($U$19:U21,$J$20:$J$44),0)),\"\")","v":1},630,null,{"$f":"IFERROR(INDEX($AB$2:$AB$61,MATCH(0,COUNTIF($AE$1:AE3,$AB$2:$AB$61),0)),\"\")","v":1},930,"perc"]
[3,null,null,300,200,null,null,null,null,null,null,null,null,null,null,null,null,null,null,null,null,null,null,null,null,null,null,{"$f":"IFERROR(INDEX($J$20:$J$44,MATCH(0,COUNTIF($U$19:U22,$J$20:$J$44),0)),\"\")","v":200},30,null,{"$f":"IFERROR(INDEX($AB$2:$AB$61,MATCH(0,COUNTIF($AE$1:AE4,$AB$2:$AB$61),0)),\"\")","v":200},330,"perc"]
[4,null,null,null,null,null,null,null,null,null,null,null,null,null,null,null,null,null,null,null,null,null,null,null,null,null,null,{"$f":"IFERROR(INDEX($J$20:$J$44,MATCH(0,COUNTIF($U$19:U23,$J$20:$J$44),0)),\"\")","v":205},400,null,{"$f":"IFERROR(INDEX($AB$2:$AB$61,MATCH(0,COUNTIF($AE$1:AE5,$AB$2:$AB$61),0)),\"\")","v":205},400,"perc"]
[5,null,null,null,null,null,null,null,null,null,null,null,null,null,null,null,null,null,null,null,null,null,null,null,null,null,null,{"$f":"IFERROR(INDEX($J$20:$J$44,MATCH(0,COUNTIF($U$19:U24,$J$20:$J$44),0)),\"\")","v":""},0,null,{"$f":"IFERROR(INDEX($AB$2:$AB$61,MATCH(0,COUNTIF($AE$1:AE6,$AB$2:$AB$61),0)),\"\")","v":""},0,"perc"]
[6,null,null,null,null,null,null,null,null,null,null,null,null,null,null,null,null,null,null,null,null,null,null,null,null,null,null,{"$f":"IFERROR(INDEX($J$20:$J$44,MATCH(0,COUNTIF($U$19:U25,$J$20:$J$44),0)),\"\")","v":""},0,null,{"$f":"IFERROR(INDEX($AB$2:$AB$61,MATCH(0,COUNTIF($AE$1:AE7,$AB$2:$AB$61),0)),\"\")","v":5},400,"perc"]
[7,null,null,null,null,null,null,null,null,null,null,null,null,null,null,null,null,null,null,null,null,null,null,null,null,null,null,{"$f":"IFERROR(INDEX($J$20:$J$44,MATCH(0,COUNTIF($U$19:U26,$J$20:$J$44),0)),\"\")","v":""},0,null,{"$f":"IFERROR(INDEX($AB$2:$AB$61,MATCH(0,COUNTIF($AE$1:AE8,$AB$2:$AB$61),0)),\"\")","v":300},200,"perc"]
[8,null,null,null,null,null,null,null,null,null,null,null,null,null,null,null,null,null,null,null,null,null,null,null,null,null,null,{"$f":"IFERROR(INDEX($J$20:$J$44,MATCH(0,COUNTIF($U$19:U27,$J$20:$J$44),0)),\"\")","v":""},0,null,{"$f":"IFERROR(INDEX($AB$2:$AB$61,MATCH(0,COUNTIF($AE$1:AE9,$AB$2:$AB$61),0)),\"\")","v":400},480,"perc"]
[9,null,null,null,null,null,null,null,null,null,null,null,null,null,null,null,null,null,null,null,null,null,null,null,null,null,null,{"$f":"IFERROR(INDEX($J$20:$J$44,MATCH(0,COUNTIF($U$19:U28,$J$20:$J$44),0)),\"\")","v":""},0,null,{"$f":"IFERROR(INDEX($AB$2:$AB$61,MATCH(0,COUNTIF($AE$1:AE10,$AB$2:$AB$61),0)),\"\")","v":201},700,"perc"]
[10,null,null,400,480,null,null,null,null,null,null,null,null,null,null,null,null,null,null,null,null,null,null,null,null,null,null,{"$f":"IFERROR(INDEX($J$20:$J$44,MATCH(0,COUNTIF($U$19:U29,$J$20:$J$44),0)),\"\")","v":""},0,null,{"$f":"IFERROR(INDEX($AB$2:$AB$61,MATCH(0,COUNTIF($AE$1:AE11,$AB$2:$AB$61),0)),\"\")","v":316},{"$f":"SUMIF(AB12:AC71,AE12,AC12:AC71)","v":240},"perc"]
[1,null,null,null,null,100,60,null,null,null,null,null,null,null,null,null,null,null,null,null,null,null,null,null,null,null,null,{"$f":"IFERROR(INDEX($J$20:$J$44,MATCH(0,COUNTIF($U$19:U30,$J$20:$J$44),0)),\"\")","v":""},0,null,{"$f":"IFERROR(INDEX($AB$2:$AB$61,MATCH(0,COUNTIF($AE$1:AE12,$AB$2:$AB$61),0)),\"\")","v":315},150,"perc"]
[2,null,null,null,null,315,150,null,null,"TÖMB FÜGGVÉNY!",null,"Ez marad segéd számítás az oszlopos képletekhez!",null,null,null,null,null,null,null,null,"TÖMB FÜGGVÉNY!",null,null,null,null,null,null,{"$f":"IFERROR(INDEX($J$20:$J$44,MATCH(0,COUNTIF($U$19:U31,$J$20:$J$44),0)),\"\")","v":""},0,null,{"$f":"IFERROR(INDEX($AB$2:$AB$61,MATCH(0,COUNTIF($AE$1:AE13,$AB$2:$AB$61),0)),\"\")","v":310},30,"perc"]
[3,null,null,null,null,null,null,null,null,"Kigyűjtött állasidők",null,null,null,null,null,null,null,null,null,null,null,null,null,null,null,null,null,{"$f":"IFERROR(INDEX($J$20:$J$44,MATCH(0,COUNTIF($U$19:U32,$J$20:$J$44),0)),\"\")","v":""},0,null,{"$f":"IFERROR(INDEX($AB$2:$AB$61,MATCH(0,COUNTIF($AE$1:AE14,$AB$2:$AB$61),0)),\"\")","v":""},0,"perc"]
[4,null,null,null,null,null,null,null,null,null,null,null,null,null,null,null,null,null,null,null,"elméletbe ezek nem kellenek. Az oszlopos megoldás kell a grafikonnak!",null,null,null,null,null,null,{"$f":"IFERROR(INDEX($J$20:$J$44,MATCH(0,COUNTIF($U$19:U33,$J$20:$J$44),0)),\"\")","v":""},0,null,{"$f":"IFERROR(INDEX($AB$2:$AB$61,MATCH(0,COUNTIF($AE$1:AE15,$AB$2:$AB$61),0)),\"\")","v":""},0,"perc"]
[5,null,null,null,null,null,null,null,null,null,null,null,null,null,null,null,null,null,null,null,null,null,null,null,null,null,null,{"$f":"IFERROR(INDEX($J$20:$J$44,MATCH(0,COUNTIF($U$19:U34,$J$20:$J$44),0)),\"\")","v":""},0,null,{"$f":"IFERROR(INDEX($AB$2:$AB$61,MATCH(0,COUNTIF($AE$1:AE16,$AB$2:$AB$61),0)),\"\")","v":""},0,"perc"]
[6,null,null,null,null,null,null,null,null,"Éjszakás",null,null,"Délelőttös",null,null,"Délutános",null,null,null,null,"Összegzett állásidők",null,null,null,null,null,null,{"$f":"IFERROR(INDEX($J$20:$J$44,MATCH(0,COUNTIF($U$19:U35,$J$20:$J$44),0)),\"\")","v":""},0,null,{"$f":"IFERROR(INDEX($AB$2:$AB$61,MATCH(0,COUNTIF($AE$1:AE17,$AB$2:$AB$61),0)),\"\")","v":""},0,"perc"]
[7,null,null,null,null,null,null,null,null,"Kód","Perc",null,"Kód","Perc",null,"Kód","Perc",null,null,null,"Rendezve B oszlopra",null,"Rendezve D oszlopra",null,"Rendezve F oszlopra",null,null,{"$f":"IFERROR(INDEX($J$20:$J$44,MATCH(0,COUNTIF($U$19:U36,$J$20:$J$44),0)),\"\")","v":""},0,null,{"$f":"IFERROR(INDEX($AB$2:$AB$61,MATCH(0,COUNTIF($AE$1:AE18,$AB$2:$AB$61),0)),\"\")","v":""},0,"perc"]
[8,null,null,null,null,null,null,null,null,{"$f":"INDIRECT(\"B\"&SMALL(IF(LEN($B$3:$B$1700)=0,\"\",ROW($3:$1700)),ROW(B1)))","v":100},{"$f":"INDIRECT(\"C\"&SMALL(IF(LEN($C$3:$C$1700)=0,\"\",ROW($3:$1700)),ROW(C1)))","v":30},null,{"$f":"INDIRECT(\"D\"&SMALL(IF(LEN($D$3:$D$1700)=0,\"\",ROW($3:$1700)),ROW(D1)))","v":100},{"$f":"INDIRECT(\"e\"&SMALL(IF(LEN($E$3:$E$1700)=0,\"\",ROW($3:$1700)),ROW(E1)))","v":200},null,{"$f":"INDIRECT(\"f\"&SMALL(IF(LEN($F$3:$F$1700)=0,\"\",ROW($3:$1700)),ROW(F1)))","v":100},{"$f":"INDIRECT(\"g\"&SMALL(IF(LEN($G$3:$G$1700)=0,\"\",ROW($3:$1700)),ROW(G1)))","v":30},null,null,null,{"$f":"IFERROR(INDEX($J$20:$J$44,MATCH(0,COUNTIF($U$19:U19,$J$20:$J$44),0)),\"\")","v":100},{"$f":"SUMIF($J$20:$J$30,U20,$K$20:$K$44)","v":30},{"$f":"IFERROR(INDEX($M$20:$M$44,MATCH(0,COUNTIF($W$19:W19,$M$20:$M$44),0)),\"\")","v":100},{"$f":"SUMIF($M$20:$M$37,W20,$N$20:$N$44)","v":200},{"$f":"IFERROR(INDEX($P$20:$P$44,MATCH(0,COUNTIF($Y$19:Y19,$P$20:$P$44),0)),\"\")","v":100},{"$f":"SUMIF($P$20:$P$37,Y20,$Q$20:$Q$44)","v":150},null,{"$f":"IFERROR(INDEX($J$20:$J$44,MATCH(0,COUNTIF($U$19:U37,$J$20:$J$44),0)),\"\")","v":""},0,null,{"$f":"IFERROR(INDEX($AB$2:$AB$61,MATCH(0,COUNTIF($AE$1:AE19,$AB$2:$AB$61),0)),\"\")","v":""},0,"perc"]
[9,null,null,null,null,null,null,null,null,{"$f":"INDIRECT(\"B\"&SMALL(IF(LEN($B$3:$B$1700)=0,\"\",ROW($3:$1700)),ROW(B2)))","v":311},{"$f":"INDIRECT(\"C\"&SMALL(IF(LEN($C$3:$C$1700)=0,\"\",ROW($3:$1700)),ROW(C2)))","v":60},{"$f":"SUMIF(J21:K30,J21,K21:K30)","v":60},{"$f":"INDIRECT(\"D\"&SMALL(IF(LEN($D$3:$D$1700)=0,\"\",ROW($3:$1700)),ROW(D2)))","v":5},{"$f":"INDIRECT(\"e\"&SMALL(IF(LEN($E$3:$E$1700)=0,\"\",ROW($3:$1700)),ROW(E2)))","v":200},null,{"$f":"INDIRECT(\"f\"&SMALL(IF(LEN($F$3:$F$1700)=0,\"\",ROW($3:$1700)),ROW(F2)))","v":100},{"$f":"INDIRECT(\"g\"&SMALL(IF(LEN($G$3:$G$1700)=0,\"\",ROW($3:$1700)),ROW(G2)))","v":60},null,null,null,{"$f":"IFERROR(INDEX($J$20:$J$44,MATCH(0,COUNTIF($U$19:U20,$J$20:$J$44),0)),\"\")","v":311},{"$f":"SUMIF($J$20:$J$30,U21,$K$20:$K$44)","v":60},{"$f":"IFERROR(INDEX($M$20:$M$44,MATCH(0,COUNTIF($W$19:W20,$M$20:$M$44),0)),\"\")","v":5},{"$f":"SUMIF($M$20:$M$37,W21,$N$20:$N$44)","v":200},{"$f":"IFERROR(INDEX($P$20:$P$44,MATCH(0,COUNTIF($Y$19:Y20,$P$20:$P$44),0)),\"\")","v":315},{"$f":"SUMIF($P$20:$P$37,Y21,$Q$20:$Q$44)","v":150},null,{"$f":"IFERROR(INDEX($J$20:$J$44,MATCH(0,COUNTIF($U$19:U38,$J$20:$J$44),0)),\"\")","v":""},0,null,{"$f":"IFERROR(INDEX($AB$2:$AB$61,MATCH(0,COUNTIF($AE$1:AE20,$AB$2:$AB$61),0)),\"\")","v":""},0,"perc"]
[10,null,null,null,null,null,null,null,null,{"$f":"INDIRECT(\"B\"&SMALL(IF(LEN($B$3:$B$1700)=0,\"\",ROW($3:$1700)),ROW(B3)))","v":1},{"$f":"INDIRECT(\"C\"&SMALL(IF(LEN($C$3:$C$1700)=0,\"\",ROW($3:$1700)),ROW(C3)))","v":150},null,{"$f":"INDIRECT(\"D\"&SMALL(IF(LEN($D$3:$D$1700)=0,\"\",ROW($3:$1700)),ROW(D3)))","v":300},{"$f":"INDIRECT(\"e\"&SMALL(IF(LEN($E$3:$E$1700)=0,\"\",ROW($3:$1700)),ROW(E3)))","v":200},null,{"$f":"INDIRECT(\"f\"&SMALL(IF(LEN($F$3:$F$1700)=0,\"\",ROW($3:$1700)),ROW(F3)))","v":315},{"$f":"INDIRECT(\"g\"&SMALL(IF(LEN($G$3:$G$1700)=0,\"\",ROW($3:$1700)),ROW(G3)))","v":150},null,null,null,{"$f":"IFERROR(INDEX($J$20:$J$44,MATCH(0,COUNTIF($U$19:U21,$J$20:$J$44),0)),\"\")","v":1},630,{"$f":"IFERROR(INDEX($M$20:$M$44,MATCH(0,COUNTIF($W$19:W21,$M$20:$M$44),0)),\"\")","v":300},200,{"$f":"IFERROR(INDEX($P$20:$P$44,MATCH(0,COUNTIF($Y$19:Y21,$P$20:$P$44),0)),\"\")","v":201},550,null,{"$f":"IFERROR(INDEX($M$20:$M$44,MATCH(0,COUNTIF($W$19:W19,$M$20:$M$44),0)),\"\")","v":100},{"$f":"SUMIF($M$20:$M$37,AB22,$N$20:$N$44)","v":200},null,null,{"$f":"SUM(AF2:AF21)","v":4300}]
[1,null,null,null,null,null,null,null,null,{"$f":"INDIRECT(\"B\"&SMALL(IF(LEN($B$3:$B$1700)=0,\"\",ROW($3:$1700)),ROW(B4)))","v":200},{"$f":"INDIRECT(\"C\"&SMALL(IF(LEN($C$3:$C$1700)=0,\"\",ROW($3:$1700)),ROW(C4)))","v":30},null,{"$f":"INDIRECT(\"D\"&SMALL(IF(LEN($D$3:$D$1700)=0,\"\",ROW($3:$1700)),ROW(D4)))","v":400},{"$f":"INDIRECT(\"e\"&SMALL(IF(LEN($E$3:$E$1700)=0,\"\",ROW($3:$1700)),ROW(E4)))","v":480},null,{"$f":"INDIRECT(\"f\"&SMALL(IF(LEN($F$3:$F$1700)=0,\"\",ROW($3:$1700)),ROW(F4)))","v":201},{"$f":"INDIRECT(\"g\"&SMALL(IF(LEN($G$3:$G$1700)=0,\"\",ROW($3:$1700)),ROW(G4)))","v":400},null,null,null,{"$f":"IFERROR(INDEX($J$20:$J$44,MATCH(0,COUNTIF($U$19:U22,$J$20:$J$44),0)),\"\")","v":200},30,{"$f":"IFERROR(INDEX($M$20:$M$44,MATCH(0,COUNTIF($W$19:W22,$M$20:$M$44),0)),\"\")","v":400},480,{"$f":"IFERROR(INDEX($P$20:$P$44,MATCH(0,COUNTIF($Y$19:Y22,$P$20:$P$44),0)),\"\")","v":316},150,null,{"$f":"IFERROR(INDEX($M$20:$M$44,MATCH(0,COUNTIF($W$19:W20,$M$20:$M$44),0)),\"\")","v":5},{"$f":"SUMIF($M$20:$M$37,AB23,$N$20:$N$44)","v":200}]
[2,null,null,null,null,null,null,null,null,{"$f":"INDIRECT(\"B\"&SMALL(IF(LEN($B$3:$B$1700)=0,\"\",ROW($3:$1700)),ROW(B5)))","v":205},{"$f":"INDIRECT(\"C\"&SMALL(IF(LEN($C$3:$C$1700)=0,\"\",ROW($3:$1700)),ROW(C5)))","v":400},null,{"$f":"INDIRECT(\"D\"&SMALL(IF(LEN($D$3:$D$1700)=0,\"\",ROW($3:$1700)),ROW(D5)))","v":201},{"$f":"INDIRECT(\"e\"&SMALL(IF(LEN($E$3:$E$1700)=0,\"\",ROW($3:$1700)),ROW(E5)))","v":150},null,{"$f":"INDIRECT(\"f\"&SMALL(IF(LEN($F$3:$F$1700)=0,\"\",ROW($3:$1700)),ROW(F5)))","v":316},{"$f":"INDIRECT(\"g\"&SMALL(IF(LEN($G$3:$G$1700)=0,\"\",ROW($3:$1700)),ROW(G5)))","v":150},null,null,null,{"$f":"IFERROR(INDEX($J$20:$J$44,MATCH(0,COUNTIF($U$19:U23,$J$20:$J$44),0)),\"\")","v":205},400,{"$f":"IFERROR(INDEX($M$20:$M$44,MATCH(0,COUNTIF($W$19:W23,$M$20:$M$44),0)),\"\")","v":201},150,{"$f":"IFERROR(INDEX($P$20:$P$44,MATCH(0,COUNTIF($Y$19:Y23,$P$20:$P$44),0)),\"\")","v":310},30,null,{"$f":"IFERROR(INDEX($M$20:$M$44,MATCH(0,COUNTIF($W$19:W21,$M$20:$M$44),0)),\"\")","v":300},200]
[3,null,null,null,null,null,null,null,null,{"$f":"INDIRECT(\"B\"&SMALL(IF(LEN($B$3:$B$1700)=0,\"\",ROW($3:$1700)),ROW(B6)))","v":1},{"$f":"INDIRECT(\"C\"&SMALL(IF(LEN($C$3:$C$1700)=0,\"\",ROW($3:$1700)),ROW(C6)))","v":480},null,{"$f":"INDIRECT(\"D\"&SMALL(IF(LEN($D$3:$D$1700)=0,\"\",ROW($3:$1700)),ROW(D6)))","v":316},{"$f":"INDIRECT(\"e\"&SMALL(IF(LEN($E$3:$E$1700)=0,\"\",ROW($3:$1700)),ROW(E6)))","v":90},null,{"$f":"INDIRECT(\"f\"&SMALL(IF(LEN($F$3:$F$1700)=0,\"\",ROW($3:$1700)),ROW(F6)))","v":310},{"$f":"INDIRECT(\"g\"&SMALL(IF(LEN($G$3:$G$1700)=0,\"\",ROW($3:$1700)),ROW(G6)))","v":30},null,null,null,{"$f":"IFERROR(INDEX($J$20:$J$44,MATCH(0,COUNTIF($U$19:U24,$J$20:$J$44),0)),\"\")","v":""},0,{"$f":"IFERROR(INDEX($M$20:$M$44,MATCH(0,COUNTIF($W$19:W24,$M$20:$M$44),0)),\"\")","v":316},90,{"$f":"IFERROR(INDEX($P$20:$P$44,MATCH(0,COUNTIF($Y$19:Y24,$P$20:$P$44),0)),\"\")","v":200},100,null,{"$f":"IFERROR(INDEX($M$20:$M$44,MATCH(0,COUNTIF($W$19:W22,$M$20:$M$44),0)),\"\")","v":400},480]
[4,null,null,null,null,null,null,null,null,{"$f":"INDIRECT(\"B\"&SMALL(IF(LEN($B$3:$B$1700)=0,\"\",ROW($3:$1700)),ROW(B7)))","v":{"$error":"#NUM!"}},{"$f":"INDIRECT(\"C\"&SMALL(IF(LEN($C$3:$C$1700)=0,\"\",ROW($3:$1700)),ROW(C7)))","v":{"$error":"#NUM!"}},null,{"$f":"INDIRECT(\"D\"&SMALL(IF(LEN($D$3:$D$1700)=0,\"\",ROW($3:$1700)),ROW(D7)))","v":200},{"$f":"INDIRECT(\"e\"&SMALL(IF(LEN($E$3:$E$1700)=0,\"\",ROW($3:$1700)),ROW(E7)))","v":200},null,{"$f":"INDIRECT(\"f\"&SMALL(IF(LEN($F$3:$F$1700)=0,\"\",ROW($3:$1700)),ROW(F7)))","v":200},{"$f":"INDIRECT(\"g\"&SMALL(IF(LEN($G$3:$G$1700)=0,\"\",ROW($3:$1700)),ROW(G7)))","v":100},null,null,null,{"$f":"IFERROR(INDEX($J$20:$J$44,MATCH(0,COUNTIF($U$19:U25,$J$20:$J$44),0)),\"\")","v":""},0,{"$f":"IFERROR(INDEX($M$20:$M$44,MATCH(0,COUNTIF($W$19:W25,$M$20:$M$44),0)),\"\")","v":200},200,{"$f":"IFERROR(INDEX($P$20:$P$44,MATCH(0,COUNTIF($Y$19:Y25,$P$20:$P$44),0)),\"\")","v":5},200,null,{"$f":"IFERROR(INDEX($M$20:$M$44,MATCH(0,COUNTIF($W$19:W23,$M$20:$M$44),0)),\"\")","v":201},150]
[5,null,null,null,null,null,null,null,null,{"$f":"INDIRECT(\"B\"&SMALL(IF(LEN($B$3:$B$1700)=0,\"\",ROW($3:$1700)),ROW(B8)))","v":{"$error":"#NUM!"}},{"$f":"INDIRECT(\"C\"&SMALL(IF(LEN($C$3:$C$1700)=0,\"\",ROW($3:$1700)),ROW(C8)))","v":{"$error":"#NUM!"}},null,{"$f":"INDIRECT(\"D\"&SMALL(IF(LEN($D$3:$D$1700)=0,\"\",ROW($3:$1700)),ROW(D8)))","v":1},{"$f":"INDIRECT(\"e\"&SMALL(IF(LEN($E$3:$E$1700)=0,\"\",ROW($3:$1700)),ROW(E8)))","v":100},null,{"$f":"INDIRECT(\"f\"&SMALL(IF(LEN($F$3:$F$1700)=0,\"\",ROW($3:$1700)),ROW(F8)))","v":5},{"$f":"INDIRECT(\"g\"&SMALL(IF(LEN($G$3:$G$1700)=0,\"\",ROW($3:$1700)),ROW(G8)))","v":200},null,null,null,{"$f":"IFERROR(INDEX($J$20:$J$44,MATCH(0,COUNTIF($U$19:U26,$J$20:$J$44),0)),\"\")","v":""},0,{"$f":"IFERROR(INDEX($M$20:$M$44,MATCH(0,COUNTIF($W$19:W26,$M$20:$M$44),0)),\"\")","v":1},100,{"$f":"IFERROR(INDEX($P$20:$P$44,MATCH(0,COUNTIF($Y$19:Y26,$P$20:$P$44),0)),\"\")","v":1},200,null,{"$f":"IFERROR(INDEX($M$20:$M$44,MATCH(0,COUNTIF($W$19:W24,$M$20:$M$44),0)),\"\")","v":316},90]
[6,null,null,null,null,null,null,null,null,{"$f":"INDIRECT(\"B\"&SMALL(IF(LEN($B$3:$B$1700)=0,\"\",ROW($3:$1700)),ROW(B9)))","v":{"$error":"#NUM!"}},{"$f":"INDIRECT(\"C\"&SMALL(IF(LEN($C$3:$C$1700)=0,\"\",ROW($3:$1700)),ROW(C9)))","v":{"$error":"#NUM!"}},null,{"$f":"INDIRECT(\"D\"&SMALL(IF(LEN($D$3:$D$1700)=0,\"\",ROW($3:$1700)),ROW(D9)))","v":{"$error":"#NUM!"}},{"$f":"INDIRECT(\"e\"&SMALL(IF(LEN($E$3:$E$1700)=0,\"\",ROW($3:$1700)),ROW(E9)))","v":{"$error":"#NUM!"}},null,{"$f":"INDIRECT(\"f\"&SMALL(IF(LEN($F$3:$F$1700)=0,\"\",ROW($3:$1700)),ROW(F9)))","v":100},{"$f":"INDIRECT(\"g\"&SMALL(IF(LEN($G$3:$G$1700)=0,\"\",ROW($3:$1700)),ROW(G9)))","v":60},null,null,null,{"$f":"IFERROR(INDEX($J$20:$J$44,MATCH(0,COUNTIF($U$19:U27,$J$20:$J$44),0)),\"\")","v":""},0,{"$f":"IFERROR(INDEX($M$20:$M$44,MATCH(0,COUNTIF($W$19:W27,$M$20:$M$44),0)),\"\")","v":""},0,{"$f":"IFERROR(INDEX($P$20:$P$44,MATCH(0,COUNTIF($Y$19:Y27,$P$20:$P$44),0)),\"\")","v":""},0,null,{"$f":"IFERROR(INDEX($M$20:$M$44,MATCH(0,COUNTIF($W$19:W25,$M$20:$M$44),0)),\"\")","v":200},200]
[7,null,null,null,null,null,null,null,null,{"$f":"INDIRECT(\"B\"&SMALL(IF(LEN($B$3:$B$1700)=0,\"\",ROW($3:$1700)),ROW(B10)))","v":{"$error":"#NUM!"}},{"$f":"INDIRECT(\"C\"&SMALL(IF(LEN($C$3:$C$1700)=0,\"\",ROW($3:$1700)),ROW(C10)))","v":{"$error":"#NUM!"}},null,{"$f":"INDIRECT(\"D\"&SMALL(IF(LEN($D$3:$D$1700)=0,\"\",ROW($3:$1700)),ROW(D10)))","v":{"$error":"#NUM!"}},{"$f":"INDIRECT(\"e\"&SMALL(IF(LEN($E$3:$E$1700)=0,\"\",ROW($3:$1700)),ROW(E10)))","v":{"$error":"#NUM!"}},null,{"$f":"INDIRECT(\"f\"&SMALL(IF(LEN($F$3:$F$1700)=0,\"\",ROW($3:$1700)),ROW(F10)))","v":1},{"$f":"INDIRECT(\"g\"&SMALL(IF(LEN($G$3:$G$1700)=0,\"\",ROW($3:$1700)),ROW(G10)))","v":200},null,null,null,{"$f":"IFERROR(INDEX($J$20:$J$44,MATCH(0,COUNTIF($U$19:U28,$J$20:$J$44),0)),\"\")","v":""},0,{"$f":"IFERROR(INDEX($M$20:$M$44,MATCH(0,COUNTIF($W$19:W28,$M$20:$M$44),0)),\"\")","v":""},0,{"$f":"IFERROR(INDEX($P$20:$P$44,MATCH(0,COUNTIF($Y$19:Y28,$P$20:$P$44),0)),\"\")","v":""},0,null,{"$f":"IFERROR(INDEX($M$20:$M$44,MATCH(0,COUNTIF($W$19:W26,$M$20:$M$44),0)),\"\")","v":1},100]
[8,null,null,null,null,null,null,null,null,{"$f":"INDIRECT(\"B\"&SMALL(IF(LEN($B$3:$B$1700)=0,\"\",ROW($3:$1700)),ROW(B11)))","v":{"$error":"#NUM!"}},{"$f":"INDIRECT(\"C\"&SMALL(IF(LEN($C$3:$C$1700)=0,\"\",ROW($3:$1700)),ROW(C11)))","v":{"$error":"#NUM!"}},null,{"$f":"INDIRECT(\"D\"&SMALL(IF(LEN($D$3:$D$1700)=0,\"\",ROW($3:$1700)),ROW(D11)))","v":{"$error":"#NUM!"}},{"$f":"INDIRECT(\"e\"&SMALL(IF(LEN($E$3:$E$1700)=0,\"\",ROW($3:$1700)),ROW(E11)))","v":{"$error":"#NUM!"}},null,{"$f":"INDIRECT(\"f\"&SMALL(IF(LEN($F$3:$F$1700)=0,\"\",ROW($3:$1700)),ROW(F11)))","v":201},{"$f":"INDIRECT(\"g\"&SMALL(IF(LEN($G$3:$G$1700)=0,\"\",ROW($3:$1700)),ROW(G11)))","v":150},null,null,null,{"$f":"IFERROR(INDEX($J$20:$J$44,MATCH(0,COUNTIF($U$19:U29,$J$20:$J$44),0)),\"\")","v":""},0,{"$f":"IFERROR(INDEX($M$20:$M$44,MATCH(0,COUNTIF($W$19:W29,$M$20:$M$44),0)),\"\")","v":""},0,{"$f":"IFERROR(INDEX($P$20:$P$44,MATCH(0,COUNTIF($Y$19:Y29,$P$20:$P$44),0)),\"\")","v":""},0,null,{"$f":"IFERROR(INDEX($M$20:$M$44,MATCH(0,COUNTIF($W$19:W27,$M$20:$M$44),0)),\"\")","v":""},0]
[9,null,null,null,null,null,null,null,null,{"$f":"INDIRECT(\"B\"&SMALL(IF(LEN($B$3:$B$1700)=0,\"\",ROW($3:$1700)),ROW(B12)))","v":{"$error":"#NUM!"}},{"$f":"INDIRECT(\"C\"&SMALL(IF(LEN($C$3:$C$1700)=0,\"\",ROW($3:$1700)),ROW(C12)))","v":{"$error":"#NUM!"}},null,{"$f":"INDIRECT(\"D\"&SMALL(IF(LEN($D$3:$D$1700)=0,\"\",ROW($3:$1700)),ROW(D12)))","v":{"$error":"#NUM!"}},{"$f":"INDIRECT(\"e\"&SMALL(IF(LEN($E$3:$E$1700)=0,\"\",ROW($3:$1700)),ROW(E12)))","v":{"$error":"#NUM!"}},null,{"$f":"INDIRECT(\"f\"&SMALL(IF(LEN($F$3:$F$1700)=0,\"\",ROW($3:$1700)),ROW(F12)))","v":{"$error":"#NUM!"}},{"$f":"INDIRECT(\"g\"&SMALL(IF(LEN($G$3:$G$1700)=0,\"\",ROW($3:$1700)),ROW(G12)))","v":{"$error":"#NUM!"}},null,null,null,{"$f":"IFERROR(INDEX($J$20:$J$44,MATCH(0,COUNTIF($U$19:U30,$J$20:$J$44),0)),\"\")","v":""},0,{"$f":"IFERROR(INDEX($M$20:$M$44,MATCH(0,COUNTIF($W$19:W30,$M$20:$M$44),0)),\"\")","v":""},0,{"$f":"IFERROR(INDEX($P$20:$P$44,MATCH(0,COUNTIF($Y$19:Y30,$P$20:$P$44),0)),\"\")","v":""},0,null,{"$f":"IFERROR(INDEX($M$20:$M$44,MATCH(0,COUNTIF($W$19:W28,$M$20:$M$44),0)),\"\")","v":""},0]
[10,null,null,null,null,null,null,null,null,{"$f":"INDIRECT(\"B\"&SMALL(IF(LEN($B$3:$B$1700)=0,\"\",ROW($3:$1700)),ROW(B13)))","v":{"$error":"#NUM!"}},{"$f":"INDIRECT(\"C\"&SMALL(IF(LEN($C$3:$C$1700)=0,\"\",ROW($3:$1700)),ROW(C13)))","v":{"$error":"#NUM!"}},null,{"$f":"INDIRECT(\"D\"&SMALL(IF(LEN($D$3:$D$1700)=0,\"\",ROW($3:$1700)),ROW(D13)))","v":{"$error":"#NUM!"}},{"$f":"INDIRECT(\"e\"&SMALL(IF(LEN($E$3:$E$1700)=0,\"\",ROW($3:$1700)),ROW(E13)))","v":{"$error":"#NUM!"}},null,{"$f":"INDIRECT(\"f\"&SMALL(IF(LEN($F$3:$F$1700)=0,\"\",ROW($3:$1700)),ROW(F13)))","v":{"$error":"#NUM!"}},{"$f":"INDIRECT(\"g\"&SMALL(IF(LEN($G$3:$G$1700)=0,\"\",ROW($3:$1700)),ROW(G13)))","v":{"$error":"#NUM!"}},null,null,null,{"$f":"IFERROR(INDEX($J$20:$J$44,MATCH(0,COUNTIF($U$19:U31,$J$20:$J$44),0)),\"\")","v":""},0,{"$f":"IFERROR(INDEX($M$20:$M$44,MATCH(0,COUNTIF($W$19:W31,$M$20:$M$44),0)),\"\")","v":""},0,{"$f":"IFERROR(INDEX($P$20:$P$44,MATCH(0,COUNTIF($Y$19:Y31,$P$20:$P$44),0)),\"\")","v":""},0,null,{"$f":"IFERROR(INDEX($M$20:$M$44,MATCH(0,COUNTIF($W$19:W29,$M$20:$M$44),0)),\"\")","v":""},0]
[1,311,60,201,150,201,400,null,null,{"$f":"INDIRECT(\"B\"&SMALL(IF(LEN($B$3:$B$1700)=0,\"\",ROW($3:$1700)),ROW(B14)))","v":{"$error":"#NUM!"}},{"$f":"INDIRECT(\"C\"&SMALL(IF(LEN($C$3:$C$1700)=0,\"\",ROW($3:$1700)),ROW(C14)))","v":{"$error":"#NUM!"}},null,{"$f":"INDIRECT(\"D\"&SMALL(IF(LEN($D$3:$D$1700)=0,\"\",ROW($3:$1700)),ROW(D14)))","v":{"$error":"#NUM!"}},{"$f":"INDIRECT(\"e\"&SMALL(IF(LEN($E$3:$E$1700)=0,\"\",ROW($3:$1700)),ROW(E14)))","v":{"$error":"#NUM!"}},null,{"$f":"INDIRECT(\"f\"&SMALL(IF(LEN($F$3:$F$1700)=0,\"\",ROW($3:$1700)),ROW(F14)))","v":{"$error":"#NUM!"}},{"$f":"INDIRECT(\"g\"&SMALL(IF(LEN($G$3:$G$1700)=0,\"\",ROW($3:$1700)),ROW(G14)))","v":{"$error":"#NUM!"}},null,null,null,{"$f":"IFERROR(INDEX($J$20:$J$44,MATCH(0,COUNTIF($U$19:U32,$J$20:$J$44),0)),\"\")","v":""},0,{"$f":"IFERROR(INDEX($M$20:$M$44,MATCH(0,COUNTIF($W$19:W32,$M$20:$M$44),0)),\"\")","v":""},0,{"$f":"IFERROR(INDEX($P$20:$P$44,MATCH(0,COUNTIF($Y$19:Y32,$P$20:$P$44),0)),\"\")","v":""},0,null,{"$f":"IFERROR(INDEX($M$20:$M$44,MATCH(0,COUNTIF($W$19:W30,$M$20:$M$44),0)),\"\")","v":""},0]
[2,null,null,null,null,null,null,null,null,{"$f":"INDIRECT(\"B\"&SMALL(IF(LEN($B$3:$B$1700)=0,\"\",ROW($3:$1700)),ROW(B15)))","v":{"$error":"#NUM!"}},{"$f":"INDIRECT(\"C\"&SMALL(IF(LEN($C$3:$C$1700)=0,\"\",ROW($3:$1700)),ROW(C15)))","v":{"$error":"#NUM!"}},null,{"$f":"INDIRECT(\"D\"&SMALL(IF(LEN($D$3:$D$1700)=0,\"\",ROW($3:$1700)),ROW(D15)))","v":{"$error":"#NUM!"}},{"$f":"INDIRECT(\"e\"&SMALL(IF(LEN($E$3:$E$1700)=0,\"\",ROW($3:$1700)),ROW(E15)))","v":{"$error":"#NUM!"}},null,{"$f":"INDIRECT(\"f\"&SMALL(IF(LEN($F$3:$F$1700)=0,\"\",ROW($3:$1700)),ROW(F15)))","v":{"$error":"#NUM!"}},{"$f":"INDIRECT(\"g\"&SMALL(IF(LEN($G$3:$G$1700)=0,\"\",ROW($3:$1700)),ROW(G15)))","v":{"$error":"#NUM!"}},null,null,null,{"$f":"IFERROR(INDEX($J$20:$J$44,MATCH(0,COUNTIF($U$19:U33,$J$20:$J$44),0)),\"\")","v":""},0,{"$f":"IFERROR(INDEX($M$20:$M$44,MATCH(0,COUNTIF($W$19:W33,$M$20:$M$44),0)),\"\")","v":""},0,{"$f":"IFERROR(INDEX($P$20:$P$44,MATCH(0,COUNTIF($Y$19:Y33,$P$20:$P$44),0)),\"\")","v":""},0,null,{"$f":"IFERROR(INDEX($M$20:$M$44,MATCH(0,COUNTIF($W$19:W31,$M$20:$M$44),0)),\"\")","v":""},0]
[3,null,null,null,null,null,null,null,null,{"$f":"INDIRECT(\"B\"&SMALL(IF(LEN($B$3:$B$1700)=0,\"\",ROW($3:$1700)),ROW(B16)))","v":{"$error":"#NUM!"}},{"$f":"INDIRECT(\"C\"&SMALL(IF(LEN($C$3:$C$1700)=0,\"\",ROW($3:$1700)),ROW(C16)))","v":{"$error":"#NUM!"}},null,{"$f":"INDIRECT(\"D\"&SMALL(IF(LEN($D$3:$D$1700)=0,\"\",ROW($3:$1700)),ROW(D16)))","v":{"$error":"#NUM!"}},{"$f":"INDIRECT(\"e\"&SMALL(IF(LEN($E$3:$E$1700)=0,\"\",ROW($3:$1700)),ROW(E16)))","v":{"$error":"#NUM!"}},null,{"$f":"INDIRECT(\"f\"&SMALL(IF(LEN($F$3:$F$1700)=0,\"\",ROW($3:$1700)),ROW(F16)))","v":{"$error":"#NUM!"}},{"$f":"INDIRECT(\"g\"&SMALL(IF(LEN($G$3:$G$1700)=0,\"\",ROW($3:$1700)),ROW(G16)))","v":{"$error":"#NUM!"}},null,null,null,{"$f":"IFERROR(INDEX($J$20:$J$44,MATCH(0,COUNTIF($U$19:U34,$J$20:$J$44),0)),\"\")","v":""},0,{"$f":"IFERROR(INDEX($M$20:$M$44,MATCH(0,COUNTIF($W$19:W34,$M$20:$M$44),0)),\"\")","v":""},0,{"$f":"IFERROR(INDEX($P$20:$P$44,MATCH(0,COUNTIF($Y$19:Y34,$P$20:$P$44),0)),\"\")","v":""},0,null,{"$f":"IFERROR(INDEX($M$20:$M$44,MATCH(0,COUNTIF($W$19:W32,$M$20:$M$44),0)),\"\")","v":""},0]
[4,null,null,null,null,null,null,null,null,{"$f":"INDIRECT(\"B\"&SMALL(IF(LEN($B$3:$B$1700)=0,\"\",ROW($3:$1700)),ROW(B17)))","v":{"$error":"#NUM!"}},{"$f":"INDIRECT(\"C\"&SMALL(IF(LEN($C$3:$C$1700)=0,\"\",ROW($3:$1700)),ROW(C17)))","v":{"$error":"#NUM!"}},null,{"$f":"INDIRECT(\"D\"&SMALL(IF(LEN($D$3:$D$1700)=0,\"\",ROW($3:$1700)),ROW(D17)))","v":{"$error":"#NUM!"}},{"$f":"INDIRECT(\"e\"&SMALL(IF(LEN($E$3:$E$1700)=0,\"\",ROW($3:$1700)),ROW(E17)))","v":{"$error":"#NUM!"}},null,{"$f":"INDIRECT(\"f\"&SMALL(IF(LEN($F$3:$F$1700)=0,\"\",ROW($3:$1700)),ROW(F17)))","v":{"$error":"#NUM!"}},{"$f":"INDIRECT(\"g\"&SMALL(IF(LEN($G$3:$G$1700)=0,\"\",ROW($3:$1700)),ROW(G17)))","v":{"$error":"#NUM!"}},null,null,null,{"$f":"IFERROR(INDEX($J$20:$J$44,MATCH(0,COUNTIF($U$19:U35,$J$20:$J$44),0)),\"\")","v":""},0,{"$f":"IFERROR(INDEX($M$20:$M$44,MATCH(0,COUNTIF($W$19:W35,$M$20:$M$44),0)),\"\")","v":""},0,{"$f":"IFERROR(INDEX($P$20:$P$44,MATCH(0,COUNTIF($Y$19:Y35,$P$20:$P$44),0)),\"\")","v":""},0,null,{"$f":"IFERROR(INDEX($M$20:$M$44,MATCH(0,COUNTIF($W$19:W33,$M$20:$M$44),0)),\"\")","v":""},0]
[5,null,null,null,null,null,null,null,null,{"$f":"INDIRECT(\"B\"&SMALL(IF(LEN($B$3:$B$1700)=0,\"\",ROW($3:$1700)),ROW(B18)))","v":{"$error":"#NUM!"}},{"$f":"INDIRECT(\"C\"&SMALL(IF(LEN($C$3:$C$1700)=0,\"\",ROW($3:$1700)),ROW(C18)))","v":{"$error":"#NUM!"}},null,{"$f":"INDIRECT(\"D\"&SMALL(IF(LEN($D$3:$D$1700)=0,\"\",ROW($3:$1700)),ROW(D18)))","v":{"$error":"#NUM!"}},{"$f":"INDIRECT(\"e\"&SMALL(IF(LEN($E$3:$E$1700)=0,\"\",ROW($3:$1700)),ROW(E18)))","v":{"$error":"#NUM!"}},null,{"$f":"INDIRECT(\"f\"&SMALL(IF(LEN($F$3:$F$1700)=0,\"\",ROW($3:$1700)),ROW(F18)))","v":{"$error":"#NUM!"}},{"$f":"INDIRECT(\"g\"&SMALL(IF(LEN($G$3:$G$1700)=0,\"\",ROW($3:$1700)),ROW(G18)))","v":{"$error":"#NUM!"}},null,null,null,{"$f":"IFERROR(INDEX($J$20:$J$44,MATCH(0,COUNTIF($U$19:U36,$J$20:$J$44),0)),\"\")","v":""},0,{"$f":"IFERROR(INDEX($M$20:$M$44,MATCH(0,COUNTIF($W$19:W36,$M$20:$M$44),0)),\"\")","v":""},0,{"$f":"IFERROR(INDEX($P$20:$P$44,MATCH(0,COUNTIF($Y$19:Y36,$P$20:$P$44),0)),\"\")","v":""},0,null,{"$f":"IFERROR(INDEX($M$20:$M$44,MATCH(0,COUNTIF($W$19:W34,$M$20:$M$44),0)),\"\")","v":""},0]
[6,null,null,null,null,null,null,null,null,{"$f":"INDIRECT(\"B\"&SMALL(IF(LEN($B$3:$B$1700)=0,\"\",ROW($3:$1700)),ROW(B19)))","v":{"$error":"#NUM!"}},{"$f":"INDIRECT(\"C\"&SMALL(IF(LEN($C$3:$C$1700)=0,\"\",ROW($3:$1700)),ROW(C19)))","v":{"$error":"#NUM!"}},null,{"$f":"INDIRECT(\"D\"&SMALL(IF(LEN($D$3:$D$1700)=0,\"\",ROW($3:$1700)),ROW(D19)))","v":{"$error":"#NUM!"}},{"$f":"INDIRECT(\"e\"&SMALL(IF(LEN($E$3:$E$1700)=0,\"\",ROW($3:$1700)),ROW(E19)))","v":{"$error":"#NUM!"}},null,{"$f":"INDIRECT(\"f\"&SMALL(IF(LEN($F$3:$F$1700)=0,\"\",ROW($3:$1700)),ROW(F19)))","v":{"$error":"#NUM!"}},{"$f":"INDIRECT(\"g\"&SMALL(IF(LEN($G$3:$G$1700)=0,\"\",ROW($3:$1700)),ROW(G19)))","v":{"$error":"#NUM!"}},null,null,null,{"$f":"IFERROR(INDEX($J$20:$J$44,MATCH(0,COUNTIF($U$19:U37,$J$20:$J$44),0)),\"\")","v":""},0,{"$f":"IFERROR(INDEX($M$20:$M$44,MATCH(0,COUNTIF($W$19:W37,$M$20:$M$44),0)),\"\")","v":""},0,{"$f":"IFERROR(INDEX($P$20:$P$44,MATCH(0,COUNTIF($Y$19:Y37,$P$20:$P$44),0)),\"\")","v":""},0,null,{"$f":"IFERROR(INDEX($M$20:$M$44,MATCH(0,COUNTIF($W$19:W35,$M$20:$M$44),0)),\"\")","v":""},0]
[7,null,null,null,null,null,null,null,null,{"$f":"INDIRECT(\"B\"&SMALL(IF(LEN($B$3:$B$1700)=0,\"\",ROW($3:$1700)),ROW(B20)))","v":{"$error":"#NUM!"}},{"$f":"INDIRECT(\"C\"&SMALL(IF(LEN($C$3:$C$1700)=0,\"\",ROW($3:$1700)),ROW(C20)))","v":{"$error":"#NUM!"}},null,{"$f":"INDIRECT(\"D\"&SMALL(IF(LEN($D$3:$D$1700)=0,\"\",ROW($3:$1700)),ROW(D20)))","v":{"$error":"#NUM!"}},{"$f":"INDIRECT(\"e\"&SMALL(IF(LEN($E$3:$E$1700)=0,\"\",ROW($3:$1700)),ROW(E20)))","v":{"$error":"#NUM!"}},null,{"$f":"INDIRECT(\"f\"&SMALL(IF(LEN($F$3:$F$1700)=0,\"\",ROW($3:$1700)),ROW(F20)))","v":{"$error":"#NUM!"}},{"$f":"INDIRECT(\"g\"&SMALL(IF(LEN($G$3:$G$1700)=0,\"\",ROW($3:$1700)),ROW(G20)))","v":{"$error":"#NUM!"}},null,null,null,{"$f":"IFERROR(INDEX($J$20:$J$44,MATCH(0,COUNTIF($U$19:U38,$J$20:$J$44),0)),\"\")","v":""},0,{"$f":"IFERROR(INDEX($M$20:$M$44,MATCH(0,COUNTIF($W$19:W38,$M$20:$M$44),0)),\"\")","v":""},0,{"$f":"IFERROR(INDEX($P$20:$P$44,MATCH(0,COUNTIF($Y$19:Y38,$P$20:$P$44),0)),\"\")","v":""},0,null,{"$f":"IFERROR(INDEX($M$20:$M$44,MATCH(0,COUNTIF($W$19:W36,$M$20:$M$44),0)),\"\")","v":""},0]
[8,null,null,null,null,null,null,null,null,{"$f":"INDIRECT(\"B\"&SMALL(IF(LEN($B$3:$B$1700)=0,\"\",ROW($3:$1700)),ROW(B21)))","v":{"$error":"#NUM!"}},{"$f":"INDIRECT(\"C\"&SMALL(IF(LEN($C$3:$C$1700)=0,\"\",ROW($3:$1700)),ROW(C21)))","v":{"$error":"#NUM!"}},null,{"$f":"INDIRECT(\"D\"&SMALL(IF(LEN($D$3:$D$1700)=0,\"\",ROW($3:$1700)),ROW(D21)))","v":{"$error":"#NUM!"}},{"$f":"INDIRECT(\"e\"&SMALL(IF(LEN($E$3:$E$1700)=0,\"\",ROW($3:$1700)),ROW(E21)))","v":{"$error":"#NUM!"}},null,{"$f":"INDIRECT(\"f\"&SMALL(IF(LEN($F$3:$F$1700)=0,\"\",ROW($3:$1700)),ROW(F21)))","v":{"$error":"#NUM!"}},{"$f":"INDIRECT(\"g\"&SMALL(IF(LEN($G$3:$G$1700)=0,\"\",ROW($3:$1700)),ROW(G21)))","v":{"$error":"#NUM!"}},null,null,null,null,null,null,null,null,null,null,{"$f":"IFERROR(INDEX($M$20:$M$44,MATCH(0,COUNTIF($W$19:W37,$M$20:$M$44),0)),\"\")","v":""},0]
[9,null,null,null,null,null,null,null,null,{"$f":"INDIRECT(\"B\"&SMALL(IF(LEN($B$3:$B$1700)=0,\"\",ROW($3:$1700)),ROW(B22)))","v":{"$error":"#NUM!"}},{"$f":"INDIRECT(\"C\"&SMALL(IF(LEN($C$3:$C$1700)=0,\"\",ROW($3:$1700)),ROW(C22)))","v":{"$error":"#NUM!"}},null,{"$f":"INDIRECT(\"D\"&SMALL(IF(LEN($D$3:$D$1700)=0,\"\",ROW($3:$1700)),ROW(D22)))","v":{"$error":"#NUM!"}},{"$f":"INDIRECT(\"e\"&SMALL(IF(LEN($E$3:$E$1700)=0,\"\",ROW($3:$1700)),ROW(E22)))","v":{"$error":"#NUM!"}},null,{"$f":"INDIRECT(\"f\"&SMALL(IF(LEN($F$3:$F$1700)=0,\"\",ROW($3:$1700)),ROW(F22)))","v":{"$error":"#NUM!"}},{"$f":"INDIRECT(\"g\"&SMALL(IF(LEN($G$3:$G$1700)=0,\"\",ROW($3:$1700)),ROW(G22)))","v":{"$error":"#NUM!"}},null,null,null,null,null,null,null,null,null,null,{"$f":"IFERROR(INDEX($M$20:$M$44,MATCH(0,COUNTIF($W$19:W38,$M$20:$M$44),0)),\"\")","v":""},0]
[10,null,null,null,null,null,null,null,null,{"$f":"INDIRECT(\"B\"&SMALL(IF(LEN($B$3:$B$1700)=0,\"\",ROW($3:$1700)),ROW(B23)))","v":{"$error":"#NUM!"}},{"$f":"INDIRECT(\"C\"&SMALL(IF(LEN($C$3:$C$1700)=0,\"\",ROW($3:$1700)),ROW(C23)))","v":{"$error":"#NUM!"}},null,{"$f":"INDIRECT(\"D\"&SMALL(IF(LEN($D$3:$D$1700)=0,\"\",ROW($3:$1700)),ROW(D23)))","v":{"$error":"#NUM!"}},{"$f":"INDIRECT(\"e\"&SMALL(IF(LEN($E$3:$E$1700)=0,\"\",ROW($3:$1700)),ROW(E23)))","v":{"$error":"#NUM!"}},null,{"$f":"INDIRECT(\"f\"&SMALL(IF(LEN($F$3:$F$1700)=0,\"\",ROW($3:$1700)),ROW(F23)))","v":{"$error":"#NUM!"}},{"$f":"INDIRECT(\"g\"&SMALL(IF(LEN($G$3:$G$1700)=0,\"\",ROW($3:$1700)),ROW(G23)))","v":{"$error":"#NUM!"}},null,null,null,null,null,null,null,null,null,null,{"$f":"IFERROR(INDEX($P$20:$P$44,MATCH(0,COUNTIF($Y$19:Y19,$P$20:$P$44),0)),\"\")","v":100},{"$f":"SUMIF($P$20:$P$37,AB42,$Q$20:$Q$44)","v":150}]
[1,null,null,null,null,null,null,null,null,{"$f":"INDIRECT(\"B\"&SMALL(IF(LEN($B$3:$B$1700)=0,\"\",ROW($3:$1700)),ROW(B24)))","v":{"$error":"#NUM!"}},{"$f":"INDIRECT(\"C\"&SMALL(IF(LEN($C$3:$C$1700)=0,\"\",ROW($3:$1700)),ROW(C24)))","v":{"$error":"#NUM!"}},null,{"$f":"INDIRECT(\"D\"&SMALL(IF(LEN($D$3:$D$1700)=0,\"\",ROW($3:$1700)),ROW(D24)))","v":{"$error":"#NUM!"}},{"$f":"INDIRECT(\"e\"&SMALL(IF(LEN($E$3:$E$1700)=0,\"\",ROW($3:$1700)),ROW(E24)))","v":{"$error":"#NUM!"}},null,{"$f":"INDIRECT(\"f\"&SMALL(IF(LEN($F$3:$F$1700)=0,\"\",ROW($3:$1700)),ROW(F24)))","v":{"$error":"#NUM!"}},{"$f":"INDIRECT(\"g\"&SMALL(IF(LEN($G$3:$G$1700)=0,\"\",ROW($3:$1700)),ROW(G24)))","v":{"$error":"#NUM!"}},null,null,null,null,null,null,null,null,null,null,{"$f":"IFERROR(INDEX($P$20:$P$44,MATCH(0,COUNTIF($Y$19:Y20,$P$20:$P$44),0)),\"\")","v":315},{"$f":"SUMIF($P$20:$P$37,AB43,$Q$20:$Q$44)","v":150}]
[2,null,null,null,null,null,null,null,null,{"$f":"INDIRECT(\"B\"&SMALL(IF(LEN($B$3:$B$1700)=0,\"\",ROW($3:$1700)),ROW(B25)))","v":{"$error":"#NUM!"}},{"$f":"INDIRECT(\"C\"&SMALL(IF(LEN($C$3:$C$1700)=0,\"\",ROW($3:$1700)),ROW(C25)))","v":{"$error":"#NUM!"}},null,{"$f":"INDIRECT(\"D\"&SMALL(IF(LEN($D$3:$D$1700)=0,\"\",ROW($3:$1700)),ROW(D25)))","v":{"$error":"#NUM!"}},{"$f":"INDIRECT(\"e\"&SMALL(IF(LEN($E$3:$E$1700)=0,\"\",ROW($3:$1700)),ROW(E25)))","v":{"$error":"#NUM!"}},null,{"$f":"INDIRECT(\"f\"&SMALL(IF(LEN($F$3:$F$1700)=0,\"\",ROW($3:$1700)),ROW(F25)))","v":{"$error":"#NUM!"}},{"$f":"INDIRECT(\"g\"&SMALL(IF(LEN($G$3:$G$1700)=0,\"\",ROW($3:$1700)),ROW(G25)))","v":{"$error":"#NUM!"}},null,null,null,null,null,null,null,null,null,null,{"$f":"IFERROR(INDEX($P$20:$P$44,MATCH(0,COUNTIF($Y$19:Y21,$P$20:$P$44),0)),\"\")","v":201},550]
[3,null,null,null,null,null,null,null,null,null,null,null,null,null,null,null,null,null,null,null,null,null,null,null,null,null,null,{"$f":"IFERROR(INDEX($P$20:$P$44,MATCH(0,COUNTIF($Y$19:Y22,$P$20:$P$44),0)),\"\")","v":316},150]
[4,null,null,null,null,null,null,null,null,null,null,null,null,null,null,null,null,null,null,null,null,null,null,null,null,null,null,{"$f":"IFERROR(INDEX($P$20:$P$44,MATCH(0,COUNTIF($Y$19:Y23,$P$20:$P$44),0)),\"\")","v":310},30]
[5,null,null,null,null,null,null,null,null,null,null,null,null,null,null,null,null,null,null,null,null,null,null,null,null,null,null,{"$f":"IFERROR(INDEX($P$20:$P$44,MATCH(0,COUNTIF($Y$19:Y24,$P$20:$P$44),0)),\"\")","v":200},100]
[6,null,null,null,null,null,null,null,null,null,null,null,null,null,null,null,null,null,null,null,null,null,null,null,null,null,null,{"$f":"IFERROR(INDEX($P$20:$P$44,MATCH(0,COUNTIF($Y$19:Y25,$P$20:$P$44),0)),\"\")","v":5},200]
[7,null,null,null,null,null,null,null,null,null,null,null,null,null,null,null,null,null,null,null,null,null,null,null,null,null,null,{"$f":"IFERROR(INDEX($P$20:$P$44,MATCH(0,COUNTIF($Y$19:Y26,$P$20:$P$44),0)),\"\")","v":1},200]
[8,null,null,null,null,null,null,null,null,null,null,null,null,null,null,null,null,null,null,null,null,null,null,null,null,null,null,{"$f":"IFERROR(INDEX($P$20:$P$44,MATCH(0,COUNTIF($Y$19:Y27,$P$20:$P$44),0)),\"\")","v":""},0]
[9,null,null,null,null,null,null,null,null,null,null,null,null,null,null,null,null,null,null,null,null,null,null,null,null,null,null,{"$f":"IFERROR(INDEX($P$20:$P$44,MATCH(0,COUNTIF($Y$19:Y28,$P$20:$P$44),0)),\"\")","v":""},0]
[10,null,null,null,null,null,null,null,null,null,null,null,null,null,null,null,null,null,null,null,null,null,null,null,null,null,null,{"$f":"IFERROR(INDEX($P$20:$P$44,MATCH(0,COUNTIF($Y$19:Y29,$P$20:$P$44),0)),\"\")","v":""},0]
[1,1,150,316,90,316,150,null,null,null,null,null,null,null,null,null,null,null,null,null,null,null,null,null,null,null,null,{"$f":"IFERROR(INDEX($P$20:$P$44,MATCH(0,COUNTIF($Y$19:Y30,$P$20:$P$44),0)),\"\")","v":""},0]
[2,null,null,null,null,310,30,null,null,null,null,null,null,null,null,null,null,null,null,null,null,null,null,null,null,null,null,{"$f":"IFERROR(INDEX($P$20:$P$44,MATCH(0,COUNTIF($Y$19:Y31,$P$20:$P$44),0)),\"\")","v":""},0]
[3,null,null,null,null,null,null,null,null,null,null,null,null,null,null,null,null,null,null,null,null,null,null,null,null,null,null,{"$f":"IFERROR(INDEX($P$20:$P$44,MATCH(0,COUNTIF($Y$19:Y32,$P$20:$P$44),0)),\"\")","v":""},0]
[4,null,null,null,null,null,null,null,null,null,null,null,null,null,null,null,null,null,null,null,null,null,null,null,null,null,null,{"$f":"IFERROR(INDEX($P$20:$P$44,MATCH(0,COUNTIF($Y$19:Y33,$P$20:$P$44),0)),\"\")","v":""},0]
[5,null,null,null,null,null,null,null,null,null,null,null,null,null,null,null,null,null,null,null,null,null,null,null,null,null,null,{"$f":"IFERROR(INDEX($P$20:$P$44,MATCH(0,COUNTIF($Y$19:Y34,$P$20:$P$44),0)),\"\")","v":""},0]
[6,null,null,null,null,null,null,null,null,null,null,null,null,null,null,null,null,null,null,null,null,null,null,null,null,null,null,{"$f":"IFERROR(INDEX($P$20:$P$44,MATCH(0,COUNTIF($Y$19:Y35,$P$20:$P$44),0)),\"\")","v":""},0]
[7,null,null,null,null,null,null,null,null,null,null,null,null,null,null,null,null,null,null,null,null,null,null,null,null,null,null,{"$f":"IFERROR(INDEX($P$20:$P$44,MATCH(0,COUNTIF($Y$19:Y36,$P$20:$P$44),0)),\"\")","v":""},0]
[8,null,null,null,null,null,null,null,null,null,null,null,null,null,null,null,null,null,null,null,null,null,null,null,null,null,null,{"$f":"IFERROR(INDEX($P$20:$P$44,MATCH(0,COUNTIF($Y$19:Y37,$P$20:$P$44),0)),\"\")","v":""},0]
[9,null,null,null,null,null,null,null,null,null,null,null,null,null,null,null,null,null,null,null,null,null,null,null,null,null,null,{"$f":"IFERROR(INDEX($P$20:$P$44,MATCH(0,COUNTIF($Y$19:Y38,$P$20:$P$44),0)),\"\")","v":""},0]
[10]
[1,200,30,200,200,200,100]
[2]
[3]
[4]
[5]
[6]
[7]
[8]
[9]
[10,205,400,1,100,5,200]
[1,null,null,null,null,100,60]
[2,null,null,null,null,1,200]
[3]
[4]
[5]
[6]
[7]
[8]
[9]
[10]
[1]
[2]
[3]
[4]
[5]
[6]
[7]
[8]
[9]
[10]
[1,null,null,null,null,201,150]
[2]
[3]
[4]
[5]
[6]
[7]
[8]
[9]
[10]
[1,1,480]
[2]
[3]
[4]
[5]
[6]
[7]
[8]
[9]
[10]
[1]
[2]
[3]
[4]
[5]
[6]
[7]
[8]
[9]
[10]
[1]
[2]
[3]
[4]
[5]
[6]
[7]
[8]
[9]
[10]
[1]
[2]
[3]
[4]
[5]
[6]
[7]
[8]
[9]
[10]
[1]
[2]
[3]
[4]
[5]
[6]
[7]
[8]
[9]
[10]
[1]
[2]
[3]
[4]
[5]
[6]
[7]
[8]
[9]
[10]
[1]
[2]
[3]
[4]
[5]
[6]
[7]
[8]
[9]
[10]
[1]
[2]
[3]
[4]
[5]
[6]
[7]
[8]
[9]
[10]
[1]
[2]
[3]
[4]
[5]
[6]
[7]
[8]
[9]
[10]
[1]
[2]
[3]
[4]
[5]
[6]
[7]
[8]
[9]
[10]
[1]
[2]
[3]
[4]
[5]
[6]
[7]
[8]
[9]
[10]
[1]
[2]
[3]
[4]
[5]
[6]
[7]
[8]
[9]
[10]
[1]
[2]
[3]
[4]
[5]
[6]
[7]
[8]
[9]
[10]
[1]
[2]
[3]
[4]
[5]
[6]
[7]
[8]
[9]
[10]
[]
[]
[]
[]
[]
[]
[]
[]
[]
[]
[]
[]
[]
[]
[]
[]
[]
[]
[]
[]
[]
[]
[]
[]
[]
[]
[]
[]
[]
[]
[]
[]
[]
[]
[]
[]
[]
[]
[]
[]
[]
[]
[]
[]
[]
[]
[]
[]
[]
[]
[]
[]
[]
[]
[]
[]
[]
[]
[]
[]
[]
[]
[]
[]
[]
[]
[]
[]
[]
[]
[]
[]
[]
[]
[]
[]
[]
[]
[]
[]
[]
[]
[]
[]
[]
[]
[]
[]
[]
[]
[]
[]
[]
[]
[]
[]
[]
[]
[]
[]
[]
[]
[]
[]
[]
[]
[]
[]
[]
[]
[]
[]
[]
[]
[]
[]
[]
[]
[]
[]
[]
[]
[]
[]
[]
[]
[]
[]
[]
[]
[]
[]
[]
[]
[]
[]
[]
[]
[]
[]
[]
[]
[]
[]
[]
[]
[]
[]
[]
[]
[]
[]
[]
[]
[]
[]
[]
[]
[]
[]
[]
[]
[]
[]
[]
[]
[]
[]
[]
[]
[]
[]
[]
[]
[]
[]
[]
[]
[]
[]
[]
[]
[]
[]
[]
[]
[]
[]
[]
[]
[]
[]
[]
[]
[]
[]
[]
[]
[]
[]
[]
[]
[]
[]
[]
[]
[]
[]
[]
[]
[]
[]
[]
[]
[]
[]
[]
[]
[]
[]
[]
[]
[]
[]
[]
[]
[]
[]
[]
[]
[]
[]
[]
[]
[]
[]
[]
[]
[]
[]
[]
[]
[]
[]
[]
[]
[]
[]
[]
[]
[]
[]
[]
[]
[]
[]
[]
[]
[]
[]
[]
[]
[]
[]
[]
[]
[]
[]
[]
[]
[]
[]
[]
[]
[]
[]
[]
[]
[]
[]
[]
[]
[]
[]
[]
[]
[]
[]
[]
[]
[]
[]
[]
[]
[]
[]
[]
[]
[]
[]
[]
[]
[]
[]
[]
[]
[]
[]
[]
[]
[]
[]
[]
[]
[]
[]
[]
[]
[]
[]
[]
[]
[]
[]
[]
[]
[]
[]
[]
[]
[]
[]
[]
[]
[]
[]
[]
[]
[]
[]
[]
[]
[]
[]
[]
[]
[]
[]
[]
[]
[]
[]
[]
[]
[]
[]
[]
[]
[]
[]
[]
[]
[]
[]
[]
[]
[]
[]
[]
[]
[]
[]
[]
[]
[]
[]
[]
[]
[]
[]
[]
[]
[]
[]
[]
[]
[]
[]
[]
[]
[]
[]
[]
[]
[]
[]
[]
[]
[]
[]
[]
[]
[]
[]
[]
[]
[]
[]
[]
[]
[]
[]
[]
[]
[]
[]
[]
[]
[]
[]
[]
[]
[]
[]
[]
[]
[]
[]
[]
[]
[]
[]
[]
[]
[]
[]
[]
[]
[]
[]
[]
[]
[]
[]
[]
[]
[]
[]
[]
[]
[]
[]
[]
[]
[]
[]
[]
[]
[]
[]
[]
[]
[]
[]
[]
[]
[]
[]
[]
[]
[]
[]
[]
[]
[]
[]
[]
[]
[]
[]
[]
[]
[]
[]
[]
[]
[]
[]
[]
[]
[]
[]
[]
[]
[]
[]
[]
[]
[]
[]
[]
[]
[]
[]
[]
[]
[]
[]
[]
[]
[]
[]
[]
[]
[]
[]
[]
[]
[]
[]
[]
[]
[]
[]
[]
[]
[]
[]
[]
[]
[]
[]
[]
[]
[]
[]
[]
[]
[]
[]
[]
[]
[]
[]
[]
[]
[]
[]
[]
[]
[]
[]
[]
[]
[]
[]
[]
[]
[]
[]
[]
[]
[]
[]
[]
[]
[]
[]
[]
[]
[]
[]
[]
[]
[]
[]
[]
[]
[]
[]
[]
[]
[]
[]
[]
[]
[]
[]
[]
[]
[]
[]
[]
[]
[]
[]
[]
[]
[]
[]
[]
[]
[]
[]
[]
[]
[]
[]
[]
[]
[]
[]
[]
[]
[]
[]
[]
[]
[]
[]
[]
[]
[]
[]
[]
[]
[]
[]
[]
[]
[]
[]
[]
[]
[]
[]
[]
[]
[]
[]
[]
[]
[]
[]
[]
[]
[]
[]
[]
[]
[]
[]
[]
[]
[]
[]
[]
[]
[]
[]
[]
[]
[]
[]
[]
[]
[]
[]
[]
[]
[]
[]
[]
[]
[]
[]
[]
[]
[]
[]
[]
[]
[]
[]
[]
[]
[]
[]
[]
[]
[]
[]
[]
[]
[]
[]
[]
[]
[]
[]
[]
[]
[]
[]
[]
[]
[]
[]
[]
[]
[]
[]
[]
[]
[]
[]
[]
[]
[]
[]
[]
[]
[]
[]
[]
[]
[]
[]
[]
[]
[]
[]
[]
[]
[]
[]
[]
[]
[]
[]
[]
[]
[]
[]
[]
[]
[]
[]
[]
[]
[]
[]
[]
[]
[]
[]
[]
[]
[]
[]
[]
[]
[]
[]
[]
[]
[]
[]
[]
[]
[]
[]
[]
[]
[]
[]
[]
[]
[]
[]
[]
[]
[]
[]
[]
[]
[]
[]
[]
[]
[]
[]
[]
[]
[]
[]
[]
[]
[]
[]
[]
[]
[]
[]
[]
[]
[]
[]
[]
[]
[]
[]
[]
[]
[]
[]
[]
[]
[]
[]
[]
[]
[]
[]
[]
[]
[]
[]
[]
[]
[]
[]
[]
[]
[]
[]
[]
[]
[]
[]
[]
[]
[]
[]
[]
[]
[]
[]
[]
[]
[]
[]
[]
[]
[]
[]
[]
[]
[]
[]
[]
[]
[]
[]
[]
[]
[]
[]
[]
[]
[]
[]
[]
[]
[]
[]
[]
[]
[]
[]
[]
[]
[]
[]
[]
[]
[]
[]
[]
[]
[]
[]
[]
[]
[]
[]
[]
[]
[]
[]
[]
[]
[]
[]
[]
[]
[]
[]
[]
[]
[]
[]
[]
[]
[]
[]
[]
[]
[]
[]
[]
[]
[]
[]
[]
[]
[]
[]
[]
[]
[]
[]
[]
[]
[]
[]
[]
[]
[]
[]
[]
[]
[]
[]
[]
[]
[]
[]
[]
[]
[]
[]
[]
[]
[]
[]
[]
[]
[]
[]
[]
[]
[]
[]
[]
[]
[]
[]
[]
[]
[]
[]
[]
[]
[]
[]
[]
[]
[]
[]
[]
[]
[]
[]
[]
[]
[]
[]
[]
[]
[]
[]
[]
[]
[]
[]
[]
[]
[]
[]
[]
[]
[]
[]
[]
[]
[]
[]
[]
[]
[]
[]
[]
[]
[]
[]
[]
[]
[]
[]
[]
[]
[]
[]
[]
[]
[]
[]
[]
[]
[]
[]
[]
[]
[]
[]
[]
[]
[]
[]
[]
[]
[]
[]
[]
[]
[]
[]
[]
[]
[]
[]
[]
[]
[]
[]
[]
[]
[]
[]
[]
[]
[]
[]
[]
[]
[]
[]
[]
[]
[]
[]
[]
[]
[]
[]
[]
[]
[]
[]
[]
[]
[]
[]
[]
[]
[]
[]
[]
[]
[]
[]
[]
[]
[]
[]
[]
[]
[]
[]
[]
[]
[]
[]
[]
[]
[]
[]
[]
[]
[]
[]
[]
[]
[]
[]
[]
[]
[]
[]
[]
[]
[]
[]
[]
[]
[]
[]
[]
[]
[]
[]
[]
[]
[]
[]
[]
[]
[]
[]
[]
[]
[]
[]
[]
[]
[]
[]
[]
[]
[]
[]
[]
[]
[]
[]
[]
[]
[]
[]
[]
[]
[]
[]
[]
[]
[]
[]
[]
[]
[]
[]
[]
[]
[]
[]
[]
[]
[]
[]
[]
[]
[]
[]
[]
[]
[]
[]
[]
[]
[]
[]
[]
[]
[]
[]
[]
[]
[]
[]
[]
[]
[]
[]
[]
[]
[]
[]
[]
[]
[]
[]
[]
[]
[]
[]
[]
[]
[]
[]
[]
[]
[]
[]
[]
[]
[]
[]
[]
[]
[]
[]
[]
[]
[]
[]
[]
[]
[]
[]
[]
[]
[]
[]
[]
[]
[]
[]
[]
[]
[]
[]
[]
[]
[]
[]
[]
[]
[]
[]
[]
[]
[]
[]
[]
[]
[]
[]
[]
[]
[]
[]
[]
[]
[]
[]
[]
[]
[]
[]
[]
[]
[]
[]
[]
[]
[]
[]
[]
[]
[]
[]
[]
[]
[]
[]
[]
[]
[]
[]
[]
[]
[]
[]
[]
[]
[]
[]
[]
[]
[]
[]
[]
[]
[]
[]
[]
[]
[]
[]
[]
[]
[]
[]
[]
[]
[]
[]
[]
[]
[]
[]
[]
[]
[]
[]
[]
[]
[]
[]
[]
[]
[]
[]
[]
[]
[]
[]
[]
[]
[]
[]
[]
[]
[]
[]
[]
[]
[]
[]
[]
[]
[]
[]
[]
[]
[]
[]
[]
[]
[]
[]
[]
[]
[]
[]
[]
[]
[]
[]
[]
[]
[]
[]
[]
[]
[]
[]
[]
[]
[]
[]
[]
[]
[]
[]
[]
[]
[]
[]
[]
[]
[]
[]
[]
[]
[]
[]
[]
[]
[]
[]
[]
[]
[]
[]
[]
[]
[]
[]
[]
[]
[]
[]
[]
[]
[]
[]
[]
[]
[]
[]
[]
[]
[]
[]
[]
[]
[]
[]
[]
[]
[]
[]
[]
[]
[]
[]
[]
[]
[]
[]
[]
[]
[]
[]
[]
[]
[]
[]
[]
[]
[]
[]
[]
[]
[]
[]
[]
[]
[]
[]
[]
[]
[]
[]
[]
[]
[]
[]
[]
[]
[]
[]
[]
[]
[]
[]
[]
[]
[]
[]
[]
[]
[]
[]
[]
[]
[]
[]
[]
[]
[]
[]
[]
[]
[]
[]
[]
[]
[]
[]
[]
[]
[]
[]
[]
[]
[]
[]
[]
[]
[]
[]
[]
[]
[]
[]
[]
[]
[]
[]
[]
[]
[]
[]
[]
[]
[]
[]
[]
[]
[]
[]
[]
[]
[]
[]
[]
[]
[]
[]
[]
[]
[]
[]
[]
[]
[]
[]
[]
[]
[]
[]
[]
[]
[]
[]
[]
[]
[]
[]
[]
[]
[]
[]
[]
[]
[]
[]
[]
[]
[]
[]
[]
[]
[]
[]
[]
[]
[]
[]
[]
[]
[]
[]
[]
[]
[]
[]
[]
[]
[]
[]
[]
[]
[]
[]
[]
[]
[]
[]
[]
[]
[]
[]
[]
[]
[]
[]
[]
[]
[]
[]
[]
[]
[]
[]
[]
[]
[]
[]
[]
[]
[]
[]
[]
[]
[]
[]
[]
[]
[]
[]
[]
[]
[]
[]
[]
[]
[]
[]
[]
[]
[]
[]
[]
[]
[]
[]
[]
[]
[]
[]
[]
[]
[]
[]
[]
[]
[]
[]
[]
[]
[]
[]
[]
[]
[]
[]
[]
[]
[]
[]
[]
[]
[]
[]
[]
[]
[]
[]
[]
[]
[]
[]
[]
[]
[]
[]
[]
[]
[]
[]
[]
[]
[]
[]
[]
[]
[]
[]
[]
[]
[]
[]
[]
[]
[]
[]
[]
[]
[]
[]
[]
[]
[]
[]
[]
[]
[]
[]
[]
[]
[]
[]
[]
[]
[]
[]
[]
[]
[]
[]
[]
[]
[]
[]
[]
[]
[]
[]
[]
[]
[]
[]
[]
[]
[]
[]
[]
[]
[]
[]
[]
[]
[]
[]
[]
[]
[]
[]
[]
[]
[]
[]
[]
[]
[]
[]
[]
[]
[]
[]
[]
[]
[]
[]
[]
[]
[]
[]
[]
[]
[]
[]
[]
[]
[]
[]
[]
[]
[]
[]
[]
[]
[]
[]
[]
[]
[]
[]
[]
[]
[]
[]
[]
[]
[]
[]
[]
[]
[]
[]
[]
[]
[]
[]
[]
[]
[]
[]
[]
[]
[]
[]
[]
[]
[]
[]
[]
[]
[]
[]
[]
[]
[]
[]
[]
[]
[]
[]
[]
[]
[]
[]
[]
[]
[]
[]
[]
[]
[]
[]
[]
[]
[]
[]
[]
[]
[]
[]
[]
[]
[]
[]
[]
[]
[]
[]
[]
[]
[]
[]
[]
[]
[]
[]
[]
[]
[]
[]
[]
[]
[]
[]
[]
[]
[]
[]
[]
[]
[]
[]
[]
[]
[]
[]
[]
[]
[]
[]
[]
[]
[]
[]
[]
[]
[]
[]
[]
[]
[]
[]
[]
[]
[]
[]
[]
[]
[]
[]
[]
[]
[]
[]
[]
[]
[]
[]
[]
[]
[]
[]
[]
[]
[]
[]
[]
[]
[]
[]
[]
[]
[]
[]
[]
[]
[]
[]
[]
[]
[]
[]
[]
[]
[]
[]
[]
[]
[]
[]
[]
[]
[]
[]
[]
[]
[]
[]
[]
[]
[]
[]
[]
[]
[]
[]
[]
[]
[]
[]
[]
[]
[]
[]
[]
[]
[]
[]
[]
[]
[]
[]
[]
[]
[]
[]
[]
[]
[]
[]
[]
[]
[]
[]
[]
[]
[]
[]
[]
[]
[]
[]
[]
[]
[]
[]
[]
[]
[]
[]
[]
[]
[]
[]
[]
[]
[]
[]
[]
[]
[]
[]
[]
[]
[]
[]
[]
[]
[]
[]
[]
[]
[]
[]
[]
[]
[]
[]
[]
[]
[]
[]
[]
[]
[]
[]
[]
[]
[]
[]
[]
[]
[]
[]
[]
[]
[]
[]
[]
[]
[]
[]
[]
[]
[]
[]
[]
[]
[]
[]
[]
[]
[]
[]
[]
[]
[]
[]
[]
[]
[]
[]
[]
[]
[]
[]
[]
[]
[]
[]
[]
[]
[]
[]
[]
[]
[]
[]
[]
[]
[]
[]
[]
[]
[]
[]
[]
[]
[]
[]
[]
[]
[]
[]
[]
[]
[]
[]
[]
[]
[]
[]
[]
[]
[]
[]
[]
[]
[]
[]
[]
[]
[]
[]
[]
[]
[]
[]
[]
[]
[]
[]
[]
[]
[]
[]
[]
[]
[]
[]
[]
[]
[]
[]
[]
[]
[]
[]
[]
[]
[]
[]
[]
[]
[]
[]
[]
[]
[]
[]
[]
[]
[]
[]
[]
[]
[]
[]
[]
[]
[]
[]
[]
[]
[]
[]
[]
[]
[]
[]
[]
[]
[]
[]
[]
[]
[]
[]
[]
[]
[]
[]
[]
[]
[]
[]
[]
[]
[]
[]
[]
[]
[]
[]
[]
[]
[]
[]
[]
[]
[]
[]
[]
[]
[]
[]
[]
[]
[]
[]
[]
[]
[]
[]
[]
[]
[]
[]
[]
[]
[]
[]
[]
[]
[]
[]
[]
[]
[]
[]
[]
[]
[]
[]
[]
[]
[]
[]
[]
[]
[]
[]
[]
[]
[]
[]
[]
[]
[]
[]
[]
[]
[]
[]
[]
[]
[]
[]
[]
[]
[]
[]
[]
[]
[]
[]
[]
[]
[]
[]
[]
[]
[]
[]
[]
[]
[]
[]
[]
[]
[]
[]
[]
[]
[]
[]
[]
[]
[]
[]
[]
[]
[]
[]
[]
[]
[]
[]
[]
[]
[]
[]
[]
[]
[]
[]
[]
[]
[]
[]
[]
[]
[]
[]
[]
[]
[]
[]
[]
[]
[]
[]
[]
[]
[]
[]
[]
[]
[]
[]
[]
[]
[]
[]
[]
[]
[]
[]
[]
[]
[]
[]
[]
[]
[]
[]
[]
[]
[]
[]
[]
[]
[]
[]
[]
[]
[]
[]
[]
[]
[]
[]
[]
[]
[]
[]
[]
[]
[]
[]
[]
[]
[]
[]
[]
[]
[]
[]
[]
[]
[]
[]
[]
[]
[]
[]
[]
[]
[]
[]
[]
[]
[]
[]
[]
[]
[]
[]
[]
[]
[]
[]
[]
[]
[]
[]
[]
[]
[]
[]
[]
[]
[]
[]
[]
[]
[]
[]
[]
[]
[]
[]
[]
[]
[]
[]
[]
[]
[]
[]
[]
[]
[]
[]
[]
[]
[]
[]
[]
[]
[]
[]
[]
[]
[]
[]
[]
[]
[]
[]
[]
[]
[]
[]
[]
[]
[]
[]
[]
[]
[]
[]
[]
[]
[]
[]
[]
[]
[]
[]
[]
[]
[]
[]
[]
[]
[]
[]
[]
[]
[]
[]
[]
[]
[]
[]
[]
[]
[]
[]
[]
[]
[]
[]
[]
[]
[]
[]
[]
[]
[]
[]
[]
[]
[]
[]
[]
[]
[]
[]
[]
[]
[]
[]
[]
[]
[]
[]
[]
[]
[]
[]
[]
[]
[]
[]
[]
[]
[]
[]
[]
[]
[]
[]
[]
[]
[]
[]
[]
[]
[]
[]
[]
[]
[]
[]
[]
[]
[]
[]
[]
[]
[]
[]
[]
[]
[]
[]
[]
[]
[]
[]
[]
[]
[]
[]
[]
[]
[]
[]
[]
[]
[]
[]
[]
[]
[]
[]
[]
[]
[]
[]
[]
[]
[]
[]
[]
[]
[]
[]
[]
[]
[]
[]
[]
[]
[]
[]
[]
[]
[]
[]
[]
[]
[]
[]
[]
[]
[]
[]
[]
[]
[]
[]
[]
[]
[]
[]
[]
[]
[]
[]
[]
[]
[]
[]
[]
[]
[]
[]
[]
[]
[]
[]
[]
[]
[]
[]
[]
[]
[]
[]
[]
[]
[]
[]
[]
[]
[]
[]
[]
[]
[]
[]
[]
[]
[]
[]
[]
[]
[]
[]
[]
[]
[]
[]
[]
[]
[]
[]
[]
[]
[]
[]
[]
[]
[]
[]
[]
[]
[]
[]
[]
[]
[]
[]
[]
[]
[]
[]
[]
[]
[]
[]
[]
[]
[]
[]
[]
[]
[]
[]
[]
[]
[]
[]
[]
[]
[]
[]
[]
[]
[]
[]
[]
[]
[]
[]
[]
[]
[]
[]
[]
[]
[]
[]
[]
[]
[]
[]
[]
[]
[]
[]
[]
[]
[]
[]
[]
[]
[]
[]
[]
[]
[]
[]
[]
[]
[]
[]
[]
[]
[]
[]
[]
[]
[]
[]
[]
[]
[]
[]
[]
[]
[]
[]
[]
[]
[]
[]
[]
[]
[]
[]
[]
[]
[]
[]
[]
[]
[]
[]
[]
[]
[]
[]
[]
[]
[]
[]
[]
[]
[]
[]
[]
[]
[]
[]
[]
[]
[]
[]
[]
[]
[]
[]
[]
[]
[]
[]
[]
[]
[]
[]
[]
[]
[]
[]
[]
[]
[]
[]
[]
[]
[]
[]
[]
[]
[]
[]
[]
[]
[]
[]
[]
[]
[]
[]
[]
[]
[]
[]
[]
[]
[]
[]
[]
[]
[]
[]
[]
[]
[]
[]
[]
[]
[]
[]
[]
[]
[]
[]
[]
[]
[]
[]
[]
[]
[]
[]
[]
[]
[]
[]
[]
[]
[]
[]
[]
[]
[]
[]
[]
[]
[]
[]
[]
[]
[]
[]
[]
[]
[]
[]
[]
[]
[]
[]
[]
[]
[]
[]
[]
[]
[]
[]
[]
[]
[]
[]
[]
[]
[]
[]
[]
[]
[]
[]
[]
[]
[]
[]
[]
[]
[]
[]
[]
[]
[]
[]
[]
[]
[]
[]
[]
[]
[]
[]
[]
[]
[]
[]
[]
[]
[]
[]
[]
[]
[]
[]
[]
[]
[]
[]
[]
[]
[]
[]
[]
[]
[]
[]
[]
[]
[]
[]
[]
[]
[]
[]
[]
[]
[]
[]
[]
[]
[]
[]
[]
[]
[]
[]
[]
[]
[]
[]
[]
[]
[]
[]
[]
[]
[]
[]
[]
[]
[]
[]
[]
[]
[]
[]
[]
[]
[]
[]
[]
[]
[]
[]
[]
[]
[]
[]
[]
[]
[]
[]
[]
[]
[]
[]
[]
[]
[]
[]
[]
[]
[]
[]
[]
[]
[]
[]
[]
[]
[]
[]
[]
[]
[]
[]
[]
[]
[]
[]
[]
[]
[]
[]
[]
[]
[]
[]
[]
[]
[]
[]
[]
[]
[]
[]
[]
[]
[]
[]
[]
[]
[]
[]
[]
[]
[]
[]
[]
[]
[]
[]
[]
[]
[]
[]
[]
[]
[]
[]
[]
[]
[]
[]
[]
[]
[]
[]
[]
[]
[]
[]
[]
[]
[]
[]
[]
[]
[]
[]
[]
[]
[]
[]
[]
[]
[]
[]
[]
[]
[]
[]
[]
[]
[]
[]
[]
[]
[]
[]
[]
[]
[]
[]
[]
[]
[]
[]
[]
[]
[]
[]
[]
[]
[]
[]
[]
[]
[]
[]
[]
[]
[]
[]
[]
[]
[]
[]
[]
[]
[]
[]
[]
[]
[]
[]
[]
[]
[]
[]
[]
[]
[]
[]
[]
[]
[]
[]
[]
[]
[]
[]
[]
[]
[]
[]
[]
[]
[]
[]
[]
[]
[]
[]
[]
[]
[]
[]
[]
[]
[]
[]
[]
[]
[]
[]
[]
[]
[]
[]
[]
[]
[]
[]
[]
[]
[]
[]
[]
[]
[]
[]
[]
[]
[]
[]
[]
[]
[]
[]
[]
[]
[]
[]
[]
[]
[]
[]
[]
[]
[]
[]
[]
[]
[]
[]
[]
[]
[]
[]
[]
[]
[]
[]
[]
[]
[]
[]
[]
[]
[]
[]
[]
[]
[]
[]
[]
[]
[]
[]
[]
[]
[]
[]
[]
[]
[]
[]
[]
[]
[]
[]
[]
[]
[]
[]
[]
[]
[]
[]
[]
[]
[]
[]
[]
[]
[]
[]
[]
[]
[]
[]
[]
[]
[]
[]
[]
[]
[]
[]
[]
[]
[]
[]
[]
[]
[]
[]
[]
[]
[]
[]
[]
[]
[]
[]
[]
[]
[]
[]
[]
[]
[]
[]
[]
[]
[]
[]
[]
[]
[]
[]
[]
[]
[]
[]
[]
[]
[]
[]
[]
[]
[]
[]
[]
[]
[]
[]
[]
[]
[]
[]
[]
[]
[]
[]
[]
[]
[]
[]
[]
[]
[]
[]
[]
[]
[]
[]
[]
[]
[]
[]
[]
[]
[]
[]
[]
[]
[]
[]
[]
[]
[]
[]
[]
[]
[]
[]
[]
[]
[]
[]
[]
[]
[]
[]
[]
[]
[]
[]
[]
[]
[]
[]
[]
[]
[]
[]
[]
[]
[]
[]
[]
[]
[]
[]
[]
[]
[]
[]
[]
[]
[]
[]
[]
[]
[]
[]
[]
[]
[]
[]
[]
[]
[]
[]
[]
[]
[]
[]
[]
[]
[]
[]
[]
[]
[]
[]
[]
[]
[]
[]
[]
[]
[]
[]
[]
[]
[]
[]
[]
[]
[]
[]
[]
[]
[]
[]
[]
[]
[]
[]
[]
[]
[]
[]
[]
[]
[]
[]
[]
[]
[]
[]
[]
[]
[]
[]
[]
[]
[]
[]
[]
[]
[]
[]
[]
[]
[]
[]
[]
[]
[]
[]
[]
[]
[]
[]
[]
[]
[]
[]
[]
[]
[]
[]
[]
[]
[]
[]
[]
[]
[]
[]
[]
[]
[]
[]
[]
[]
[]
[]
[]
[]
[]
[]
[]
[]
[]
[]
[]
[]
[]
[]
[]
[]
[]
[]
[]
[]
[]
[]
[]
[]
[]
[]
[]
[]
[]
[]
[]
[]
[]
[]
[]
[]
[]
[]
[]
[]
[]
[]
[]
[]
[]
[]
[]
[]
[]
[]
[]
[]
[]
[]
[]
[]
[]
[]
[]
[]
[]
[]
[]
[]
[]
[]
[]
[]
[]
[]
[]
[]
[]
[]
[]
[]
[]
[]
[]
[]
[]
[]
[]
[]
[]
[]
[]
[]
[]
[]
[]
[]
[]
[]
[]
[]
[]
[]
[]
[]
[]
[]
[]
[]
[]
[]
[]
[]
[]
[]
[]
[]
[]
[]
[]
[]
[]
[]
[]
[]
[]
[]
[]
[]
[]
[]
[]
[]
[]
[]
[]
[]
[]
[]
[]
[]
[]
[]
[]
[]
[]
[]
[]
[]
[]
[]
[]
[]
[]
[]
[]
[]
[]
[]
[]
[]
[]
[]
[]
[]
[]
[]
[]
[]
[]
[]
[]
[]
[]
[]
[]
[]
[]
[]
[]
[]
[]
[]
[]
[]
[]
[]
[]
[]
[]
[]
[]
[]
[]
[]
[]
[]
[]
[]
[]
[]
[]
[]
[]
[]
[]
[]
[]
[]
[]
[]
[]
[]
[]
[]
[]
[]
[]
[]
[]
[]
[]
[]
[]
[]
[]
[]
[]
[]
[]
[]
[]
[]
[]
[]
[]
[]
[]
[]
[]
[]
[]
[]
[]
[]
[]
[]
[]
[]
[]
[]
[]
[]
[]
[]
[]
[]
[]
[]
[]
[]
[]
[]
[]
[]
[]
[]
[]
[]
[]
[]
[]
[]
[]
[]
[]
[]
[]
[]
[]
[]
[]
[]
[]
[]
[]
[]
[]
[]
[]
[]
[]
[]
[]
[]
[]
[]
[]
[]
[]
[]
[]
[]
[]
[]
[]
[]
[]
[]
[]
[]
[]
[]
[]
[]
[]
[]
[]
[]
[]
[]
[]
[]
[]
[]
[]
[]
[]
[]
[]
[]
[]
[]
[]
[]
[]
[]
[]
[]
[]
[]
[]
[]
[]
[]
[]
[]
[]
[]
[]
[]
[]
[]
[]
[]
[]
[]
[]
[]
[]
[]
[]
[]
[]
[]
[]
[]
[]
[]
[]
[]
[]
[]
[]
[]
[]
[]
[]
[]
[]
[]
[]
[]
[]
[]
[]
[]
[]
[]
[]
[]
[]
[]
[]
[]
[]
[]
[]
[]
[]
[]
[]
[]
[]
[]
[]
[]
[]
[]
[]
[]
[]
[]
[]
[]
[]
[]
[]
[]
[]
[]
[]
[]
[]
[]
[]
[]
[]
[]
[]
[]
[]
[]
[]
[]
[]
[]
[]
[]
[]
[]
[]
[]
[]
[]
[]
[]
[]
[]
[]
[]
[]
[]
[]
[]
[]
[]
[]
[]
[]
[]
[]
[]
[]
[]
[]
[]
[]
[]
[]
[]
[]
[]
[]
[]
[]
[]
[]
[]
[]
[]
[]
[]
[]
[]
[]
[]
[]
[]
[]
[]
[]
[]
[]
[]
[]
[]
[]
[]
[]
[]
[]
[]
[]
[]
[]
[]
[]
[]
[]
[]
[]
[]
[]
[]
[]
[]
[]
[]
[]
[]
[]
[]
[]
[]
[]
[]
[]
[]
[]
[]
[]
[]
[]
[]
[]
[]
[]
[]
[]
[]
[]
[]
[]
[]
[]
[]
[]
[]
[]
[]
[]
[]
[]
[]
[]
[]
[]
[]
[]
[]
[]
[]
[]
[]
[]
[]
[]
[]
[]
[]
[]
[]
[]
[]
[]
[]
[]
[]
[]
[]
[]
[]
[]
[]
[]
[]
[]
[]
[]
[]
[]
[]
[]
[]
[]
[]
[]
[]
[]
[]
[]
[]
[]
[]
[]
[]
[]
[]
[]
[]
[]
[]
[]
[]
[]
[]
[]
[]
[]
[]
[]
[]
[]
[]
[]
[]
[]
[]
[]
[]
[]
[]
[]
[]
[]
[]
[]
[]
[]
[]
[]
[]
[]
[]
[]
[]
[]
[]
[]
[]
[]
[]
[]
[]
[]
[]
[]
[]
[]
[]
[]
[]
[]
[]
[]
[]
[]
[]
[]
[]
[]
[]
[]
[]
[]
[]
[]
[]
[]
[]
[]
[]
[]
[null,null,null,{"$f":"SUM(D3:D1048575)","v":1523}]

{"sheet":"wk_45_1","index":4,"n_rows":523,"n_cols":43,"rows_kept":523,"cut":false,"hidden":false,"merged":[[1,17,1,18],[1,19,1,22],[1,23,1,40],[2,1,3,5],[2,6,3,7],[2,8,3,8],[2,9,3,13],[2,14,3,15],[2,16,3,16],[2,17,3,21],[2,22,3,23],[2,24,3,24],[2,25,3,40],[2,42,2,43],[3,42,3,43],[4,2,4,4],[4,6,4,8],[4,10,4,12],[4,14,4,16],[4,18,4,20],[4,22,4,24],[4,26,4,31],[4,34,4,39],[8,27,8,28],[8,35,8,36],[10,2,10,4],[10,6,10,8],[10,10,10,12],[10,14,10,16],[10,18,10,20],[10,22,10,24],[10,26,10,31],[10,34,10,39],[14,27,14,28],[14,35,14,36],[16,2,16,4],[16,6,16,8],[16,10,16,12],[16,14,16,16],[16,18,16,20],[16,22,16,24],[16,26,16,31],[16,34,16,39],[20,27,20,28],[20,35,20,36],[22,2,22,4],[22,6,22,8],[22,10,22,12],[22,14,22,16],[22,18,22,20],[22,22,22,24],[22,26,22,31],[22,34,22,39],[28,2,28,4],[28,6,28,8],[28,10,28,12],[28,14,28,16],[28,18,28,20],[28,22,28,24],[28,26,28,31],[28,34,28,39],[34,2,34,4],[34,6,34,8],[34,10,34,12],[34,14,34,16],[34,18,34,20],[34,22,34,24],[34,26,34,31],[34,34,34,39],[40,26,40,31],[40,34,40,39],[46,2,46,4],[46,6,46,8],[46,10,46,12],[46,14,46,16],[46,18,46,20],[46,22,46,24],[46,26,46,31],[40,2,40,4],[40,6,40,8],[40,10,40,12],[40,14,40,16],[40,18,40,20],[40,22,40,24],[54,1,55,2],[54,3,54,7],[54,9,55,10],[54,11,54,15],[54,17,55,18],[54,19,54,23],[55,3,55,7],[55,11,55,15],[55,19,55,23],[56,1,57,2],[56,3,56,7],[56,9,57,10],[56,11,56,15],[56,17,57,18],[56,19,56,23],[57,3,57,7],[57,11,57,15],[57,19,57,23],[58,1,59,2],[58,3,58,7],[58,9,59,10],[58,11,58,15],[58,17,59,18],[58,19,58,23],[59,3,59,7],[59,11,59,15],[59,19,59,23],[60,1,61,2],[60,3,60,7],[60,9,61,10],[60,11,60,15],[60,17,61,18],[60,19,60,23],[61,3,61,7],[61,11,61,15],[61,19,61,23],[62,1,63,2],[62,3,62,7],[62,9,63,10],[62,11,62,15],[62,17,63,18],[62,19,62,23],[63,3,63,7],[63,11,63,15],[63,19,63,23],[64,1,65,2],[64,3,64,7],[64,9,65,10],[64,11,64,15],[64,17,65,18],[64,19,64,23],[65,3,65,7],[65,11,65,15],[65,19,65,23],[68,1,69,2],[68,3,68,7],[68,9,69,10],[68,17,69,18],[68,19,68,23],[69,3,69,7],[69,11,69,15],[69,19,69,23],[66,1,67,2],[66,3,66,7],[66,9,67,10],[66,11,66,15],[66,17,67,18],[66,19,66,23],[67,3,67,7],[67,11,67,15],[67,19,67,23],[74,6,74,8],[74,14,74,16],[74,22,74,24],[102,5,102,6],[102,13,102,14],[102,21,102,22],[70,1,71,2],[70,3,70,7],[70,9,71,10],[70,11,70,15],[70,17,71,18],[70,19,70,23],[71,3,71,7],[71,11,71,15],[71,19,71,23],[134,6,134,8],[134,14,134,16],[134,22,134,24],[162,5,162,6],[162,13,162,14],[162,21,162,22],[104,6,104,8],[104,14,104,16],[104,22,104,24],[132,5,132,6],[132,13,132,14],[132,21,132,22],[194,6,194,8],[194,14,194,16],[194,22,194,24],[222,5,222,6],[222,13,222,14],[222,21,222,22],[164,6,164,8],[164,14,164,16],[164,22,164,24],[192,5,192,6],[192,13,192,14],[192,21,192,22],[254,6,254,8],[254,14,254,16],[254,22,254,24],[282,5,282,6],[282,13,282,14],[282,21,282,22],[224,6,224,8],[224,14,224,16],[224,22,224,24],[252,5,252,6],[252,13,252,14],[252,21,252,22],[314,6,314,8],[314,14,314,16],[314,22,314,24],[342,5,342,6],[342,13,342,14],[342,21,342,22],[284,6,284,8],[284,14,284,16],[284,22,284,24],[312,5,312,6],[312,13,312,14],[312,21,312,22],[374,6,374,8],[374,14,374,16],[374,22,374,24],[402,5,402,6],[402,13,402,14],[402,21,402,22],[344,6,344,8],[344,14,344,16],[344,22,344,24],[372,5,372,6],[372,13,372,14],[372,21,372,22],[434,6,434,8],[434,14,434,16],[434,22,434,24],[462,5,462,6],[462,13,462,14],[462,21,462,22],[404,6,404,8],[404,14,404,16],[404,22,404,24],[432,5,432,6],[432,13,432,14],[432,21,432,22],[494,6,494,8],[494,14,494,16],[494,22,494,24],[522,5,522,6],[522,13,522,14],[522,21,522,22],[464,6,464,8],[464,14,464,16],[464,22,464,24],[492,5,492,6],[492,13,492,14],[492,21,492,22]]}
[]
[null,null,null,null,null,null,null,null,null,{"$f":"Alapadatok!C2","v":"MG 160/180"},null,null,null,null,null,null,null,"Dátum:",null,"2018-11-05",null,null,null,"Töltsd ki a kereten belüli fehér mezőket!"]
[null,"Éjszaka1",null,null,null,null,"Műszak",null,null,"Délelőtt",null,null,null,null,"Műszak",null,null,"Délután",null,null,null,null,"Műszak",null,null,"Napi összesítő",null,null,null,null,null,null,null,null,null,null,null,null,null,null,null,null,"Levél küldéséhez "]
[null,null,null,null,null,null,null,null,null,null,null,null,null,null,null,null,null,null,null,null,null,null,null,null,null,null,null,null,null,null,null,null,null,null,null,null,null,null,null,null,null,null," kattins az ikonra!"]
[null,null,{"$f":"B74","v":"Motor sor"},null,null,null,{"$f":"B104","v":"2p Sztátor sor"},null,null,null,{"$f":"J74","v":"Motor sor"},null,null,null,{"$f":"J104","v":"2p Sztátor sor"},null,null,null,{"$f":"R74","v":"Motor sor"},null,null,null,{"$f":"R104","v":"2p Sztátor sor"},null,null,null,{"$f":"C5","v":"Motor sor"},null,null,null,null,null,null,null,{"$f":"O5","v":"2p Sztátor sor"}]
[null,null,"Gyártott db",{"$f":"E75","v":46},"db",null,"Gyártott db",{"$f":"E105","v":50},"db",null,"Gyártott db",{"$f":"M75","v":52},"db",null,"Gyártott db",{"$f":"M105","v":50},"db",null,"Gyártott db",{"$f":"U75","v":50},"db",null,"Gyártott db",{"$f":"U105","v":37},"db",null,null,"Aktuális","Elvárt",null,"Éj",{"$f":"IF(D8=0,0,D6/D8)","v":6.5714285714285712},"db/fő",null,null,"Aktuális","Elvárt",null,"Éj",{"$f":"IF(H8=0,0,H6/H8)","v":6.25},"db/fő"]
[null,null,"Elvárt db",{"$f":"E77","v":52},"db",null,"Elvárt db",{"$f":"E107","v":50},"db",null,"Elvárt db",{"$f":"M77","v":54},"db",null,"Elvárt db",{"$f":"M107","v":52},"db",null,"Elvárt db",{"$f":"U77","v":54},"db",null,"Elvárt db",{"$f":"U107","v":45},"db",null,"Darabszám",{"$f":"SUM(D6,L6,T6)","v":148},{"$f":"SUM(D7,L7,T7)","v":160},"db","De",{"$f":"IF(L8=0,0,L6/L8)","v":7.4285714285714288},"db/fő",null,"Darabszám",{"$f":"SUM(H6,P6,X6)","v":137},{"$f":"SUM(H7,P7,X7)","v":147},"db","De",{"$f":"IF(P8=0,0,P6/P8)","v":8.3333333333333339},"db/fő"]
[null,null,"Akt. létszám",{"$f":"E79","v":7},"fő",null,"Akt. létszám",{"$f":"E109","v":8},"fő",null,"Akt. létszám",{"$f":"M79","v":7},"fő",null,"Akt. létszám",{"$f":"M109","v":6},"fő",null,"Akt. létszám",{"$f":"U79","v":0},"fő",null,"Akt. létszám",{"$f":"U109","v":0},"fő",null,"Létszám",{"$f":"SUM(D8,L8,T8)","v":14},{"$f":"SUM(D9,L9,T9)","v":23},"fő","Du",{"$f":"IF(T8=0,0,T6/T8)","v":0},"db/fő",null,"Létszám",{"$f":"SUM(H8,P8,X8)","v":14},{"$f":"SUM(H9,P9,X9)","v":17},"fő","Du",{"$f":"IF(X8=0,0,X6/X8)","v":0},"db/fő"]
[null,null,"MPS létszám",{"$f":"E78","v":7},"fő",null,"MPS létszám",{"$f":"E108","v":6},"fő",null,"MPS létszám",{"$f":"M78","v":8},"fő",null,"MPS létszám",{"$f":"M108","v":6},"fő",null,"MPS létszám",{"$f":"U78","v":8},"fő",null,"MPS létszám",{"$f":"U108","v":5},"fő",null,"Össz állásidő",{"$f":"SUM(D10,L10,T10)","v":1140},null,"perc","Napi",{"$f":"IF(AB8=0,0,AB7/AB8)","v":10.571428571428571},"db/fő",null,"Össz állásidő",{"$f":"SUM(H10,P10,X10)","v":210},null,"perc","Napi",{"$f":"IF(AJ8=0,0,AJ7/AJ8)","v":9.7857142857142865},"db/fő"]
[null,null,"Össz állásidő",{"$f":"SUM(E93:E102)","v":30},"perc",null,"Össz állásidő",{"$f":"SUM(E123:E132)","v":0},"perc",null,"Össz állásidő",{"$f":"SUM(M93:M102)","v":1080},"perc",null,"Össz állásidő",{"$f":"SUM(M123:M132)","v":0},"perc",null,"Össz állásidő",{"$f":"SUM(U93:U102)","v":30},"perc",null,"Össz állásidő",{"$f":"SUM(U123:U132)","v":210},"perc",null,"Backlog sor/db",{"$f":"E88+M88+U88","v":0},{"$f":"E90+M90+U90","v":0},"db","Elvárt",{"$f":"IF(AC8=0,0,AC7/AC8)","v":6.9565217391304346},"db/fő",null,"Backlog sor/db",{"$f":"E118+M118+U118","v":0},{"$f":"E120+M120+U120","v":0},"db","Elvárt",{"$f":"IF(AK8=0,0,AK7/AK8)","v":8.6470588235294112},"db/fő"]
[null,null,{"$f":"B134","v":"4p sztátor sor"},null,null,null,{"$f":"B164","v":"DE cella"},null,null,null,{"$f":"J134","v":"4p sztátor sor"},null,null,null,{"$f":"J164","v":"DE cella"},null,null," ",{"$f":"R134","v":"4p sztátor sor"},null,null,null,{"$f":"R164","v":"DE cella"},null,null,null,{"$f":"C11","v":"4p sztátor sor"},null,null,null,null,null,null,null,{"$f":"O11","v":"DE cella"}]
[null,null,"Gyártott db",{"$f":"E135","v":0},"db",null,"Gyártott db",{"$f":"E165","v":42},"db",null,"Gyártott db",{"$f":"M135","v":17},"db",null,"Gyártott db",{"$f":"M165","v":35},"db",null,"Gyártott db",{"$f":"U135","v":0},"db",null,"Gyártott db",{"$f":"U165","v":6},"db",null,null,"Aktuális","Elvárt",null,"Éj",{"$f":"IF(D14=0,0,D12/D14)","v":0},"db/fő",null,null,"Aktuális","Elvárt",null,"Éj",{"$f":"IF(H14=0,0,H12/H14)","v":21},"db/fő"]
[null,null,"Elvárt db",{"$f":"E137","v":0},"db",null,"Elvárt db",{"$f":"E167","v":52},"db",null,"Elvárt db",{"$f":"M137","v":20},"db",null,"Elvárt db",{"$f":"M167","v":52},"db",null,"Elvárt db",{"$f":"U137","v":0},"db",null,"Elvárt db",{"$f":"U167","v":52},"db",null,"Darabszám",{"$f":"SUM(D12,L12,T12)","v":17},{"$f":"SUM(D13,L13,T13)","v":20},"db","De",{"$f":"IF(L14=0,0,L12/L14)","v":5.666666666666667},"db/fő",null,"Darabszám",{"$f":"SUM(H12,P12,X12)","v":83},{"$f":"SUM(H13,P13,X13)","v":156},"db","De",{"$f":"IF(P14=0,0,P12/P14)","v":35},"db/fő"]
[null,null,"Akt. létszám",{"$f":"E139","v":0},"fő",null,"Akt. létszám",{"$f":"E169","v":2},"fő",null,"Akt. létszám",{"$f":"M139","v":3},"fő",null,"Akt. létszám",{"$f":"M169","v":1},"fő",null,"Akt. létszám",{"$f":"U139","v":0},"fő",null,"Akt. létszám",{"$f":"U169","v":0},"fő",null,"Létszám",{"$f":"SUM(D14,L14,T14)","v":3},{"$f":"SUM(D15,L15,T15)","v":4},"fő","Du",{"$f":"IF(T14=0,0,T12/T14)","v":0},"db/fő",null,"Létszám",{"$f":"SUM(H14,P14,X14)","v":3},{"$f":"SUM(H15,P15,X15)","v":6},"fő","Du",{"$f":"IF(X14=0,0,X12/X14)","v":0},"db/fő"]
[null,null,"MPS létszám",{"$f":"E138","v":0},"fő",null,"MPS létszám",{"$f":"E168","v":2},"fő",null,"MPS létszám",{"$f":"M138","v":4},"fő",null,"MPS létszám",{"$f":"M168","v":2},"fő",null,"MPS létszám",{"$f":"U138","v":0},"fő",null,"MPS létszám",{"$f":"U168","v":2},"fő",null,"Össz állásidő",{"$f":"SUM(D16,L16,T16)","v":0},null,"perc","Napi",{"$f":"IF(AB14=0,0,AB13/AB14)","v":5.666666666666667},"db/fő",null,"Össz állásidő",{"$f":"SUM(H16,P16,X16)","v":610},null,"perc","Napi",{"$f":"IF(AJ14=0,0,AJ13/AJ14)","v":27.666666666666668},"db/fő"]
[null,null,"Össz állásidő",{"$f":"SUM(E153:E162)","v":0},"perc",null,"Össz állásidő",{"$f":"SUM(E183:E192)","v":60},"perc",null,"Össz állásidő",{"$f":"SUM(M153:M162)","v":0},"perc",null,"Össz állásidő",{"$f":"SUM(M183:M192)","v":150},"perc",null,"Össz állásidő",{"$f":"SUM(U153:U162)","v":0},"perc",null,"Össz állásidő",{"$f":"SUM(U183:U192)","v":400},"perc",null,"Backlog sor/db",{"$f":"SUM(E148,M148,U148)","v":0},{"$f":"SUM(E150,M150,U150)","v":0},"db","Elvárt",{"$f":"IF(AC14=0,0,AC13/AC14)","v":5},"db/fő",null,"Backlog sor/db",{"$f":"SUM(E178,M178,U178)","v":0},{"$f":"SUM(E180,M180,U180)","v":0},"db","Elvárt",{"$f":"IF(AK14=0,0,AK13/AK14)","v":26},"db/fő"]
[null,null,{"$f":"B194","v":"NDE cella"},null,null,null,{"$f":"B224","v":"T+R"},null,null,null,{"$f":"J194","v":"NDE cella"},null,null,null,{"$f":"J224","v":"T+R"},null,null,null,{"$f":"R194","v":"NDE cella"},null,null,null,{"$f":"R224","v":"T+R"},null,null,null,{"$f":"C17","v":"NDE cella"},null,null,null,null,null,null,null,{"$f":"O17","v":"T+R"}]
[null,null,"Gyártott db",{"$f":"E195","v":0},"db",null,"Gyártott db",{"$f":"E225","v":36},"db",null,"Gyártott db",{"$f":"M195","v":95},"db",null,"Gyártott db",{"$f":"M225","v":45},"db",null,"Gyártott db",{"$f":"U195","v":95},"db",null,"Gyártott db",{"$f":"U225","v":32},"db",null,null,"Aktuális","Elvárt",null,"Éj",{"$f":"IF(D20=0,0,D18/D20)","v":0},"db/fő",null,null,"Aktuális","Elvárt",null,"Éj",{"$f":"IF(H20=0,0,H18/H20)","v":18},"db/fő"]
[null,null,"Elvárt db",{"$f":"E197","v":95},"db",null,"Elvárt db",{"$f":"E227","v":54},"db",null,"Elvárt db",{"$f":"M197","v":95},"db",null,"Elvárt db",{"$f":"M227","v":54},"db",null,"Elvárt db",{"$f":"U197","v":95},"db",null,"Elvárt db",{"$f":"U227","v":54},"db",null,"Darabszám",{"$f":"SUM(D18,L18,T18)","v":190},{"$f":"SUM(D19,L19,T19)","v":285},"db","De",{"$f":"IF(L20=0,0,L18/L20)","v":95},"db/fő",null,"Darabszám",{"$f":"SUM(H18,P18,X18)","v":113},{"$f":"SUM(H19,P19,X19)","v":162},"db","De",{"$f":"IF(P20=0,0,P18/P20)","v":11.25},"db/fő"]
[null,null,"Akt. létszám",{"$f":"E199","v":0},"fő",null,"Akt. létszám",{"$f":"E229","v":2},"fő",null,"Akt. létszám",{"$f":"M199","v":1},"fő",null,"Akt. létszám",{"$f":"M229","v":4},"fő",null,"Akt. létszám",{"$f":"U199","v":0},"fő",null,"Akt. létszám",{"$f":"U229","v":0},"fő",null,"Létszám",{"$f":"SUM(D20,L20,T20)","v":1},{"$f":"SUM(D21,L21,T21)","v":3},"fő","Du",{"$f":"IF(T20=0,0,T18/T20)","v":0},"db/fő",null,"Létszám",{"$f":"SUM(H20,P20,X20)","v":6},{"$f":"SUM(H21,P21,X21)","v":9},"fő","Du",{"$f":"IF(X20=0,0,X18/X20)","v":0},"db/fő"]
[null,null,"MPS létszám",{"$f":"E198","v":1},"fő",null,"MPS létszám",{"$f":"E228","v":3},"fő",null,"MPS létszám",{"$f":"M198","v":1},"fő",null,"MPS létszám",{"$f":"M228","v":3},"fő",null,"MPS létszám",{"$f":"U198","v":1},"fő",null,"MPS létszám",{"$f":"U228","v":3},"fő",null,"Össz állásidő",{"$f":"SUM(D22,L22,T22)","v":0},null,"perc","Napi",{"$f":"IF(AB20=0,0,AB19/AB20)","v":190},"db/fő",null,"Össz állásidő",{"$f":"SUM(H22,P22,X22)","v":420},null,"perc","Napi",{"$f":"IF(AJ20=0,0,AJ19/AJ20)","v":18.833333333333332},"db/fő"]
[null,null,"Össz állásidő",{"$f":"SUM(E213:E222)","v":0},"perc",null,"Össz állásidő",{"$f":"SUM(E243:E252)","v":150},"perc",null,"Össz állásidő",{"$f":"SUM(M213:M222)","v":0},"perc",null,"Össz állásidő",{"$f":"SUM(M243:M252)","v":90},"perc",null,"Össz állásidő",{"$f":"SUM(U213:U222)","v":0},"perc",null,"Össz állásidő",{"$f":"SUM(U243:U252)","v":180},"perc",null,"Backlog sor/db",{"$f":"SUM(E208,M208,U208)","v":0},{"$f":"SUM(E210,M210,U210)","v":0},"db","Elvárt",{"$f":"IF(AC20=0,0,AC19/AC20)","v":95},"db/fő",null,"Backlog sor/db",{"$f":"SUM(E238,M238,U238)","v":0},{"$f":"SUM(E240,M240,U240)","v":0},"db","Elvárt",{"$f":"IF(AK20=0,0,AK19/AK20)","v":18},"db/fő"]
[null,null,{"$f":"B254","v":"Cella7"},null,null,null,{"$f":"B284","v":"Cella8"},null,null,null,{"$f":"J254","v":"Cella7"},null,null,null,{"$f":"J284","v":"Cella8"},null,null,null,{"$f":"R254","v":"Cella7"},null,null,null,{"$f":"R284","v":"Cella8"},null,null,null,{"$f":"C23","v":"Cella7"},null,null,null,null,null,null,null,{"$f":"O23","v":"Cella8"}]
[null,null,"Gyártott db",{"$f":"E255","v":0},"db",null,"Gyártott db",{"$f":"E285","v":0},"db",null,"Gyártott db",{"$f":"M255","v":0},"db",null,"Gyártott db",{"$f":"M285","v":0},"db",null,"Gyártott db",{"$f":"U255","v":0},"db",null,"Gyártott db",{"$f":"U285","v":0},"db",null,null,"Aktuális","Elvárt",null,"Éj",{"$f":"IF(D26=0,0,D24/D26)","v":0},"db/fő",null,null,"Aktuális","Elvárt",null,"Éj",{"$f":"IF(H26=0,0,H24/H26)","v":0},"db/fő"]
[null,null,"Elvárt db",{"$f":"E257","v":0},"db",null,"Elvárt db",{"$f":"E287","v":0},"db",null,"Elvárt db",{"$f":"M257","v":0},"db",null,"Elvárt db",{"$f":"M287","v":0},"db",null,"Elvárt db",{"$f":"U257","v":0},"db",null,"Elvárt db",{"$f":"U287","v":0},"db",null,"Darabszám",{"$f":"SUM(D24,L24,T24)","v":0},{"$f":"SUM(D25,L25,T25)","v":0},"db","De",{"$f":"IF(L26=0,0,L24/L26)","v":0},"db/fő",null,"Darabszám",{"$f":"SUM(H24,P24,X24)","v":0},{"$f":"SUM(H25,P25,X25)","v":0},"db","De",{"$f":"IF(P26=0,0,P24/P26)","v":0},"db/fő"]
[null,null,"Akt. létszám",{"$f":"E259","v":0},"fő",null,"Akt. létszám",{"$f":"E289","v":0},"fő",null,"Akt. létszám",{"$f":"M259","v":0},"fő",null,"Akt. létszám",{"$f":"M289","v":0},"fő",null,"Akt. létszám",{"$f":"U259","v":0},"fő",null,"Akt. létszám",{"$f":"U289","v":0},"fő",null,"Létszám",{"$f":"SUM(D26,L26,T26)","v":0},{"$f":"SUM(D27,L27,T27)","v":0},"fő","Du",{"$f":"IF(T26=0,0,T24/T26)","v":0},"db/fő",null,"Létszám",{"$f":"SUM(H26,P26,X26)","v":0},{"$f":"SUM(H27,P27,X27)","v":0},"fő","Du",{"$f":"IF(X26=0,0,X24/X26)","v":0},"db/fő"]
[null,null,"MPS létszám",{"$f":"E258","v":0},"fő",null,"MPS létszám",{"$f":"E288","v":0},"fő",null,"MPS létszám",{"$f":"M258","v":0},"fő",null,"MPS létszám",{"$f":"M288","v":0},"fő",null,"MPS létszám",{"$f":"U258","v":0},"fő",null,"MPS létszám",{"$f":"U288","v":0},"fő",null,"Össz állásidő",{"$f":"SUM(D28,L28,T28)","v":0},null,"perc","Napi",{"$f":"IF(AB26=0,0,AB25/AB26)","v":0},"db/fő",null,"Össz állásidő",{"$f":"SUM(H28,P28,X28)","v":0},null,"perc","Napi",{"$f":"IF(AJ26=0,0,AJ25/AJ26)","v":0},"db/fő"]
[null,null,"Össz állásidő",{"$f":"SUM(E273:E282)","v":0},"perc",null,"Össz állásidő",{"$f":"SUM(E303:E312)","v":0},"perc",null,"Össz állásidő",{"$f":"SUM(M273:M282)","v":0},"perc",null,"Össz állásidő",{"$f":"SUM(M303:M312)","v":0},"perc",null,"Össz állásidő",{"$f":"SUM(U273:U282)","v":0},"perc",null,"Össz állásidő",{"$f":"SUM(U303:U312)","v":0},"perc",null,"Backlog sor/db",{"$f":"SUM(E160,M160,U160)","v":0},{"$f":"SUM(E162,M162,U162)","v":0},"db","Elvárt",{"$f":"IF(AC26=0,0,AC25/AC26)","v":0},"db/fő",null,"Backlog sor/db",{"$f":"SUM(E160,M160,U160)","v":0},{"$f":"SUM(E162,M162,U162)","v":0},"db","Elvárt",{"$f":"IF(AK26=0,0,AK25/AK26)","v":0},"db/fő"]
[null,null,{"$f":"B314","v":"Cella9"},null,null,null,{"$f":"B344","v":"Cella10"},null,null,null,{"$f":"J314","v":"Cella9"},null,null,null,{"$f":"J344","v":"Cella10"},null,null,null,{"$f":"R314","v":"Cella9"},null,null,null,{"$f":"R344","v":"Cella10"},null,null,null,{"$f":"C29","v":"Cella9"},null,null,null,null,null,null,null,{"$f":"G29","v":"Cella10"}]
[null,null,"Gyártott db",{"$f":"E315","v":0},"db",null,"Gyártott db",{"$f":"E345","v":0},"db",null,"Gyártott db",{"$f":"M315","v":0},"db",null,"Gyártott db",{"$f":"M345","v":0},"db",null,"Gyártott db",{"$f":"U315","v":0},"db",null,"Gyártott db",{"$f":"U345","v":0},"db",null,null,"Aktuális","Elvárt",null,"Éj",{"$f":"IF(D32=0,0,D30/D32)","v":0},"db/fő",null,null,"Aktuális","Elvárt",null,"Éj",{"$f":"IF(D32=0,0,D30/D32)","v":0},"db/fő"]
[null,null,"Elvárt db",{"$f":"E317","v":0},"db",null,"Elvárt db",{"$f":"E347","v":0},"db",null,"Elvárt db",{"$f":"M317","v":0},"db",null,"Elvárt db",{"$f":"M347","v":0},"db",null,"Elvárt db",{"$f":"U317","v":0},"db",null,"Elvárt db",{"$f":"U347","v":0},"db",null,"Darabszám",{"$f":"SUM(D30,L30,T30)","v":0},{"$f":"SUM(D31,L31,T31)","v":0},"db","De",{"$f":"IF(L32=0,0,L30/L32)","v":0},"db/fő",null,"Darabszám",{"$f":"SUM(H30,P30,X30)","v":0},{"$f":"SUM(H31,P31,X31)","v":0},"db","De",{"$f":"IF(L32=0,0,L30/L32)","v":0},"db/fő"]
[null,null,"Akt. létszám",{"$f":"E319","v":0},"fő",null,"Akt. létszám",{"$f":"E349","v":0},"fő",null,"Akt. létszám",{"$f":"M319","v":0},"fő",null,"Akt. létszám",{"$f":"M349","v":0},"fő",null,"Akt. létszám",{"$f":"U319","v":0},"fő",null,"Akt. létszám",{"$f":"U349","v":0},"fő",null,"Létszám",{"$f":"SUM(D32,L32,T32)","v":0},{"$f":"SUM(D33,L33,T33)","v":0},"fő","Du",{"$f":"IF(T32=0,0,T30/T32)","v":0},"db/fő",null,"Létszám",{"$f":"SUM(H32,P32,X32)","v":0},{"$f":"SUM(H33,P33,X33)","v":0},"fő","Du",{"$f":"IF(T32=0,0,T30/T32)","v":0},"db/fő"]
[null,null,"MPS létszám",{"$f":"E318","v":0},"fő",null,"MPS létszám",{"$f":"E348","v":0},"fő",null,"MPS létszám",{"$f":"M318","v":0},"fő",null,"MPS létszám",{"$f":"M348","v":0},"fő",null,"MPS létszám",{"$f":"U318","v":0},"fő",null,"MPS létszám",{"$f":"U348","v":0},"fő",null,"Össz állásidő",{"$f":"SUM(D34,L34,T34)","v":0},null,"perc","Napi",{"$f":"IF(AB32=0,0,AB31/AB32)","v":0},"db/fő",null,"Össz állásidő",{"$f":"SUM(H34,P34,X34)","v":0},null,"perc","Napi",{"$f":"IF(AJ32=0,0,AJ31/AJ32)","v":0},"db/fő"]
[null,null,"Össz állásidő",{"$f":"SUM(E333:E342)","v":0},"perc",null,"Össz állásidő",{"$f":"SUM(E363:E372)","v":0},"perc",null,"Össz állásidő",{"$f":"SUM(M333:M342)","v":0},"perc",null,"Össz állásidő",{"$f":"SUM(M363:M372)","v":0},"perc",null,"Össz állásidő",{"$f":"SUM(U333:U342)","v":0},"perc",null,"Össz állásidő",{"$f":"SUM(U363:U372)","v":0},"perc",null,"Backlog sor/db",{"$f":"SUM(E166,M166,U166)","v":0},{"$f":"SUM(E168,M168,U168)","v":6},"db","Elvárt",{"$f":"IF(AC32=0,0,AC31/AC32)","v":0},"db/fő",null,"Backlog sor/db",{"$f":"SUM(E172,M172,U172)","v":0},{"$f":"SUM(E174,M174,U174)","v":0},"db","Elvárt",{"$f":"IF(AK32=0,0,AK31/AK32)","v":0},"db/fő"]
[null,null,{"$f":"B374","v":"Cella11"},null,null,null,{"$f":"B404","v":"Cella12"},null,null,null,{"$f":"J374","v":"Cella11"},null,null,null,{"$f":"J404","v":"Cella12"},null,null,null,{"$f":"R374","v":"Cella11"},null,null,null,{"$f":"R404","v":"Cella12"},null,null,null,{"$f":"C35","v":"Cella11"},null,null,null,null,null,null,null,{"$f":"G35","v":"Cella12"}]
[null,null,"Gyártott db",{"$f":"E375","v":0},"db",null,"Gyártott db",{"$f":"E405","v":0},"db",null,"Gyártott db",{"$f":"M375","v":0},"db",null,"Gyártott db",{"$f":"M405","v":0},"db",null,"Gyártott db",{"$f":"U375","v":0},"db",null,"Gyártott db",{"$f":"U405","v":0},"db",null,null,"Aktuális","Elvárt",null,"Éj",{"$f":"IF(D38=0,0,D36/D38)","v":0},"db/fő",null,null,"Aktuális","Elvárt",null,"Éj",{"$f":"IF(H38=0,0,H36/H38)","v":0},"db/fő"]
[null,null,"Elvárt db",{"$f":"E377","v":0},"db",null,"Elvárt db",{"$f":"E407","v":0},"db",null,"Elvárt db",{"$f":"M377","v":0},"db",null,"Elvárt db",{"$f":"M407","v":0},"db",null,"Elvárt db",{"$f":"U377","v":0},"db",null,"Elvárt db",{"$f":"U407","v":0},"db",null,"Darabszám",{"$f":"SUM(D36,L36,T36)","v":0},{"$f":"SUM(D37,L37,T37)","v":0},"db","De",{"$f":"IF(L38=0,0,L36/L38)","v":0},"db/fő",null,"Darabszám",{"$f":"SUM(H36,LX36,X36)","v":0},{"$f":"SUM(H37,P37,X37)","v":0},"db","De",{"$f":"IF(P38=0,0,P36/P38)","v":0},"db/fő"]
[null,null,"Akt. létszám",{"$f":"E379","v":0},"fő",null,"Akt. létszám",{"$f":"E409","v":0},"fő",null,"Akt. létszám",{"$f":"M379","v":0},"fő",null,"Akt. létszám",{"$f":"M409","v":0},"fő",null,"Akt. létszám",{"$f":"U379","v":0},"fő",null,"Akt. létszám",{"$f":"U409","v":0},"fő",null,"Létszám",{"$f":"SUM(D38,L38,T38)","v":0},{"$f":"SUM(D39,L39,T39)","v":0},"fő","Du",{"$f":"IF(T38=0,0,T36/T38)","v":0},"db/fő",null,"Létszám",{"$f":"SUM(H38,P38,X38)","v":0},{"$f":"SUM(H39,P39,X39)","v":0},"fő","Du",{"$f":"IF(X38=0,0,X37/X38)","v":0},"db/fő"]
[null,null,"MPS létszám",{"$f":"E378","v":0},"fő",null,"MPS létszám",{"$f":"E408","v":0},"fő",null,"MPS létszám",{"$f":"M378","v":0},"fő",null,"MPS létszám",{"$f":"M408","v":0},"fő",null,"MPS létszám",{"$f":"U378","v":0},"fő",null,"MPS létszám",{"$f":"U408","v":0},"fő",null,"Össz állásidő",{"$f":"SUM(D40,L40,T40)","v":0},null,"perc","Napi",{"$f":"IF(AB38=0,0,AB37/AB38)","v":0},"db/fő",null,"Össz állásidő",{"$f":"SUM(H40,P40,X40)","v":0},null,"perc","Napi",{"$f":"IF(AJ38=0,0,AJ37/AJ38)","v":0},"db/fő"]
[null,null,"Össz állásidő",{"$f":"SUM(E393:E402)","v":0},"perc",null,"Össz állásidő",{"$f":"SUM(E423:E432)","v":0},"perc",null,"Össz állásidő",{"$f":"SUM(M393:M402)","v":0},"perc",null,"Össz állásidő",{"$f":"SUM(M423:M432)","v":0},"perc",null,"Össz állásidő",{"$f":"SUM(U393:U402)","v":0},"perc",null,"Össz állásidő",{"$f":"SUM(U423:U432)","v":0},"perc",null,"Backlog sor/db",{"$f":"SUM(E172,M172,U172)","v":0},{"$f":"SUM(E174,M174,U174)","v":0},"db","Elvárt",{"$f":"IF(AC38=0,0,AC37/AC38)","v":0},"db/fő",null,"Backlog sor/db",{"$f":"SUM(E178,M178,U178)","v":0},{"$f":"SUM(E180,M180,U180)","v":0},"db","Elvárt",{"$f":"IF(AK38=0,0,AK37/AK38)","v":0},"db/fő"]
[null,null,{"$f":"B434","v":"Cella13"},null,null,null,{"$f":"B464","v":"Cella14"},null,null,null,{"$f":"J434","v":"Cella13"},null,null,null,{"$f":"J464","v":"Cella14"},null,null,null,{"$f":"R434","v":"Cella13"},null,null,null,{"$f":"R464","v":"Cella14"},null,null,null,{"$f":"C41","v":"Cella13"},null,null,null,null,null,null,null,{"$f":"G41","v":"Cella14"}]
[null,null,"Gyártott db",{"$f":"E435","v":0},"db",null,"Gyártott db",{"$f":"E465","v":0},"db",null,"Gyártott db",{"$f":"M435","v":0},"db",null,"Gyártott db",{"$f":"M465","v":0},"db",null,"Gyártott db",{"$f":"U435","v":0},"db",null,"Gyártott db",{"$f":"U465","v":0},"db",null,null,"Aktuális","Elvárt",null,"Éj",{"$f":"IF(D44=0,0,D42/D44)","v":0},"db/fő",null,null,"Aktuális","Elvárt",null,"Éj",{"$f":"IF(H44=0,0,H42/H44)","v":0},"db/fő"]
[null,null,"Elvárt db",{"$f":"E437","v":0},"db",null,"Elvárt db",{"$f":"E467","v":0},"db",null,"Elvárt db",{"$f":"M437","v":0},"db",null,"Elvárt db",{"$f":"M467","v":0},"db",null,"Elvárt db",{"$f":"U437","v":0},"db",null,"Elvárt db",{"$f":"U467","v":0},"db",null,"Darabszám",{"$f":"SUM(D42,L42,T42)","v":0},{"$f":"SUM(D43,L43,T43)","v":0},"db","De",{"$f":"IF(L44=0,0,L42/L44)","v":0},"db/fő",null,"Darabszám",{"$f":"SUM(H42,P42,X42)","v":0},{"$f":"SUM(H43,P43,X43)","v":0},"db","De",{"$f":"IF(P44=0,0,P42/P44)","v":0},"db/fő"]
[null,null,"Akt. létszám",{"$f":"E439","v":0},"fő",null,"Akt. létszám",{"$f":"E469","v":0},"fő",null,"Akt. létszám",{"$f":"M439","v":0},"fő",null,"Akt. létszám",{"$f":"M469","v":0},"fő",null,"Akt. létszám",{"$f":"U439","v":0},"fő",null,"Akt. létszám",{"$f":"U469","v":0},"fő",null,"Létszám",{"$f":"SUM(D44,L44,T44)","v":0},{"$f":"SUM(D45,L45,T45)","v":0},"fő","Du",{"$f":"IF(T44=0,0,T42/T44)","v":0},"db/fő",null,"Létszám",{"$f":"SUM(D56,L56,T56)","v":0},{"$f":"SUM(D57,L57,T57)","v":0},"fő","Du",{"$f":"IF(X44=0,0,X42/X44)","v":0},"db/fő"]
[null,null,"MPS létszám",{"$f":"E438","v":0},"fő",null,"MPS létszám",{"$f":"E468","v":0},"fő",null,"MPS létszám",{"$f":"M438","v":0},"fő",null,"MPS létszám",{"$f":"M468","v":0},"fő",null,"MPS létszám",{"$f":"U438","v":0},"fő",null,"MPS létszám",{"$f":"U468","v":0},"fő",null,"Össz állásidő",{"$f":"SUM(D46,L46,T46)","v":0},null,"perc","Napi",{"$f":"IF(AB44=0,0,AB43/AB44)","v":0},"db/fő",null,"Össz állásidő",{"$f":"SUM(D58,L58,T58)","v":0},null,"perc","Napi",{"$f":"IF(AJ44=0,0,AJ43/AJ44)","v":0},"db/fő"]
[null,null,"Össz állásidő",{"$f":"SUM(E453:E462)","v":0},"perc",null,"Össz állásidő",{"$f":"SUM(E483:E492)","v":0},"perc",null,"Össz állásidő",{"$f":"SUM(M453:M462)","v":0},"perc",null,"Össz állásidő",{"$f":"SUM(M483:M492)","v":0},"perc",null,"Össz állásidő",{"$f":"SUM(U453:U462)","v":0},"perc",null,"Össz állásidő",{"$f":"SUM(U483:U492)","v":0},"perc",null,"Backlog sor/db",{"$f":"SUM(E178,M178,U178)","v":0},{"$f":"SUM(E180,M180,U180)","v":0},"db","Elvárt",{"$f":"IF(AC44=0,0,AC43/AC44)","v":0},"db/fő",null,"Backlog sor/db",{"$f":"SUM(E190,M190,U190)","v":0},{"$f":"SUM(E192,M192,U192)","v":0},"db","Elvárt",{"$f":"IF(AK44=0,0,AK43/AK44)","v":0},"db/fő"]
[null,null,{"$f":"B494","v":"Cella15"},null,null,null,null,null,null,null,{"$f":"J494","v":"Cella15"},null,null,null,null,null,null,null,{"$f":"R494","v":"Cella15"},null,null,null,null,null,null,null,{"$f":"C47","v":"Cella15"}]
[null,null,"Gyártott db",{"$f":"E495","v":0},"db",null,null,null,null,null,"Gyártott db",{"$f":"M495","v":0},"db",null,null,null,null,null,"Gyártott db",{"$f":"U495","v":0},"db",null,null,null,null,null,null,"Aktuális","Elvárt",null,"Éj",{"$f":"IF(D50=0,0,D48/D50)","v":0},"db/fő"]
[null,null,"Elvárt db",{"$f":"E497","v":0},"db",null,null,null,null,null,"Elvárt db",{"$f":"M497","v":0},"db",null,null,null,null,null,"Elvárt db",{"$f":"U497","v":0},"db",null,null,null,null,null,"Darabszám",{"$f":"SUM(D48,L48,T48)","v":0},{"$f":"SUM(D49,L49,T49)","v":0},"db","De",{"$f":"IF(L50=0,0,L48/L50)","v":0},"db/fő"]
[null,null,"Akt. létszám",{"$f":"E499","v":0},"fő",null,null,null,null,null,"Akt. létszám",{"$f":"M499","v":0},"fő",null,null,null,null,null,"Akt. létszám",{"$f":"U499","v":0},"fő",null,null,null,null,null,"Létszám",{"$f":"SUM(D50,L50,T50)","v":0},{"$f":"SUM(D51,L51,T51)","v":0},"fő","Du",{"$f":"IF(T50=0,0,T48/T50)","v":0},"db/fő"]
[null,null,"MPS létszám",{"$f":"E498","v":0},"fő",null,null,null,null,null,"MPS létszám",{"$f":"M498","v":0},"fő",null,null,null,null,null,"MPS létszám",{"$f":"U498","v":0},"fő",null,null,null,null,null,"Össz állásidő",{"$f":"SUM(D52,L52,T52)","v":0},null,"perc","Napi",{"$f":"IF(AB50=0,0,AB49/AB50)","v":0},"db/fő"]
[null,null,"Össz állásidő",{"$f":"SUM(E513:E522)","v":0},"perc",null,null,null,null,null,"Össz állásidő",{"$f":"SUM(M513:M522)","v":0},"perc",null,null,null,null,null,"Össz állásidő",{"$f":"SUM(U513:U522)","v":0},"perc",null,null,null,null,null,"Backlog sor/db",{"$f":"SUM(E194,M194,U194)","v":0},{"$f":"SUM(E196,M196,U196)","v":0},"db","Elvárt",{"$f":"IF(AC50=0,0,AC49/AC50)","v":0},"db/fő"]
[]
[null,"Megjegyzés/egyéb fontos információ:",null,null,null,null,null,null,"Megoldva?","Megjegyzés/egyéb fontos információ:",null,null,null,null,null,null,"Megoldva?","Megjegyzés/egyéb fontos információ:",null,null,null,null,null,null,"Megoldva?"]
[null,"Biztonság",null,"512-es pajzs hiány! Megrendelő nélküli gyártás",null,null,null,null,null,"Biztonság",null,null,null,null,null,null,null,"Biztonság"]
[null,null,null,"49db maradt még a 430-as pajzsból.",null,null,null,null,null,null,null,null,null,null,null,null,null,null,null," "]
[null,"Minőség",null,null,null,null,null,null,null,"Minőség",null,null,null,null,null,null,null,"Minőség"]
[]
[null,"Termelés",null,"Besütő: 50  db   E-tower: 54  db",null,null,null,null,null,"Termelés",null,"Besütő:10db, E- tower29:db,",null,null,null,null,null,"Termelés",null,"BESÜTŐ:  58db , E-TOWER:  50db ."]
[null,null,null,"BWS: 48 db  lakkozó:44db fornax.14db",null,null,null,null,null,null,null,"BWS:50db Alliance:57db Fornax:db ",null,null,null,null,null,null,null,"BWS:43db       Alliance:54db +15db 112/132-es sztátor lakkozása"]
[null,"Dolgozók",null,"Szabi:   1   Beteg. 1",null,null,null,null,null,"Dolgozók",null,"Szabi:5fő  Beteg:3fő  ",null,null,null,null,null,"Dolgozók",null,"1fő segitség a motorsoron , 1fő segitség a sztátorsoron "]
[null,null,null,null,null,null,null,null,null,null,null,null,null,null,null,null,null,null,null,"Szabi:2fő  Beteg:2fő"]
[null,"Támogatók",null,"megrendelő:9 HM 7db",null,null,null,null,null,"Támogatók",null,"megrendelő : 6db HM: 10db",null,null,null,null,null,"Támogatók",null,"megrendelő:9db       HM:19db"]
[null,null,null,null,null,null,null,null,null,null,null,"1fő szervizes a motorsoron segít"]
[null,"5S",null,"EME kft ékszig:1600db",null,null,null,null,null,"5S",null,null,null,null,null,null,null,"5S"]
[]
[null,"Karbantartás",null,"E-tower nem akart elindulni 60 percet áltunk vele 6908308",null,null,null,null,"ok","Karbantartás",null,null,null,null,null,null,null,"Karbantartás",null,"varrógép javítás  mlsz:6909061"]
[null,null,null,"DE cella robothiba",null,null,null,null,"ok"]
[null,null,null,"lakkozó jobb oldali szívattyú pronbléma 6908326 30 perc",null,null,null,null,"ok"]
[]
[null,null,null,"Szt. backlog:"]
[null,null,null,"Motor backlog:34/208"]
[]
[null,{"$f":"Alapadatok!C5","v":"Motor sor"},null,null,null,null,null,null,null,{"$f":"B74","v":"Motor sor"},null,null,null,null,null,null,null,{"$f":"B74","v":"Motor sor"}]
[null,null,null,"Gyártott:",46,"db",null,null,null,null,null,"Gyártott:",52,"db",null,null,null,null,null,"Gyártott:",50,"db"]
[]
[null,null,null,"Elvárt darabszám:",52,"db",null,"Elvárt db/op:",7.43,null,null,"Elvárt darabszám:",54,"db",null,"Elvárt db/op:",6.75,null,null,"Elvárt darabszám:",54,"db",null,"Elvárt db/op:",6.75]
[null,null,null,"Szükséges létszám: ",7,"fő",null,null,null,null,null,"Szükséges létszám:",8,"fő",null,null,null,null,null,"Szükséges létszám:",8,"fő"]
[null,null,null,"Aktuális létszám:",7,"fő",null,"Aktuális db/op:",6.5714285714285712,null,null,"Aktuális létszám:",7,"fő",null,"Aktuális db/op:",7.4285714285714288,null,null,"Aktuális létszám:",0,"fő",null,"Aktuális db/op:",0]
[]
[null,null,null,"Operátor",6,"fő",null,null,null,null,null,"Operátor",5,"fő",null,null,null,null,null,"Operátor",8,"fő"]
[null,null,null,"Koordinátor",1,"fő",null,null,null,null,null,"Koordinátor",1,"fő",null,null,null,null,null,"Koordinátor",null,"fő"]
[null,null,null,"Beállító",null,"fő",null,null,null,null,null,"Beállító",null,"fő",null,null,null,null,null,"Beállító",null,"fő"]
[null,null,null,"QA, Service",null,"fő",null,null,null,null,null,"QA, Service",null,"fő",null,null,null,null,null,"QA, Service",null,"fő"]
[null,null,null,"Anyagszállító",null,"fő",null,null,null,null,null,"Anyagszállító",null,"fő",null,null,null,null,null,"Anyagszállító",null,"fő"]
[null,null,null,"Egyéb",null,"fő",null,null,null,null,null,"Egyéb",1,"fő",null,null,null,null,null,"Egyéb",null,"fő"]
[]
[null,null,null,"Backlog:",null,"sorok száma",null,null,null,null,null,"Backlog:",null,"sorok száma",null,null,null,null,null,"Backlog:",null,"sorok száma"]
[]
[null,null,null,"Backlog:",null,"összes darab",null,null,null,null,null,"Backlog:",null,"összes darab",null,null,null,null,null,"Backlog:",null,"összes darab"]
[]
[null,null,null,"Kód:","Időtartam","Állásidő megnevezése",null,null,null,null,null,"Kód:","Időtartam","Állásidő megnevezése",null,null,null,null,null,"Kód:","Időtartam","Állásidő megnevezése"]
[null,null,null,100,30,{"$f":"VLOOKUP(D93,állásidő_kódok!$B:$D,3,0)","v":"E-II. - Betanulás-betanítás"},null,null,null,null,null,100,200,{"$f":"VLOOKUP(L93,állásidő_kódok!$B:$D,3,0)","v":"E-II. - Betanulás-betanítás"},null,null,null,null,null,100,30,{"$f":"VLOOKUP(T93,állásidő_kódok!$B:$D,3,0)","v":"E-II. - Betanulás-betanítás"}]
[null,null,null,null,null,{"$f":"VLOOKUP(D94,állásidő_kódok!$B:$D,3,0)","v":{"$error":"#N/A"}},null,null,null,null,null,5,200,{"$f":"VLOOKUP(L94,állásidő_kódok!$B:$D,3,0)","v":"E-I. - 5%-os emberi erőforrás hiány"},null,null,null,null,null,null,null,{"$f":"VLOOKUP(T94,állásidő_kódok!$B:$D,3,0)","v":{"$error":"#N/A"}}]
[null,null,null,null,null,{"$f":"VLOOKUP(D95,állásidő_kódok!$B:$D,3,0)","v":{"$error":"#N/A"}},null,null,null,null,null,300,200,{"$f":"VLOOKUP(L95,állásidő_kódok!$B:$D,3,0)","v":"G - Gyártósor meghibásodása"},null,null,null,null,null,null,null,{"$f":"VLOOKUP(T95,állásidő_kódok!$B:$D,3,0)","v":{"$error":"#N/A"}}]
[null,null,null,null,null,{"$f":"VLOOKUP(D96,állásidő_kódok!$B:$D,3,0)","v":{"$error":"#N/A"}},null,null,null,null,null,null,null,{"$f":"VLOOKUP(L96,állásidő_kódok!$B:$D,3,0)","v":{"$error":"#N/A"}},null,null,null,null,null,null,null,{"$f":"VLOOKUP(T96,állásidő_kódok!$B:$D,3,0)","v":{"$error":"#N/A"}}]
[null,null,null,null,null,{"$f":"VLOOKUP(D97,állásidő_kódok!$B:$D,3,0)","v":{"$error":"#N/A"}},null,null,null,null,null,null,null,{"$f":"VLOOKUP(L97,állásidő_kódok!$B:$D,3,0)","v":{"$error":"#N/A"}},null,null,null,null,null,null,null,{"$f":"VLOOKUP(T97,állásidő_kódok!$B:$D,3,0)","v":{"$error":"#N/A"}}]
[null,null,null,null,null,{"$f":"VLOOKUP(D98,állásidő_kódok!$B:$D,3,0)","v":{"$error":"#N/A"}},null,null,null,null,null,null,null,{"$f":"VLOOKUP(L98,állásidő_kódok!$B:$D,3,0)","v":{"$error":"#N/A"}},null,null,null,null,null,null,null,{"$f":"VLOOKUP(T98,állásidő_kódok!$B:$D,3,0)","v":{"$error":"#N/A"}}]
[null,null,null,null,null,{"$f":"VLOOKUP(D99,állásidő_kódok!$B:$D,3,0)","v":{"$error":"#N/A"}},null,null,null,null,null,null,null,{"$f":"VLOOKUP(L99,állásidő_kódok!$B:$D,3,0)","v":{"$error":"#N/A"}},null,null,null,null,null,null,null,{"$f":"VLOOKUP(T99,állásidő_kódok!$B:$D,3,0)","v":{"$error":"#N/A"}}]
[null,null,null,null,null,{"$f":"VLOOKUP(D100,állásidő_kódok!$B:$D,3,0)","v":{"$error":"#N/A"}},null,null,null,null,null,null,null,{"$f":"VLOOKUP(L100,állásidő_kódok!$B:$D,3,0)","v":{"$error":"#N/A"}},null,null,null,null,null,null,null,{"$f":"VLOOKUP(T100,állásidő_kódok!$B:$D,3,0)","v":{"$error":"#N/A"}}]
[null,null,null,null,null,{"$f":"VLOOKUP(D101,állásidő_kódok!$B:$D,3,0)","v":{"$error":"#N/A"}},null,null,null,null,null,null,null,{"$f":"VLOOKUP(L101,állásidő_kódok!$B:$D,3,0)","v":{"$error":"#N/A"}},null,null,null,null,null,null,null,{"$f":"VLOOKUP(T101,állásidő_kódok!$B:$D,3,0)","v":{"$error":"#N/A"}}]
[null,null,null,null,null,{"$f":"VLOOKUP(D102,állásidő_kódok!$B:$D,3,0)","v":{"$error":"#N/A"}},null,null,null,null,null,400,480,{"$f":"VLOOKUP(L102,állásidő_kódok!$B:$D,3,0)","v":"J - Szivattyú keveset emel"},null,null,null,null,null,null,null,{"$f":"VLOOKUP(T102,állásidő_kódok!$B:$D,3,0)","v":{"$error":"#N/A"}}]
[null,null,null,null,"Állásidők nélküli teljesítés:",{"$f":"((SUM(E93:E102)/445))+E75/E77","v":0.95203111495246318},null,null,null,null,null,null,"Állásidők nélküli teljesítés:",{"$f":"((SUM(M93:M102)/445))+M75/M77","v":3.3899292550977944},null,null,null,null,null,null,"Állásidők nélküli teljesítés:",{"$f":"((SUM(U93:U102)/445))+U75/U77","v":0.99334165626300464}]
[null,{"$f":"Alapadatok!C6","v":"2p Sztátor sor"},null,null,null,null,null,null,null,{"$f":"B104","v":"2p Sztátor sor"},null,null,null,null,null,null,null,{"$f":"B104","v":"2p Sztátor sor"}]
[null,null,null,"Gyártott:",50,"db",null,null,null,null,null,"Gyártott:",50,"db",null,null,null,null,null,"Gyártott:",37,"db"]
[]
[null,null,null,"Elvárt darabszám:",50,"db",null,"Elvárt db/op:",8.33,null,null,"Elvárt darabszám:",52,"db",null,"Elvárt db/op:",8.67,null,null,"Elvárt darabszám:",45,"db",null,"Elvárt db/op:",9]
[null,null,null,"Szükséges létszám: ",6,"fő",null,null,null,null,null,"Szükséges létszám:",6,"fő",null,null,null,null,null,"Szükséges létszám:",5,"fő"]
[null,null,null,"Aktuális létszám:",8,"fő",null,"Aktuális db/op:",6.25,null,null,"Aktuális létszám:",6,"fő",null,"Aktuális db/op:",8.3333333333333339,null,null,"Aktuális létszám:",0,"fő",null,"Aktuális db/op:",0]
[]
[null,null,null,"Operátor",6,"fő",null,null,null,null,null,"Operátor",5,"fő",null,null,null,null,null,"Operátor",6,"fő"]
[null,null,null,"Koordinátor",1,"fő",null,null,null,null,null,"Koordinátor",1,"fő",null,null,null,null,null,"Koordinátor",1,"fő"]
[null,null,null,"Beállító",1,"fő",null,null,null,null,null,"Beállító",null,"fő",null,null,null,null,null,"Beállító",1,"fő"]
[null,null,null,"QA, Service",null,"fő",null,null,null,null,null,"QA, Service",null,"fő",null,null,null,null,null,"QA, Service",null,"fő"]
[null,null,null,"Anyagszállító",null,"fő",null,null,null,null,null,"Anyagszállító",null,"fő",null,null,null,null,null,"Anyagszállító",null,"fő"]
[null,null,null,"Egyéb",null,"fő",null,null,null,null,null,"Egyéb",null,"fő",null,null,null,null,null,"Egyéb",null,"fő"]
[]
[null,null,null,"Backlog:",null,"sorok száma",null,null,null,null,null,"Backlog:",null,"sorok száma",null,null,null,null,null,"Backlog:",null,"sorok száma"]
[]
[null,null,null,"Backlog:",null,"összes darab",null,null,null,null,null,"Backlog:",null,"összes darab",null,null,null,null,null,"Backlog:",null,"összes darab"]
[]
[null,null,null,"Kód:","Időtartam","Állásidő megnevezése",null,null,null,null,null,"Kód:","Időtartam","Állásidő megnevezése",null,null,null,null,null,"Kód:","Időtartam","Állásidő megnevezése"]
[null,null,null,null,null,{"$f":"VLOOKUP(D123,állásidő_kódok!$B:$D,3,0)","v":{"$error":"#N/A"}},null,null,null,null,null,null,null,{"$f":"VLOOKUP(L123,állásidő_kódok!$B:$D,3,0)","v":{"$error":"#N/A"}},null,null,null,null,null,100,60,{"$f":"VLOOKUP(T123,állásidő_kódok!$B:$D,3,0)","v":"E-II. - Betanulás-betanítás"}]
[null,null,null,null,null,{"$f":"VLOOKUP(D124,állásidő_kódok!$B:$D,3,0)","v":{"$error":"#N/A"}},null,null,null,null,null,null,null,{"$f":"VLOOKUP(L124,állásidő_kódok!$B:$D,3,0)","v":{"$error":"#N/A"}},null,null,null,null,null,315,150,{"$f":"VLOOKUP(T124,állásidő_kódok!$B:$D,3,0)","v":"G - Karbantartói javítás"}]
[null,null,null,null,null,{"$f":"VLOOKUP(D125,állásidő_kódok!$B:$D,3,0)","v":{"$error":"#N/A"}},null,null,null,null,null,null,null,{"$f":"VLOOKUP(L125,állásidő_kódok!$B:$D,3,0)","v":{"$error":"#N/A"}},null,null,null,null,null,null,null,{"$f":"VLOOKUP(T125,állásidő_kódok!$B:$D,3,0)","v":{"$error":"#N/A"}}]
[null,null,null,null,null,{"$f":"VLOOKUP(D126,állásidő_kódok!$B:$D,3,0)","v":{"$error":"#N/A"}},null,null,null,null,null,null,null,{"$f":"VLOOKUP(L126,állásidő_kódok!$B:$D,3,0)","v":{"$error":"#N/A"}},null,null,null,null,null,null,null,{"$f":"VLOOKUP(T126,állásidő_kódok!$B:$D,3,0)","v":{"$error":"#N/A"}}]
[null,null,null,null,null,{"$f":"VLOOKUP(D127,állásidő_kódok!$B:$D,3,0)","v":{"$error":"#N/A"}},null,null,null,null,null,null,null,{"$f":"VLOOKUP(L127,állásidő_kódok!$B:$D,3,0)","v":{"$error":"#N/A"}},null,null,null,null,null,null,null,{"$f":"VLOOKUP(T127,állásidő_kódok!$B:$D,3,0)","v":{"$error":"#N/A"}}]
[null,null,null,null,null,{"$f":"VLOOKUP(D128,állásidő_kódok!$B:$D,3,0)","v":{"$error":"#N/A"}},null,null,null,null,null,null,null,{"$f":"VLOOKUP(L128,állásidő_kódok!$B:$D,3,0)","v":{"$error":"#N/A"}},null,null,null,null,null,null,null,{"$f":"VLOOKUP(T128,állásidő_kódok!$B:$D,3,0)","v":{"$error":"#N/A"}}]
[null,null,null,null,null,{"$f":"VLOOKUP(D129,állásidő_kódok!$B:$D,3,0)","v":{"$error":"#N/A"}},null,null,null,null,null,null,null,{"$f":"VLOOKUP(L129,állásidő_kódok!$B:$D,3,0)","v":{"$error":"#N/A"}},null,null,null,null,null,null,null,{"$f":"VLOOKUP(T129,állásidő_kódok!$B:$D,3,0)","v":{"$error":"#N/A"}}]
[null,null,null,null,null,{"$f":"VLOOKUP(D130,állásidő_kódok!$B:$D,3,0)","v":{"$error":"#N/A"}},null,null,null,null,null,null,null,{"$f":"VLOOKUP(L130,állásidő_kódok!$B:$D,3,0)","v":{"$error":"#N/A"}},null,null,null,null,null,null,null,{"$f":"VLOOKUP(T130,állásidő_kódok!$B:$D,3,0)","v":{"$error":"#N/A"}}]
[null,null,null,null,null,{"$f":"VLOOKUP(D131,állásidő_kódok!$B:$D,3,0)","v":{"$error":"#N/A"}},null,null,null,null,null,null,null,{"$f":"VLOOKUP(L131,állásidő_kódok!$B:$D,3,0)","v":{"$error":"#N/A"}},null,null,null,null,null,null,null,{"$f":"VLOOKUP(T131,állásidő_kódok!$B:$D,3,0)","v":{"$error":"#N/A"}}]
[null,null,null,null,null,{"$f":"VLOOKUP(D132,állásidő_kódok!$B:$D,3,0)","v":{"$error":"#N/A"}},null,null,null,null,null,null,null,{"$f":"VLOOKUP(L132,állásidő_kódok!$B:$D,3,0)","v":{"$error":"#N/A"}},null,null,null,null,null,null,null,{"$f":"VLOOKUP(T132,állásidő_kódok!$B:$D,3,0)","v":{"$error":"#N/A"}}]
[null,null,null,null,"Állásidők nélküli teljesítés:",{"$f":"((SUM(E123:E132)/445))+E105/E107","v":1},null,null,null,null,null,null,"Állásidők nélküli teljesítés:",{"$f":"((SUM(M123:M132)/445))+M105/M107","v":0.96153846153846156},null,null,null,null,null,null,"Állásidők nélküli teljesítés:",{"$f":"((SUM(U123:U132)/445))+U105/U107","v":1.2941323345817728}]
[null,{"$f":"Alapadatok!C7","v":"4p sztátor sor"},null,null,null,null,null,null,null,{"$f":"B134","v":"4p sztátor sor"},null,null,null,null,null,null,null,{"$f":"B134","v":"4p sztátor sor"}]
[null,null,null,"Gyártott:",null,"db",null,null,null,null,null,"Gyártott:",17,"db",null,null,null,null,null,"Gyártott:",null,"db"]
[]
[null,null,null,"Elvárt darabszám:",0,"db",null,"Elvárt db/op:",0,null,null,"Elvárt darabszám:",20,"db",null,"Elvárt db/op:",5,null,null,"Elvárt darabszám:",0,"db",null,"Elvárt db/op:",0]
[null,null,null,"Szükséges létszám: ",0,"fő",null,null,null,null,null,"Szükséges létszám:",4,"fő",null,null,null,null,null,"Szükséges létszám:",0,"fő"]
[null,null,null,"Aktuális létszám:",0,"fő",null,"Aktuális db/op:",0,null,null,"Aktuális létszám:",3,"fő",null,"Aktuális db/op:",5.666666666666667,null,null,"Aktuális létszám:",0,"fő",null,"Aktuális db/op:",0]
[]
[null,null,null,"Operátor",null,"fő",null,null,null,null,null,"Operátor",3,"fő",null,null,null,null,null,"Operátor",null,"fő"]
[null,null,null,"Koordinátor",null,"fő",null,null,null,null,null,"Koordinátor",null,"fő",null,null,null,null,null,"Koordinátor",null,"fő"]
[null,null,null,"Beállító",null,"fő",null,null,null,null,null,"Beállító",null,"fő",null,null,null,null,null,"Beállító",null,"fő"]
[null,null,null,"QA, Service",null,"fő",null,null,null,null,null,"QA, Service",null,"fő",null,null,null,null,null,"QA, Service",null,"fő"]
[null,null,null,"Anyagszállító",null,"fő",null,null,null,null,null,"Anyagszállító",null,"fő",null,null,null,null,null,"Anyagszállító",null,"fő"]
[null,null,null,"Egyéb",null,"fő",null,null,null,null,null,"Egyéb",null,"fő",null,null,null,null,null,"Egyéb",null,"fő"]
[]
[null,null,null,"Backlog:",null,"sorok száma",null,null,null,null,null,"Backlog:",null,"sorok száma",null,null,null,null,null,"Backlog:",null,"sorok száma"]
[]
[null,null,null,"Backlog:",null,"összes darab",null,null,null,null,null,"Backlog:",null,"összes darab",null,null,null,null,null,"Backlog:",null,"összes darab"]
[]
[null,null,null,"Kód:","Időtartam","Állásidő megnevezése",null,null,null,null,null,"Kód:","Időtartam","Állásidő megnevezése",null,null,null,null,null,"Kód:","Időtartam","Állásidő megnevezése"]
[null,null,null,null,null,{"$f":"VLOOKUP(D153,állásidő_kódok!$B:$D,3,0)","v":{"$error":"#N/A"}},null,null,null,null,null,null,null,{"$f":"VLOOKUP(L153,állásidő_kódok!$B:$D,3,0)","v":{"$error":"#N/A"}},null,null,null,null,null,null,null,{"$f":"VLOOKUP(T153,állásidő_kódok!$B:$D,3,0)","v":{"$error":"#N/A"}}]
[null,null,null,null,null,{"$f":"VLOOKUP(D154,állásidő_kódok!$B:$D,3,0)","v":{"$error":"#N/A"}},null,null,null,null,null,null,null,{"$f":"VLOOKUP(L154,állásidő_kódok!$B:$D,3,0)","v":{"$error":"#N/A"}},null,null,null,null,null,null,null,{"$f":"VLOOKUP(T154,állásidő_kódok!$B:$D,3,0)","v":{"$error":"#N/A"}}]
[null,null,null,null,null,{"$f":"VLOOKUP(D155,állásidő_kódok!$B:$D,3,0)","v":{"$error":"#N/A"}},null,null,null,null,null,null,null,{"$f":"VLOOKUP(L155,állásidő_kódok!$B:$D,3,0)","v":{"$error":"#N/A"}},null,null,null,null,null,null,null,{"$f":"VLOOKUP(T155,állásidő_kódok!$B:$D,3,0)","v":{"$error":"#N/A"}}]
[null,null,null,null,null,{"$f":"VLOOKUP(D156,állásidő_kódok!$B:$D,3,0)","v":{"$error":"#N/A"}},null,null,null,null,null,null,null,{"$f":"VLOOKUP(L156,állásidő_kódok!$B:$D,3,0)","v":{"$error":"#N/A"}},null,null,null,null,null,null,null,{"$f":"VLOOKUP(T156,állásidő_kódok!$B:$D,3,0)","v":{"$error":"#N/A"}}]
[null,null,null,null,null,{"$f":"VLOOKUP(D157,állásidő_kódok!$B:$D,3,0)","v":{"$error":"#N/A"}},null,null,null,null,null,null,null,{"$f":"VLOOKUP(L157,állásidő_kódok!$B:$D,3,0)","v":{"$error":"#N/A"}},null,null,null,null,null,null,null,{"$f":"VLOOKUP(T157,állásidő_kódok!$B:$D,3,0)","v":{"$error":"#N/A"}}]
[null,null,null,null,null,{"$f":"VLOOKUP(D158,állásidő_kódok!$B:$D,3,0)","v":{"$error":"#N/A"}},null,null,null,null,null,null,null,{"$f":"VLOOKUP(L158,állásidő_kódok!$B:$D,3,0)","v":{"$error":"#N/A"}},null,null,null,null,null,null,null,{"$f":"VLOOKUP(T158,állásidő_kódok!$B:$D,3,0)","v":{"$error":"#N/A"}}]
[null,null,null,null,null,{"$f":"VLOOKUP(D159,állásidő_kódok!$B:$D,3,0)","v":{"$error":"#N/A"}},null,null,null,null,null,null,null,{"$f":"VLOOKUP(L159,állásidő_kódok!$B:$D,3,0)","v":{"$error":"#N/A"}},null,null,null,null,null,null,null,{"$f":"VLOOKUP(T159,állásidő_kódok!$B:$D,3,0)","v":{"$error":"#N/A"}}]
[null,null,null,null,null,{"$f":"VLOOKUP(D160,állásidő_kódok!$B:$D,3,0)","v":{"$error":"#N/A"}},null,null,null,null,null,null,null,{"$f":"VLOOKUP(L160,állásidő_kódok!$B:$D,3,0)","v":{"$error":"#N/A"}},null,null,null,null,null,null,null,{"$f":"VLOOKUP(T160,állásidő_kódok!$B:$D,3,0)","v":{"$error":"#N/A"}}]
[null,null,null,null,null,{"$f":"VLOOKUP(D161,állásidő_kódok!$B:$D,3,0)","v":{"$error":"#N/A"}},null,null,null,null,null,null,null,{"$f":"VLOOKUP(L161,állásidő_kódok!$B:$D,3,0)","v":{"$error":"#N/A"}},null,null,null,null,null,null,null,{"$f":"VLOOKUP(T161,állásidő_kódok!$B:$D,3,0)","v":{"$error":"#N/A"}}]
[null,null,null,null,null,{"$f":"VLOOKUP(D162,állásidő_kódok!$B:$D,3,0)","v":{"$error":"#N/A"}},null,null,null,null,null,null,null,{"$f":"VLOOKUP(L162,állásidő_kódok!$B:$D,3,0)","v":{"$error":"#N/A"}},null,null,null,null,null,null,null,{"$f":"VLOOKUP(T162,állásidő_kódok!$B:$D,3,0)","v":{"$error":"#N/A"}}]
[null,null,null,null,"Állásidők nélküli teljesítés:",{"$f":"((SUM(E153:E162)/445))+E135/E137","v":{"$error":"#DIV/0!"}},null,null,null,null,null,null,"Állásidők nélküli teljesítés:",{"$f":"((SUM(M153:M162)/445))+M135/M137","v":0.85},null,null,null,null,null,null,"Állásidők nélküli teljesítés:",{"$f":"((SUM(U153:U162)/445))+U135/U137","v":{"$error":"#DIV/0!"}}]
[null,{"$f":"Alapadatok!C8","v":"DE cella"},null,null,null,null,null,null,null,{"$f":"B164","v":"DE cella"},null,null,null,null,null,null,null,{"$f":"B164","v":"DE cella"}]
[null,null,null,"Gyártott:",42,"db",null,null,null,null,null,"Gyártott:",35,"db",null,null,null,null,null,"Gyártott:",6,"db"]
[]
[null,null,null,"Elvárt darabszám:",52,"db",null,"Elvárt db/op:",26,null,null,"Elvárt darabszám:",52,"db",null,"Elvárt db/op:",26,null,null,"Elvárt darabszám:",52,"db",null,"Elvárt db/op:",26]
[null,null,null,"Szükséges létszám: ",2,"fő",null,null,null,null,null,"Szükséges létszám:",2,"fő",null,null,null,null,null,"Szükséges létszám:",2,"fő"]
[null,null,null,"Aktuális létszám:",2,"fő",null,"Aktuális db/op:",21,null,null,"Aktuális létszám:",1,"fő",null,"Aktuális db/op:",35,null,null,"Aktuális létszám:",0,"fő",null,"Aktuális db/op:",0]
[]
[null,null,null,"Operátor",2,"fő",null,null,null,null,null,"Operátor",1,"fő",null,null,null,null,null,"Operátor",1,"fő"]
[null,null,null,"Koordinátor",null,"fő",null,null,null,null,null,"Koordinátor",null,"fő",null,null,null,null,null,"Koordinátor",null,"fő"]
[null,null,null,"Beállító",null,"fő",null,null,null,null,null,"Beállító",null,"fő",null,null,null,null,null,"Beállító",null,"fő"]
[null,null,null,"QA, Service",null,"fő",null,null,null,null,null,"QA, Service",null,"fő",null,null,null,null,null,"QA, Service",null,"fő"]
[null,null,null,"Anyagszállító",null,"fő",null,null,null,null,null,"Anyagszállító",null,"fő",null,null,null,null,null,"Anyagszállító",null,"fő"]
[null,null,null,"Egyéb",null,"fő",null,null,null,null,null,"Egyéb",null,"fő",null,null,null,null,null,"Egyéb",null,"fő"]
[]
[null,null,null,"Backlog:",null,"sorok száma",null,null,null,null,null,"Backlog:",null,"sorok száma",null,null,null,null,null,"Backlog:",null,"sorok száma"]
[]
[null,null,null,"Backlog:",null,"összes darab",null,null,null,null,null,"Backlog:",null,"összes darab",null,null,null,null,null,"Backlog:",null,"összes darab"]
[]
[null,null,null,"Kód:","Időtartam","Állásidő megnevezése",null,null,null,null,null,"Kód:","Időtartam","Állásidő megnevezése",null,null,null,null,null,"Kód:","Időtartam","Állásidő megnevezése"]
[null,null,null,311,60,{"$f":"VLOOKUP(D183,állásidő_kódok!$B:$D,3,0)","v":"G - DE cella robothiba"},null,null,null,null,null,201,150,{"$f":"VLOOKUP(L183,állásidő_kódok!$B:$D,3,0)","v":"AE-Alapanyaghiány (GW)"},null,null,null,null,null,201,400,{"$f":"VLOOKUP(T183,állásidő_kódok!$B:$D,3,0)","v":"AE-Alapanyaghiány (GW)"}]
[null,null,null,null,null,{"$f":"VLOOKUP(D184,állásidő_kódok!$B:$D,3,0)","v":{"$error":"#N/A"}},null,null,null,null,null,null,null,{"$f":"VLOOKUP(L184,állásidő_kódok!$B:$D,3,0)","v":{"$error":"#N/A"}},null,null,null,null,null,null,null,{"$f":"VLOOKUP(T184,állásidő_kódok!$B:$D,3,0)","v":{"$error":"#N/A"}}]
[null,null,null,null,null,{"$f":"VLOOKUP(D185,állásidő_kódok!$B:$D,3,0)","v":{"$error":"#N/A"}},null,null,null,null,null,null,null,{"$f":"VLOOKUP(L185,állásidő_kódok!$B:$D,3,0)","v":{"$error":"#N/A"}},null,null,null,null,null,null,null,{"$f":"VLOOKUP(T185,állásidő_kódok!$B:$D,3,0)","v":{"$error":"#N/A"}}]
[null,null,null,null,null,{"$f":"VLOOKUP(D186,állásidő_kódok!$B:$D,3,0)","v":{"$error":"#N/A"}},null,null,null,null,null,null,null,{"$f":"VLOOKUP(L186,állásidő_kódok!$B:$D,3,0)","v":{"$error":"#N/A"}},null,null,null,null,null,null,null,{"$f":"VLOOKUP(T186,állásidő_kódok!$B:$D,3,0)","v":{"$error":"#N/A"}}]
[null,null,null,null,null,{"$f":"VLOOKUP(D187,állásidő_kódok!$B:$D,3,0)","v":{"$error":"#N/A"}},null,null,null,null,null,null,null,{"$f":"VLOOKUP(L187,állásidő_kódok!$B:$D,3,0)","v":{"$error":"#N/A"}},null,null,null,null,null,null,null,{"$f":"VLOOKUP(T187,állásidő_kódok!$B:$D,3,0)","v":{"$error":"#N/A"}}]
[null,null,null,null,null,{"$f":"VLOOKUP(D188,állásidő_kódok!$B:$D,3,0)","v":{"$error":"#N/A"}},null,null,null,null,null,null,null,{"$f":"VLOOKUP(L188,állásidő_kódok!$B:$D,3,0)","v":{"$error":"#N/A"}},null,null,null,null,null,null,null,{"$f":"VLOOKUP(T188,állásidő_kódok!$B:$D,3,0)","v":{"$error":"#N/A"}}]
[null,null,null,null,null,{"$f":"VLOOKUP(D189,állásidő_kódok!$B:$D,3,0)","v":{"$error":"#N/A"}},null,null,null,null,null,null,null,{"$f":"VLOOKUP(L189,állásidő_kódok!$B:$D,3,0)","v":{"$error":"#N/A"}},null,null,null,null,null,null,null,{"$f":"VLOOKUP(T189,állásidő_kódok!$B:$D,3,0)","v":{"$error":"#N/A"}}]
[null,null,null,null,null,{"$f":"VLOOKUP(D190,állásidő_kódok!$B:$D,3,0)","v":{"$error":"#N/A"}},null,null,null,null,null,null,null,{"$f":"VLOOKUP(L190,állásidő_kódok!$B:$D,3,0)","v":{"$error":"#N/A"}},null,null,null,null,null,null,null,{"$f":"VLOOKUP(T190,állásidő_kódok!$B:$D,3,0)","v":{"$error":"#N/A"}}]
[null,null,null,null,null,{"$f":"VLOOKUP(D191,állásidő_kódok!$B:$D,3,0)","v":{"$error":"#N/A"}},null,null,null,null,null,null,null,{"$f":"VLOOKUP(L191,állásidő_kódok!$B:$D,3,0)","v":{"$error":"#N/A"}},null,null,null,null,null,null,null,{"$f":"VLOOKUP(T191,állásidő_kódok!$B:$D,3,0)","v":{"$error":"#N/A"}}]
[null,null,null,null,null,{"$f":"VLOOKUP(D192,állásidő_kódok!$B:$D,3,0)","v":{"$error":"#N/A"}},null,null,null,null,null,null,null,{"$f":"VLOOKUP(L192,állásidő_kódok!$B:$D,3,0)","v":{"$error":"#N/A"}},null,null,null,null,null,null,null,{"$f":"VLOOKUP(T192,állásidő_kódok!$B:$D,3,0)","v":{"$error":"#N/A"}}]
[null,null,null,null,"Állásidők nélküli teljesítés:",{"$f":"((SUM(E183:E192)/445))+E165/E167","v":0.94252376836646501},null,null,null,null,null,null,"Állásidők nélküli teljesítés:",{"$f":"((SUM(M183:M192)/445))+M165/M167","v":1.0101555747623163},null,null,null,null,null,null,"Állásidők nélküli teljesítés:",{"$f":"((SUM(U183:U192)/445))+U165/U167","v":1.0142610198789974}]
[null,{"$f":"Alapadatok!C9","v":"NDE cella"},null,null,null,null,null,null,null,{"$f":"B194","v":"NDE cella"},null,null,null,null,null,null,null,{"$f":"B194","v":"NDE cella"}]
[null,null,null,"Gyártott:",0,"db",null,null,null,null,null,"Gyártott:",95,"db",null,null,null,null,null,"Gyártott:",95,"db"]
[]
[null,null,null,"Elvárt darabszám:",95,"db",null,"Elvárt db/op:",95,null,null,"Elvárt darabszám:",95,"db",null,"Elvárt db/op:",95,null,null,"Elvárt darabszám:",95,"db",null,"Elvárt db/op:",95]
[null,null,null,"Szükséges létszám: ",1,"fő",null,null,null,null,null,"Szükséges létszám:",1,"fő",null,null,null,null,null,"Szükséges létszám:",1,"fő"]
[null,null,null,"Aktuális létszám:",0,"fő",null,"Aktuális db/op:",0,null,null,"Aktuális létszám:",1,"fő",null,"Aktuális db/op:",95,null,null,"Aktuális létszám:",0,"fő",null,"Aktuális db/op:",0]
[]
[null,null,null,"Operátor",0,"fő",null,null,null,null,null,"Operátor",1,"fő",null,null,null,null,null,"Operátor",1,"fő"]
[null,null,null,"Koordinátor",null,"fő",null,null,null,null,null,"Koordinátor",null,"fő",null,null,null,null,null,"Koordinátor",null,"fő"]
[null,null,null,"Beállító",null,"fő",null,null,null,null,null,"Beállító",null,"fő",null,null,null,null,null,"Beállító",null,"fő"]
[null,null,null,"QA, Service",null,"fő",null,null,null,null,null,"QA, Service",null,"fő",null,null,null,null,null,"QA, Service",null,"fő"]
[null,null,null,"Anyagszállító",null,"fő",null,null,null,null,null,"Anyagszállító",null,"fő",null,null,null,null,null,"Anyagszállító",null,"fő"]
[null,null,null,"Egyéb",null,"fő",null,null,null,null,null,"Egyéb",null,"fő",null,null,null,null,null,"Egyéb",null,"fő"]
[]
[null,null,null,"Backlog:",null,"sorok száma",null,null,null,null,null,"Backlog:",null,"sorok száma",null,null,null,null,null,"Backlog:",null,"sorok száma"]
[]
[null,null,null,"Backlog:",null,"összes darab",null,null,null,null,null,"Backlog:",null,"összes darab",null,null,null,null,null,"Backlog:",null,"összes darab"]
[]
[null,null,null,"Kód:","Időtartam","Állásidő megnevezése",null,null,null,null,null,"Kód:","Időtartam","Állásidő megnevezése",null,null,null,null,null,"Kód:","Időtartam","Állásidő megnevezése"]
[null,null,null,null,null,{"$f":"VLOOKUP(D213,állásidő_kódok!$B:$D,3,0)","v":{"$error":"#N/A"}},null,null,null,null,null,null,null,{"$f":"VLOOKUP(L213,állásidő_kódok!$B:$D,3,0)","v":{"$error":"#N/A"}},null,null,null,null,null,null,null,{"$f":"VLOOKUP(T213,állásidő_kódok!$B:$D,3,0)","v":{"$error":"#N/A"}}]
[null,null,null,null,null,{"$f":"VLOOKUP(D214,állásidő_kódok!$B:$D,3,0)","v":{"$error":"#N/A"}},null,null,null,null,null,null,null,{"$f":"VLOOKUP(L214,állásidő_kódok!$B:$D,3,0)","v":{"$error":"#N/A"}},null,null,null,null,null,null,null,{"$f":"VLOOKUP(T214,állásidő_kódok!$B:$D,3,0)","v":{"$error":"#N/A"}}]
[null,null,null,null,null,{"$f":"VLOOKUP(D215,állásidő_kódok!$B:$D,3,0)","v":{"$error":"#N/A"}},null,null,null,null,null,null,null,{"$f":"VLOOKUP(L215,állásidő_kódok!$B:$D,3,0)","v":{"$error":"#N/A"}},null,null,null,null,null,null,null,{"$f":"VLOOKUP(T215,állásidő_kódok!$B:$D,3,0)","v":{"$error":"#N/A"}}]
[null,null,null,null,null,{"$f":"VLOOKUP(D216,állásidő_kódok!$B:$D,3,0)","v":{"$error":"#N/A"}},null,null,null,null,null,null,null,{"$f":"VLOOKUP(L216,állásidő_kódok!$B:$D,3,0)","v":{"$error":"#N/A"}},null,null,null,null,null,null,null,{"$f":"VLOOKUP(T216,állásidő_kódok!$B:$D,3,0)","v":{"$error":"#N/A"}}]
[null,null,null,null,null,{"$f":"VLOOKUP(D217,állásidő_kódok!$B:$D,3,0)","v":{"$error":"#N/A"}},null,null,null,null,null,null,null,{"$f":"VLOOKUP(L217,állásidő_kódok!$B:$D,3,0)","v":{"$error":"#N/A"}},null,null,null,null,null,null,null,{"$f":"VLOOKUP(T217,állásidő_kódok!$B:$D,3,0)","v":{"$error":"#N/A"}}]
[null,null,null,null,null,{"$f":"VLOOKUP(D218,állásidő_kódok!$B:$D,3,0)","v":{"$error":"#N/A"}},null,null,null,null,null,null,null,{"$f":"VLOOKUP(L218,állásidő_kódok!$B:$D,3,0)","v":{"$error":"#N/A"}},null,null,null,null,null,null,null,{"$f":"VLOOKUP(T218,állásidő_kódok!$B:$D,3,0)","v":{"$error":"#N/A"}}]
[null,null,null,null,null,{"$f":"VLOOKUP(D219,állásidő_kódok!$B:$D,3,0)","v":{"$error":"#N/A"}},null,null,null,null,null,null,null,{"$f":"VLOOKUP(L219,állásidő_kódok!$B:$D,3,0)","v":{"$error":"#N/A"}},null,null,null,null,null,null,null,{"$f":"VLOOKUP(T219,állásidő_kódok!$B:$D,3,0)","v":{"$error":"#N/A"}}]
[null,null,null,null,null,{"$f":"VLOOKUP(D220,állásidő_kódok!$B:$D,3,0)","v":{"$error":"#N/A"}},null,null,null,null,null,null,null,{"$f":"VLOOKUP(L220,állásidő_kódok!$B:$D,3,0)","v":{"$error":"#N/A"}},null,null,null,null,null,null,null,{"$f":"VLOOKUP(T220,állásidő_kódok!$B:$D,3,0)","v":{"$error":"#N/A"}}]
[null,null,null,null,null,{"$f":"VLOOKUP(D221,állásidő_kódok!$B:$D,3,0)","v":{"$error":"#N/A"}},null,null,null,null,null,null,null,{"$f":"VLOOKUP(L221,állásidő_kódok!$B:$D,3,0)","v":{"$error":"#N/A"}},null,null,null,null,null,null,null,{"$f":"VLOOKUP(T221,állásidő_kódok!$B:$D,3,0)","v":{"$error":"#N/A"}}]
[null,null,null,null,null,{"$f":"VLOOKUP(D222,állásidő_kódok!$B:$D,3,0)","v":{"$error":"#N/A"}},null,null,null,null,null,null,null,{"$f":"VLOOKUP(L222,állásidő_kódok!$B:$D,3,0)","v":{"$error":"#N/A"}},null,null,null,null,null,null,null,{"$f":"VLOOKUP(T222,állásidő_kódok!$B:$D,3,0)","v":{"$error":"#N/A"}}]
[null,null,null,null,"Állásidők nélküli teljesítés:",{"$f":"((SUM(E213:E222)/445))+E195/E197","v":0},null,null,null,null,null,null,"Állásidők nélküli teljesítés:",{"$f":"((SUM(M213:M222)/445))+M195/M197","v":1},null,null,null,null,null,null,"Állásidők nélküli teljesítés:",{"$f":"((SUM(U213:U222)/445))+U195/U197","v":1}]
[null,{"$f":"Alapadatok!C10","v":"T+R"},null,null,null,null,null,null,null,{"$f":"B224","v":"T+R"},null,null,null,null,null,null,null,{"$f":"B224","v":"T+R"}]
[null,null,null,"Gyártott:",36,"db",null,null,null,null,null,"Gyártott:",45,"db",null,null,null,null,null,"Gyártott:",32,"db"]
[]
[null,null,null,"Elvárt darabszám:",54,"db",null,"Elvárt db/op:",18,null,null,"Elvárt darabszám:",54,"db",null,"Elvárt db/op:",18,null,null,"Elvárt darabszám:",54,"db",null,"Elvárt db/op:",18]
[null,null,null,"Szükséges létszám: ",3,"fő",null,null,null,null,null,"Szükséges létszám:",3,"fő",null,null,null,null,null,"Szükséges létszám:",3,"fő"]
[null,null,null,"Aktuális létszám:",2,"fő",null,"Aktuális db/op:",18,null,null,"Aktuális létszám:",4,"fő",null,"Aktuális db/op:",11.25,null,null,"Aktuális létszám:",0,"fő",null,"Aktuális db/op:",0]
[]
[null,null,null,"Operátor",2,"fő",null,null,null,null,null,"Operátor",3,"fő",null,null,null,null,null,"Operátor",3,"fő"]
[null,null,null,"Koordinátor",null,"fő",null,null,null,null,null,"Koordinátor",1,"fő",null,null,null,null,null,"Koordinátor",null,"fő"]
[null,null,null,"Beállító",null,"fő",null,null,null,null,null,"Beállító",null,"fő",null,null,null,null,null,"Beállító",null,"fő"]
[null,null,null,"QA, Service",null,"fő",null,null,null,null,null,"QA, Service",null,"fő",null,null,null,null,null,"QA, Service",null,"fő"]
[null,null,null,"Anyagszállító",null,"fő",null,null,null,null,null,"Anyagszállító",null,"fő",null,null,null,null,null,"Anyagszállító",null,"fő"]
[null,null,null,"Egyéb",null,"fő",null,null,null,null,null,"Egyéb",null,"fő",null,null,null,null,null,"Egyéb",null,"fő"]
[]
[null,null,null,"Backlog:",null,"sorok száma",null,null,null,null,null,"Backlog:",null,"sorok száma",null,null,null,null,null,"Backlog:",null,"sorok száma"]
[]
[null,null,null,"Backlog:",null,"összes darab",null,null,null,null,null,"Backlog:",null,"összes darab",null,null,null,null,null,"Backlog:",null,"összes darab"]
[]
[null,null,null,"Kód:","Időtartam","Állásidő megnevezése",null,null,null,null,null,"Kód:","Időtartam","Állásidő megnevezése",null,null,null,null,null,"Kód:","Időtartam","Állásidő megnevezése"]
[null,null,null,1,150,{"$f":"VLOOKUP(D243,állásidő_kódok!$B:$D,3,0)","v":"E-I. - Emberi erőforrás hiány"},null,null,null,null,null,316,90,{"$f":"VLOOKUP(L243,állásidő_kódok!$B:$D,3,0)","v":"G - Szakszerviz"},null,null,null,null,null,316,150,{"$f":"VLOOKUP(T243,állásidő_kódok!$B:$D,3,0)","v":"G - Szakszerviz"}]
[null,null,null,null,null,{"$f":"VLOOKUP(D244,állásidő_kódok!$B:$D,3,0)","v":{"$error":"#N/A"}},null,null,null,null,null,null,null,{"$f":"VLOOKUP(L244,állásidő_kódok!$B:$D,3,0)","v":{"$error":"#N/A"}},null,null,null,null,null,310,30,{"$f":"VLOOKUP(T244,állásidő_kódok!$B:$D,3,0)","v":"G - Átállás"}]
[null,null,null,null,null,{"$f":"VLOOKUP(D245,állásidő_kódok!$B:$D,3,0)","v":{"$error":"#N/A"}},null,null,null,null,null,null,null,{"$f":"VLOOKUP(L245,állásidő_kódok!$B:$D,3,0)","v":{"$error":"#N/A"}},null,null,null,null,null,null,null,{"$f":"VLOOKUP(T245,állásidő_kódok!$B:$D,3,0)","v":{"$error":"#N/A"}}]
[null,null,null,null,null,{"$f":"VLOOKUP(D246,állásidő_kódok!$B:$D,3,0)","v":{"$error":"#N/A"}},null,null,null,null,null,null,null,{"$f":"VLOOKUP(L246,állásidő_kódok!$B:$D,3,0)","v":{"$error":"#N/A"}},null,null,null,null,null,null,null,{"$f":"VLOOKUP(T246,állásidő_kódok!$B:$D,3,0)","v":{"$error":"#N/A"}}]
[null,null,null,null,null,{"$f":"VLOOKUP(D247,állásidő_kódok!$B:$D,3,0)","v":{"$error":"#N/A"}},null,null,null,null,null,null,null,{"$f":"VLOOKUP(L247,állásidő_kódok!$B:$D,3,0)","v":{"$error":"#N/A"}},null,null,null,null,null,null,null,{"$f":"VLOOKUP(T247,állásidő_kódok!$B:$D,3,0)","v":{"$error":"#N/A"}}]
[null,null,null,null,null,{"$f":"VLOOKUP(D248,állásidő_kódok!$B:$D,3,0)","v":{"$error":"#N/A"}},null,null,null,null,null,null,null,{"$f":"VLOOKUP(L248,állásidő_kódok!$B:$D,3,0)","v":{"$error":"#N/A"}},null,null,null,null,null,null,null,{"$f":"VLOOKUP(T248,állásidő_kódok!$B:$D,3,0)","v":{"$error":"#N/A"}}]
[null,null,null,null,null,{"$f":"VLOOKUP(D249,állásidő_kódok!$B:$D,3,0)","v":{"$error":"#N/A"}},null,null,null,null,null,null,null,{"$f":"VLOOKUP(L249,állásidő_kódok!$B:$D,3,0)","v":{"$error":"#N/A"}},null,null,null,null,null,null,null,{"$f":"VLOOKUP(T249,állásidő_kódok!$B:$D,3,0)","v":{"$error":"#N/A"}}]
[null,null,null,null,null,{"$f":"VLOOKUP(D250,állásidő_kódok!$B:$D,3,0)","v":{"$error":"#N/A"}},null,null,null,null,null,null,null,{"$f":"VLOOKUP(L250,állásidő_kódok!$B:$D,3,0)","v":{"$error":"#N/A"}},null,null,null,null,null,null,null,{"$f":"VLOOKUP(T250,állásidő_kódok!$B:$D,3,0)","v":{"$error":"#N/A"}}]
[null,null,null,null,null,{"$f":"VLOOKUP(D251,állásidő_kódok!$B:$D,3,0)","v":{"$error":"#N/A"}},null,null,null,null,null,null,null,{"$f":"VLOOKUP(L251,állásidő_kódok!$B:$D,3,0)","v":{"$error":"#N/A"}},null,null,null,null,null,null,null,{"$f":"VLOOKUP(T251,állásidő_kódok!$B:$D,3,0)","v":{"$error":"#N/A"}}]
[null,null,null,null,null,{"$f":"VLOOKUP(D252,állásidő_kódok!$B:$D,3,0)","v":{"$error":"#N/A"}},null,null,null,null,null,null,null,{"$f":"VLOOKUP(L252,állásidő_kódok!$B:$D,3,0)","v":{"$error":"#N/A"}},null,null,null,null,null,null,null,{"$f":"VLOOKUP(T252,állásidő_kódok!$B:$D,3,0)","v":{"$error":"#N/A"}}]
[null,null,null,null,"Állásidők nélküli teljesítés:",{"$f":"((SUM(E243:E252)/445))+E225/E227","v":1.0037453183520599},null,null,null,null,null,null,"Állásidők nélküli teljesítés:",{"$f":"((SUM(M243:M252)/445))+M225/M227","v":1.0355805243445693},null,null,null,null,null,null,"Állásidők nélküli teljesítés:",{"$f":"((SUM(U243:U252)/445))+U225/U227","v":0.99708697461506446}]
[null,{"$f":"Alapadatok!C11","v":"Cella7"},null,null,null,null,null,null,null,{"$f":"B254","v":"Cella7"},null,null,null,null,null,null,null,{"$f":"B254","v":"Cella7"}]
[null,null,null,"Gyártott:",null,"db",null,null,null,null,null,"Gyártott:",null,"db",null,null,null,null,null,"Gyártott:",null,"db"]
[]
[null,null,null,"Elvárt darabszám:",0,"db",null,"Elvárt db/op:",0,null,null,"Elvárt darabszám:",0,"db",null,"Elvárt db/op:",0,null,null,"Elvárt darabszám:",0,"db",null,"Elvárt db/op:",0]
[null,null,null,"Szükséges létszám: ",0,"fő",null,null,null,null,null,"Szükséges létszám:",0,"fő",null,null,null,null,null,"Szükséges létszám:",0,"fő"]
[null,null,null,"Aktuális létszám:",0,"fő",null,"Aktuális db/op:",0,null,null,"Aktuális létszám:",0,"fő",null,"Aktuális db/op:",0,null,null,"Aktuális létszám:",0,"fő",null,"Aktuális db/op:",0]
[]
[null,null,null,"Operátor",null,"fő",null,null,null,null,null,"Operátor",null,"fő",null,null,null,null,null,"Operátor",null,"fő"]
[null,null,null,"Koordinátor",null,"fő",null,null,null,null,null,"Koordinátor",null,"fő",null,null,null,null,null,"Koordinátor",null,"fő"]
[null,null,null,"Beállító",null,"fő",null,null,null,null,null,"Beállító",null,"fő",null,null,null,null,null,"Beállító",null,"fő"]
[null,null,null,"QA, Service",null,"fő",null,null,null,null,null,"QA, Service",null,"fő",null,null,null,null,null,"QA, Service",null,"fő"]
[null,null,null,"Anyagszállító",null,"fő",null,null,null,null,null,"Anyagszállító",null,"fő",null,null,null,null,null,"Anyagszállító",null,"fő"]
[null,null,null,"Egyéb",null,"fő",null,null,null,null,null,"Egyéb",null,"fő",null,null,null,null,null,"Egyéb",null,"fő"]
[]
[null,null,null,"Backlog:",null,"sorok száma",null,null,null,null,null,"Backlog:",null,"sorok száma",null,null,null,null,null,"Backlog:",null,"sorok száma"]
[]
[null,null,null,"Backlog:",null,"összes darab",null,null,null,null,null,"Backlog:",null,"összes darab",null,null,null,null,null,"Backlog:",null,"összes darab"]
[]
[null,null,null,"Kód:","Időtartam","Állásidő megnevezése",null,null,null,null,null,"Kód:","Időtartam","Állásidő megnevezése",null,null,null,null,null,"Kód:","Időtartam","Állásidő megnevezése"]
[null,null,null,null,null,{"$f":"VLOOKUP(D273,állásidő_kódok!$B:$D,3,0)","v":{"$error":"#N/A"}},null,null,null,null,null,null,null,{"$f":"VLOOKUP(L273,állásidő_kódok!$B:$D,3,0)","v":{"$error":"#N/A"}},null,null,null,null,null,null,null,{"$f":"VLOOKUP(T273,állásidő_kódok!$B:$D,3,0)","v":{"$error":"#N/A"}}]
[null,null,null,null,null,{"$f":"VLOOKUP(D274,állásidő_kódok!$B:$D,3,0)","v":{"$error":"#N/A"}},null,null,null,null,null,null,null,{"$f":"VLOOKUP(L274,állásidő_kódok!$B:$D,3,0)","v":{"$error":"#N/A"}},null,null,null,null,null,null,null,{"$f":"VLOOKUP(T274,állásidő_kódok!$B:$D,3,0)","v":{"$error":"#N/A"}}]
[null,null,null,null,null,{"$f":"VLOOKUP(D275,állásidő_kódok!$B:$D,3,0)","v":{"$error":"#N/A"}},null,null,null,null,null,null,null,{"$f":"VLOOKUP(L275,állásidő_kódok!$B:$D,3,0)","v":{"$error":"#N/A"}},null,null,null,null,null,null,null,{"$f":"VLOOKUP(T275,állásidő_kódok!$B:$D,3,0)","v":{"$error":"#N/A"}}]
[null,null,null,null,null,{"$f":"VLOOKUP(D276,állásidő_kódok!$B:$D,3,0)","v":{"$error":"#N/A"}},null,null,null,null,null,null,null,{"$f":"VLOOKUP(L276,állásidő_kódok!$B:$D,3,0)","v":{"$error":"#N/A"}},null,null,null,null,null,null,null,{"$f":"VLOOKUP(T276,állásidő_kódok!$B:$D,3,0)","v":{"$error":"#N/A"}}]
[null,null,null,null,null,{"$f":"VLOOKUP(D277,állásidő_kódok!$B:$D,3,0)","v":{"$error":"#N/A"}},null,null,null,null,null,null,null,{"$f":"VLOOKUP(L277,állásidő_kódok!$B:$D,3,0)","v":{"$error":"#N/A"}},null,null,null,null,null,null,null,{"$f":"VLOOKUP(T277,állásidő_kódok!$B:$D,3,0)","v":{"$error":"#N/A"}}]
[null,null,null,null,null,{"$f":"VLOOKUP(D278,állásidő_kódok!$B:$D,3,0)","v":{"$error":"#N/A"}},null,null,null,null,null,null,null,{"$f":"VLOOKUP(L278,állásidő_kódok!$B:$D,3,0)","v":{"$error":"#N/A"}},null,null,null,null,null,null,null,{"$f":"VLOOKUP(T278,állásidő_kódok!$B:$D,3,0)","v":{"$error":"#N/A"}}]
[null,null,null,null,null,{"$f":"VLOOKUP(D279,állásidő_kódok!$B:$D,3,0)","v":{"$error":"#N/A"}},null,null,null,null,null,null,null,{"$f":"VLOOKUP(L279,állásidő_kódok!$B:$D,3,0)","v":{"$error":"#N/A"}},null,null,null,null,null,null,null,{"$f":"VLOOKUP(T279,állásidő_kódok!$B:$D,3,0)","v":{"$error":"#N/A"}}]
[null,null,null,null,null,{"$f":"VLOOKUP(D280,állásidő_kódok!$B:$D,3,0)","v":{"$error":"#N/A"}},null,null,null,null,null,null,null,{"$f":"VLOOKUP(L280,állásidő_kódok!$B:$D,3,0)","v":{"$error":"#N/A"}},null,null,null,null,null,null,null,{"$f":"VLOOKUP(T280,állásidő_kódok!$B:$D,3,0)","v":{"$error":"#N/A"}}]
[null,null,null,null,null,{"$f":"VLOOKUP(D281,állásidő_kódok!$B:$D,3,0)","v":{"$error":"#N/A"}},null,null,null,null,null,null,null,{"$f":"VLOOKUP(L281,állásidő_kódok!$B:$D,3,0)","v":{"$error":"#N/A"}},null,null,null,null,null,null,null,{"$f":"VLOOKUP(T281,állásidő_kódok!$B:$D,3,0)","v":{"$error":"#N/A"}}]
[null,null,null,null,null,{"$f":"VLOOKUP(D282,állásidő_kódok!$B:$D,3,0)","v":{"$error":"#N/A"}},null,null,null,null,null,null,null,{"$f":"VLOOKUP(L282,állásidő_kódok!$B:$D,3,0)","v":{"$error":"#N/A"}},null,null,null,null,null,null,null,{"$f":"VLOOKUP(T282,állásidő_kódok!$B:$D,3,0)","v":{"$error":"#N/A"}}]
[null,null,null,null,"Állásidők nélküli teljesítés:",{"$f":"((SUM(E273:E282)/445))+E255/E257","v":{"$error":"#DIV/0!"}},null,null,null,null,null,null,"Állásidők nélküli teljesítés:",{"$f":"((SUM(M273:M282)/445))+M255/M257","v":{"$error":"#DIV/0!"}},null,null,null,null,null,null,"Állásidők nélküli teljesítés:",{"$f":"((SUM(U273:U282)/445))+U255/U257","v":{"$error":"#DIV/0!"}}]
[null,{"$f":"Alapadatok!C12","v":"Cella8"},null,null,null,null,null,null,null,{"$f":"B284","v":"Cella8"},null,null,null,null,null,null,null,{"$f":"B284","v":"Cella8"}]
[null,null,null,"Gyártott:",null,"db",null,null,null,null,null,"Gyártott:",null,"db",null,null,null,null,null,"Gyártott:",null,"db"]
[]
[null,null,null,"Elvárt darabszám:",0,"db",null,"Elvárt db/op:",0,null,null,"Elvárt darabszám:",0,"db",null,"Elvárt db/op:",0,null,null,"Elvárt darabszám:",0,"db",null,"Elvárt db/op:",0]
[null,null,null,"Szükséges létszám: ",0,"fő",null,null,null,null,null,"Szükséges létszám:",0,"fő",null,null,null,null,null,"Szükséges létszám:",0,"fő"]
[null,null,null,"Aktuális létszám:",0,"fő",null,"Aktuális db/op:",0,null,null,"Aktuális létszám:",0,"fő",null,"Aktuális db/op:",0,null,null,"Aktuális létszám:",0,"fő",null,"Aktuális db/op:",0]
[]
[null,null,null,"Operátor",null,"fő",null,null,null,null,null,"Operátor",null,"fő",null,null,null,null,null,"Operátor",null,"fő"]
[null,null,null,"Koordinátor",null,"fő",null,null,null,null,null,"Koordinátor",null,"fő",null,null,null,null,null,"Koordinátor",null,"fő"]
[null,null,null,"Beállító",null,"fő",null,null,null,null,null,"Beállító",null,"fő",null,null,null,null,null,"Beállító",null,"fő"]
[null,null,null,"QA, Service",null,"fő",null,null,null,null,null,"QA, Service",null,"fő",null,null,null,null,null,"QA, Service",null,"fő"]
[null,null,null,"Anyagszállító",null,"fő",null,null,null,null,null,"Anyagszállító",null,"fő",null,null,null,null,null,"Anyagszállító",null,"fő"]
[null,null,null,"Egyéb",null,"fő",null,null,null,null,null,"Egyéb",null,"fő",null,null,null,null,null,"Egyéb",null,"fő"]
[]
[null,null,null,"Backlog:",null,"sorok száma",null,null,null,null,null,"Backlog:",null,"sorok száma",null,null,null,null,null,"Backlog:",null,"sorok száma"]
[]
[null,null,null,"Backlog:",null,"összes darab",null,null,null,null,null,"Backlog:",null,"összes darab",null,null,null,null,null,"Backlog:",null,"összes darab"]
[]
[null,null,null,"Kód:","Időtartam","Állásidő megnevezése",null,null,null,null,null,"Kód:","Időtartam","Állásidő megnevezése",null,null,null,null,null,"Kód:","Időtartam","Állásidő megnevezése"]
[null,null,null,null,null,{"$f":"VLOOKUP(D303,állásidő_kódok!$B:$D,3,0)","v":{"$error":"#N/A"}},null,null,null,null,null,null,null,{"$f":"VLOOKUP(L303,állásidő_kódok!$B:$D,3,0)","v":{"$error":"#N/A"}},null,null,null,null,null,null,null,{"$f":"VLOOKUP(T303,állásidő_kódok!$B:$D,3,0)","v":{"$error":"#N/A"}}]
[null,null,null,null,null,{"$f":"VLOOKUP(D304,állásidő_kódok!$B:$D,3,0)","v":{"$error":"#N/A"}},null,null,null,null,null,null,null,{"$f":"VLOOKUP(L304,állásidő_kódok!$B:$D,3,0)","v":{"$error":"#N/A"}},null,null,null,null,null,null,null,{"$f":"VLOOKUP(T304,állásidő_kódok!$B:$D,3,0)","v":{"$error":"#N/A"}}]
[null,null,null,null,null,{"$f":"VLOOKUP(D305,állásidő_kódok!$B:$D,3,0)","v":{"$error":"#N/A"}},null,null,null,null,null,null,null,{"$f":"VLOOKUP(L305,állásidő_kódok!$B:$D,3,0)","v":{"$error":"#N/A"}},null,null,null,null,null,null,null,{"$f":"VLOOKUP(T305,állásidő_kódok!$B:$D,3,0)","v":{"$error":"#N/A"}}]
[null,null,null,null,null,{"$f":"VLOOKUP(D306,állásidő_kódok!$B:$D,3,0)","v":{"$error":"#N/A"}},null,null,null,null,null,null,null,{"$f":"VLOOKUP(L306,állásidő_kódok!$B:$D,3,0)","v":{"$error":"#N/A"}},null,null,null,null,null,null,null,{"$f":"VLOOKUP(T306,állásidő_kódok!$B:$D,3,0)","v":{"$error":"#N/A"}}]
[null,null,null,null,null,{"$f":"VLOOKUP(D307,állásidő_kódok!$B:$D,3,0)","v":{"$error":"#N/A"}},null,null,null,null,null,null,null,{"$f":"VLOOKUP(L307,állásidő_kódok!$B:$D,3,0)","v":{"$error":"#N/A"}},null,null,null,null,null,null,null,{"$f":"VLOOKUP(T307,állásidő_kódok!$B:$D,3,0)","v":{"$error":"#N/A"}}]
[null,null,null,null,null,{"$f":"VLOOKUP(D308,állásidő_kódok!$B:$D,3,0)","v":{"$error":"#N/A"}},null,null,null,null,null,null,null,{"$f":"VLOOKUP(L308,állásidő_kódok!$B:$D,3,0)","v":{"$error":"#N/A"}},null,null,null,null,null,null,null,{"$f":"VLOOKUP(T308,állásidő_kódok!$B:$D,3,0)","v":{"$error":"#N/A"}}]
[null,null,null,null,null,{"$f":"VLOOKUP(D309,állásidő_kódok!$B:$D,3,0)","v":{"$error":"#N/A"}},null,null,null,null,null,null,null,{"$f":"VLOOKUP(L309,állásidő_kódok!$B:$D,3,0)","v":{"$error":"#N/A"}},null,null,null,null,null,null,null,{"$f":"VLOOKUP(T309,állásidő_kódok!$B:$D,3,0)","v":{"$error":"#N/A"}}]
[null,null,null,null,null,{"$f":"VLOOKUP(D310,állásidő_kódok!$B:$D,3,0)","v":{"$error":"#N/A"}},null,null,null,null,null,null,null,{"$f":"VLOOKUP(L310,állásidő_kódok!$B:$D,3,0)","v":{"$error":"#N/A"}},null,null,null,null,null,null,null,{"$f":"VLOOKUP(T310,állásidő_kódok!$B:$D,3,0)","v":{"$error":"#N/A"}}]
[null,null,null,null,null,{"$f":"VLOOKUP(D311,állásidő_kódok!$B:$D,3,0)","v":{"$error":"#N/A"}},null,null,null,null,null,null,null,{"$f":"VLOOKUP(L311,állásidő_kódok!$B:$D,3,0)","v":{"$error":"#N/A"}},null,null,null,null,null,null,null,{"$f":"VLOOKUP(T311,állásidő_kódok!$B:$D,3,0)","v":{"$error":"#N/A"}}]
[null,null,null,null,null,{"$f":"VLOOKUP(D312,állásidő_kódok!$B:$D,3,0)","v":{"$error":"#N/A"}},null,null,null,null,null,null,null,{"$f":"VLOOKUP(L312,állásidő_kódok!$B:$D,3,0)","v":{"$error":"#N/A"}},null,null,null,null,null,null,null,{"$f":"VLOOKUP(T312,állásidő_kódok!$B:$D,3,0)","v":{"$error":"#N/A"}}]
[null,null,null,null,"Állásidők nélküli teljesítés:",{"$f":"((SUM(E303:E312)/445))+E285/E287","v":{"$error":"#DIV/0!"}},null,null,null,null,null,null,"Állásidők nélküli teljesítés:",{"$f":"((SUM(M303:M312)/445))+M285/M287","v":{"$error":"#DIV/0!"}},null,null,null,null,null,null,"Állásidők nélküli teljesítés:",{"$f":"((SUM(U303:U312)/445))+U285/U287","v":{"$error":"#DIV/0!"}}]
[null,{"$f":"Alapadatok!C13","v":"Cella9"},null,null,null,null,null,null,null,{"$f":"B314","v":"Cella9"},null,null,null,null,null,null,null,{"$f":"B314","v":"Cella9"}]
[null,null,null,"Gyártott:",null,"db",null,null,null,null,null,"Gyártott:",null,"db",null,null,null,null,null,"Gyártott:",null,"db"]
[]
[null,null,null,"Elvárt darabszám:",0,"db",null,"Elvárt db/op:",0,null,null,"Elvárt darabszám:",0,"db",null,"Elvárt db/op:",0,null,null,"Elvárt darabszám:",0,"db",null,"Elvárt db/op:",0]
[null,null,null,"Szükséges létszám: ",0,"fő",null,null,null,null,null,"Szükséges létszám:",0,"fő",null,null,null,null,null,"Szükséges létszám:",0,"fő"]
[null,null,null,"Aktuális létszám:",0,"fő",null,"Aktuális db/op:",0,null,null,"Aktuális létszám:",0,"fő",null,"Aktuális db/op:",0,null,null,"Aktuális létszám:",0,"fő",null,"Aktuális db/op:",0]
[]
[null,null,null,"Operátor",null,"fő",null,null,null,null,null,"Operátor",null,"fő",null,null,null,null,null,"Operátor",null,"fő"]
[null,null,null,"Koordinátor",null,"fő",null,null,null,null,null,"Koordinátor",null,"fő",null,null,null,null,null,"Koordinátor",null,"fő"]
[null,null,null,"Beállító",null,"fő",null,null,null,null,null,"Beállító",null,"fő",null,null,null,null,null,"Beállító",null,"fő"]
[null,null,null,"QA, Service",null,"fő",null,null,null,null,null,"QA, Service",null,"fő",null,null,null,null,null,"QA, Service",null,"fő"]
[null,null,null,"Anyagszállító",null,"fő",null,null,null,null,null,"Anyagszállító",null,"fő",null,null,null,null,null,"Anyagszállító",null,"fő"]
[null,null,null,"Egyéb",null,"fő",null,null,null,null,null,"Egyéb",null,"fő",null,null,null,null,null,"Egyéb",null,"fő"]
[]
[null,null,null,"Backlog:",null,"sorok száma",null,null,null,null,null,"Backlog:",null,"sorok száma",null,null,null,null,null,"Backlog:",null,"sorok száma"]
[]
[null,null,null,"Backlog:",null,"összes darab",null,null,null,null,null,"Backlog:",null,"összes darab",null,null,null,null,null,"Backlog:",null,"összes darab"]
[]
[null,null,null,"Kód:","Időtartam","Állásidő megnevezése",null,null,null,null,null,"Kód:","Időtartam","Állásidő megnevezése",null,null,null,null,null,"Kód:","Időtartam","Állásidő megnevezése"]
[null,null,null,null,null,{"$f":"VLOOKUP(D333,állásidő_kódok!$B:$D,3,0)","v":{"$error":"#N/A"}},null,null,null,null,null,null,null,{"$f":"VLOOKUP(L333,állásidő_kódok!$B:$D,3,0)","v":{"$error":"#N/A"}},null,null,null,null,null,null,null,{"$f":"VLOOKUP(T333,állásidő_kódok!$B:$D,3,0)","v":{"$error":"#N/A"}}]
[null,null,null,null,null,{"$f":"VLOOKUP(D334,állásidő_kódok!$B:$D,3,0)","v":{"$error":"#N/A"}},null,null,null,null,null,null,null,{"$f":"VLOOKUP(L334,állásidő_kódok!$B:$D,3,0)","v":{"$error":"#N/A"}},null,null,null,null,null,null,null,{"$f":"VLOOKUP(T334,állásidő_kódok!$B:$D,3,0)","v":{"$error":"#N/A"}}]
[null,null,null,null,null,{"$f":"VLOOKUP(D335,állásidő_kódok!$B:$D,3,0)","v":{"$error":"#N/A"}},null,null,null,null,null,null,null,{"$f":"VLOOKUP(L335,állásidő_kódok!$B:$D,3,0)","v":{"$error":"#N/A"}},null,null,null,null,null,null,null,{"$f":"VLOOKUP(T335,állásidő_kódok!$B:$D,3,0)","v":{"$error":"#N/A"}}]
[null,null,null,null,null,{"$f":"VLOOKUP(D336,állásidő_kódok!$B:$D,3,0)","v":{"$error":"#N/A"}},null,null,null,null,null,null,null,{"$f":"VLOOKUP(L336,állásidő_kódok!$B:$D,3,0)","v":{"$error":"#N/A"}},null,null,null,null,null,null,null,{"$f":"VLOOKUP(T336,állásidő_kódok!$B:$D,3,0)","v":{"$error":"#N/A"}}]
[null,null,null,null,null,{"$f":"VLOOKUP(D337,állásidő_kódok!$B:$D,3,0)","v":{"$error":"#N/A"}},null,null,null,null,null,null,null,{"$f":"VLOOKUP(L337,állásidő_kódok!$B:$D,3,0)","v":{"$error":"#N/A"}},null,null,null,null,null,null,null,{"$f":"VLOOKUP(T337,állásidő_kódok!$B:$D,3,0)","v":{"$error":"#N/A"}}]
[null,null,null,null,null,{"$f":"VLOOKUP(D338,állásidő_kódok!$B:$D,3,0)","v":{"$error":"#N/A"}},null,null,null,null,null,null,null,{"$f":"VLOOKUP(L338,állásidő_kódok!$B:$D,3,0)","v":{"$error":"#N/A"}},null,null,null,null,null,null,null,{"$f":"VLOOKUP(T338,állásidő_kódok!$B:$D,3,0)","v":{"$error":"#N/A"}}]
[null,null,null,null,null,{"$f":"VLOOKUP(D339,állásidő_kódok!$B:$D,3,0)","v":{"$error":"#N/A"}},null,null,null,null,null,null,null,{"$f":"VLOOKUP(L339,állásidő_kódok!$B:$D,3,0)","v":{"$error":"#N/A"}},null,null,null,null,null,null,null,{"$f":"VLOOKUP(T339,állásidő_kódok!$B:$D,3,0)","v":{"$error":"#N/A"}}]
[null,null,null,null,null,{"$f":"VLOOKUP(D340,állásidő_kódok!$B:$D,3,0)","v":{"$error":"#N/A"}},null,null,null,null,null,null,null,{"$f":"VLOOKUP(L340,állásidő_kódok!$B:$D,3,0)","v":{"$error":"#N/A"}},null,null,null,null,null,null,null,{"$f":"VLOOKUP(T340,állásidő_kódok!$B:$D,3,0)","v":{"$error":"#N/A"}}]
[null,null,null,null,null,{"$f":"VLOOKUP(D341,állásidő_kódok!$B:$D,3,0)","v":{"$error":"#N/A"}},null,null,null,null,null,null,null,{"$f":"VLOOKUP(L341,állásidő_kódok!$B:$D,3,0)","v":{"$error":"#N/A"}},null,null,null,null,null,null,null,{"$f":"VLOOKUP(T341,állásidő_kódok!$B:$D,3,0)","v":{"$error":"#N/A"}}]
[null,null,null,null,null,{"$f":"VLOOKUP(D342,állásidő_kódok!$B:$D,3,0)","v":{"$error":"#N/A"}},null,null,null,null,null,null,null,{"$f":"VLOOKUP(L342,állásidő_kódok!$B:$D,3,0)","v":{"$error":"#N/A"}},null,null,null,null,null,null,null,{"$f":"VLOOKUP(T342,állásidő_kódok!$B:$D,3,0)","v":{"$error":"#N/A"}}]
[null,null,null,null,"Állásidők nélküli teljesítés:",{"$f":"((SUM(E333:E342)/445))+E315/E317","v":{"$error":"#DIV/0!"}},null,null,null,null,null,null,"Állásidők nélküli teljesítés:",{"$f":"((SUM(M333:M342)/445))+M315/M317","v":{"$error":"#DIV/0!"}},null,null,null,null,null,null,"Állásidők nélküli teljesítés:",{"$f":"((SUM(U333:U342)/445))+U315/U317","v":{"$error":"#DIV/0!"}}]
[null,{"$f":"Alapadatok!C14","v":"Cella10"},null,null,null,null,null,null,null,{"$f":"B344","v":"Cella10"},null,null,null,null,null,null,null,{"$f":"B344","v":"Cella10"}]
[null,null,null,"Gyártott:",null,"db",null,null,null,null,null,"Gyártott:",null,"db",null,null,null,null,null,"Gyártott:",null,"db"]
[]
[null,null,null,"Elvárt darabszám:",0,"db",null,"Elvárt db/op:",0,null,null,"Elvárt darabszám:",0,"db",null,"Elvárt db/op:",0,null,null,"Elvárt darabszám:",0,"db",null,"Elvárt db/op:",0]
[null,null,null,"Szükséges létszám: ",0,"fő",null,null,null,null,null,"Szükséges létszám:",0,"fő",null,null,null,null,null,"Szükséges létszám:",0,"fő"]
[null,null,null,"Aktuális létszám:",0,"fő",null,"Aktuális db/op:",0,null,null,"Aktuális létszám:",0,"fő",null,"Aktuális db/op:",0,null,null,"Aktuális létszám:",0,"fő",null,"Aktuális db/op:",0]
[]
[null,null,null,"Operátor",null,"fő",null,null,null,null,null,"Operátor",null,"fő",null,null,null,null,null,"Operátor",null,"fő"]
[null,null,null,"Koordinátor",null,"fő",null,null,null,null,null,"Koordinátor",null,"fő",null,null,null,null,null,"Koordinátor",null,"fő"]
[null,null,null,"Beállító",null,"fő",null,null,null,null,null,"Beállító",null,"fő",null,null,null,null,null,"Beállító",null,"fő"]
[null,null,null,"QA, Service",null,"fő",null,null,null,null,null,"QA, Service",null,"fő",null,null,null,null,null,"QA, Service",null,"fő"]
[null,null,null,"Anyagszállító",null,"fő",null,null,null,null,null,"Anyagszállító",null,"fő",null,null,null,null,null,"Anyagszállító",null,"fő"]
[null,null,null,"Egyéb",null,"fő",null,null,null,null,null,"Egyéb",null,"fő",null,null,null,null,null,"Egyéb",null,"fő"]
[]
[null,null,null,"Backlog:",null,"sorok száma",null,null,null,null,null,"Backlog:",null,"sorok száma",null,null,null,null,null,"Backlog:",null,"sorok száma"]
[]
[null,null,null,"Backlog:",null,"összes darab",null,null,null,null,null,"Backlog:",null,"összes darab",null,null,null,null,null,"Backlog:",null,"összes darab"]
[]
[null,null,null,"Kód:","Időtartam","Állásidő megnevezése",null,null,null,null,null,"Kód:","Időtartam","Állásidő megnevezése",null,null,null,null,null,"Kód:","Időtartam","Állásidő megnevezése"]
[null,null,null,null,null,{"$f":"VLOOKUP(D363,állásidő_kódok!$B:$D,3,0)","v":{"$error":"#N/A"}},null,null,null,null,null,null,null,{"$f":"VLOOKUP(L363,állásidő_kódok!$B:$D,3,0)","v":{"$error":"#N/A"}},null,null,null,null,null,null,null,{"$f":"VLOOKUP(T363,állásidő_kódok!$B:$D,3,0)","v":{"$error":"#N/A"}}]
[null,null,null,null,null,{"$f":"VLOOKUP(D364,állásidő_kódok!$B:$D,3,0)","v":{"$error":"#N/A"}},null,null,null,null,null,null,null,{"$f":"VLOOKUP(L364,állásidő_kódok!$B:$D,3,0)","v":{"$error":"#N/A"}},null,null,null,null,null,null,null,{"$f":"VLOOKUP(T364,állásidő_kódok!$B:$D,3,0)","v":{"$error":"#N/A"}}]
[null,null,null,null,null,{"$f":"VLOOKUP(D365,állásidő_kódok!$B:$D,3,0)","v":{"$error":"#N/A"}},null,null,null,null,null,null,null,{"$f":"VLOOKUP(L365,állásidő_kódok!$B:$D,3,0)","v":{"$error":"#N/A"}},null,null,null,null,null,null,null,{"$f":"VLOOKUP(T365,állásidő_kódok!$B:$D,3,0)","v":{"$error":"#N/A"}}]
[null,null,null,null,null,{"$f":"VLOOKUP(D366,állásidő_kódok!$B:$D,3,0)","v":{"$error":"#N/A"}},null,null,null,null,null,null,null,{"$f":"VLOOKUP(L366,állásidő_kódok!$B:$D,3,0)","v":{"$error":"#N/A"}},null,null,null,null,null,null,null,{"$f":"VLOOKUP(T366,állásidő_kódok!$B:$D,3,0)","v":{"$error":"#N/A"}}]
[null,null,null,null,null,{"$f":"VLOOKUP(D367,állásidő_kódok!$B:$D,3,0)","v":{"$error":"#N/A"}},null,null,null,null,null,null,null,{"$f":"VLOOKUP(L367,állásidő_kódok!$B:$D,3,0)","v":{"$error":"#N/A"}},null,null,null,null,null,null,null,{"$f":"VLOOKUP(T367,állásidő_kódok!$B:$D,3,0)","v":{"$error":"#N/A"}}]
[null,null,null,null,null,{"$f":"VLOOKUP(D368,állásidő_kódok!$B:$D,3,0)","v":{"$error":"#N/A"}},null,null,null,null,null,null,null,{"$f":"VLOOKUP(L368,állásidő_kódok!$B:$D,3,0)","v":{"$error":"#N/A"}},null,null,null,null,null,null,null,{"$f":"VLOOKUP(T368,állásidő_kódok!$B:$D,3,0)","v":{"$error":"#N/A"}}]
[null,null,null,null,null,{"$f":"VLOOKUP(D369,állásidő_kódok!$B:$D,3,0)","v":{"$error":"#N/A"}},null,null,null,null,null,null,null,{"$f":"VLOOKUP(L369,állásidő_kódok!$B:$D,3,0)","v":{"$error":"#N/A"}},null,null,null,null,null,null,null,{"$f":"VLOOKUP(T369,állásidő_kódok!$B:$D,3,0)","v":{"$error":"#N/A"}}]
[null,null,null,null,null,{"$f":"VLOOKUP(D370,állásidő_kódok!$B:$D,3,0)","v":{"$error":"#N/A"}},null,null,null,null,null,null,null,{"$f":"VLOOKUP(L370,állásidő_kódok!$B:$D,3,0)","v":{"$error":"#N/A"}},null,null,null,null,null,null,null,{"$f":"VLOOKUP(T370,állásidő_kódok!$B:$D,3,0)","v":{"$error":"#N/A"}}]
[null,null,null,null,null,{"$f":"VLOOKUP(D371,állásidő_kódok!$B:$D,3,0)","v":{"$error":"#N/A"}},null,null,null,null,null,null,null,{"$f":"VLOOKUP(L371,állásidő_kódok!$B:$D,3,0)","v":{"$error":"#N/A"}},null,null,null,null,null,null,null,{"$f":"VLOOKUP(T371,állásidő_kódok!$B:$D,3,0)","v":{"$error":"#N/A"}}]
[null,null,null,null,null,{"$f":"VLOOKUP(D372,állásidő_kódok!$B:$D,3,0)","v":{"$error":"#N/A"}},null,null,null,null,null,null,null,{"$f":"VLOOKUP(L372,állásidő_kódok!$B:$D,3,0)","v":{"$error":"#N/A"}},null,null,null,null,null,null,null,{"$f":"VLOOKUP(T372,állásidő_kódok!$B:$D,3,0)","v":{"$error":"#N/A"}}]
[null,null,null,null,"Állásidők nélküli teljesítés:",{"$f":"((SUM(E363:E372)/445))+E345/E347","v":{"$error":"#DIV/0!"}},null,null,null,null,null,null,"Állásidők nélküli teljesítés:",{"$f":"((SUM(M363:M372)/445))+M345/M347","v":{"$error":"#DIV/0!"}},null,null,null,null,null,null,"Állásidők nélküli teljesítés:",{"$f":"((SUM(U363:U372)/445))+U345/U347","v":{"$error":"#DIV/0!"}}]
[null,{"$f":"Alapadatok!C15","v":"Cella11"},null,null,null,null,null,null,null,{"$f":"B374","v":"Cella11"},null,null,null,null,null,null,null,{"$f":"B374","v":"Cella11"}]
[null,null,null,"Gyártott:",null,"db",null,null,null,null,null,"Gyártott:",null,"db",null,null,null,null,null,"Gyártott:",null,"db"]
[]
[null,null,null,"Elvárt darabszám:",0,"db",null,"Elvárt db/op:",0,null,null,"Elvárt darabszám:",0,"db",null,"Elvárt db/op:",0,null,null,"Elvárt darabszám:",0,"db",null,"Elvárt db/op:",0]
[null,null,null,"Szükséges létszám: ",0,"fő",null,null,null,null,null,"Szükséges létszám:",0,"fő",null,null,null,null,null,"Szükséges létszám:",0,"fő"]
[null,null,null,"Aktuális létszám:",0,"fő",null,"Aktuális db/op:",0,null,null,"Aktuális létszám:",0,"fő",null,"Aktuális db/op:",0,null,null,"Aktuális létszám:",0,"fő",null,"Aktuális db/op:",0]
[]
[null,null,null,"Operátor",null,"fő",null,null,null,null,null,"Operátor",null,"fő",null,null,null,null,null,"Operátor",null,"fő"]
[null,null,null,"Koordinátor",null,"fő",null,null,null,null,null,"Koordinátor",null,"fő",null,null,null,null,null,"Koordinátor",null,"fő"]
[null,null,null,"Beállító",null,"fő",null,null,null,null,null,"Beállító",null,"fő",null,null,null,null,null,"Beállító",null,"fő"]
[null,null,null,"QA, Service",null,"fő",null,null,null,null,null,"QA, Service",null,"fő",null,null,null,null,null,"QA, Service",null,"fő"]
[null,null,null,"Anyagszállító",null,"fő",null,null,null,null,null,"Anyagszállító",null,"fő",null,null,null,null,null,"Anyagszállító",null,"fő"]
[null,null,null,"Egyéb",null,"fő",null,null,null,null,null,"Egyéb",null,"fő",null,null,null,null,null,"Egyéb",null,"fő"]
[]
[null,null,null,"Backlog:",null,"sorok száma",null,null,null,null,null,"Backlog:",null,"sorok száma",null,null,null,null,null,"Backlog:",null,"sorok száma"]
[]
[null,null,null,"Backlog:",null,"összes darab",null,null,null,null,null,"Backlog:",null,"összes darab",null,null,null,null,null,"Backlog:",null,"összes darab"]
[]
[null,null,null,"Kód:","Időtartam","Állásidő megnevezése",null,null,null,null,null,"Kód:","Időtartam","Állásidő megnevezése",null,null,null,null,null,"Kód:","Időtartam","Állásidő megnevezése"]
[null,null,null,null,null,{"$f":"VLOOKUP(D393,állásidő_kódok!$B:$D,3,0)","v":{"$error":"#N/A"}},null,null,null,null,null,null,null,{"$f":"VLOOKUP(L393,állásidő_kódok!$B:$D,3,0)","v":{"$error":"#N/A"}},null,null,null,null,null,null,null,{"$f":"VLOOKUP(T393,állásidő_kódok!$B:$D,3,0)","v":{"$error":"#N/A"}}]
[null,null,null,null,null,{"$f":"VLOOKUP(D394,állásidő_kódok!$B:$D,3,0)","v":{"$error":"#N/A"}},null,null,null,null,null,null,null,{"$f":"VLOOKUP(L394,állásidő_kódok!$B:$D,3,0)","v":{"$error":"#N/A"}},null,null,null,null,null,null,null,{"$f":"VLOOKUP(T394,állásidő_kódok!$B:$D,3,0)","v":{"$error":"#N/A"}}]
[null,null,null,null,null,{"$f":"VLOOKUP(D395,állásidő_kódok!$B:$D,3,0)","v":{"$error":"#N/A"}},null,null,null,null,null,null,null,{"$f":"VLOOKUP(L395,állásidő_kódok!$B:$D,3,0)","v":{"$error":"#N/A"}},null,null,null,null,null,null,null,{"$f":"VLOOKUP(T395,állásidő_kódok!$B:$D,3,0)","v":{"$error":"#N/A"}}]
[null,null,null,null,null,{"$f":"VLOOKUP(D396,állásidő_kódok!$B:$D,3,0)","v":{"$error":"#N/A"}},null,null,null,null,null,null,null,{"$f":"VLOOKUP(L396,állásidő_kódok!$B:$D,3,0)","v":{"$error":"#N/A"}},null,null,null,null,null,null,null,{"$f":"VLOOKUP(T396,állásidő_kódok!$B:$D,3,0)","v":{"$error":"#N/A"}}]
[null,null,null,null,null,{"$f":"VLOOKUP(D397,állásidő_kódok!$B:$D,3,0)","v":{"$error":"#N/A"}},null,null,null,null,null,null,null,{"$f":"VLOOKUP(L397,állásidő_kódok!$B:$D,3,0)","v":{"$error":"#N/A"}},null,null,null,null,null,null,null,{"$f":"VLOOKUP(T397,állásidő_kódok!$B:$D,3,0)","v":{"$error":"#N/A"}}]
[null,null,null,null,null,{"$f":"VLOOKUP(D398,állásidő_kódok!$B:$D,3,0)","v":{"$error":"#N/A"}},null,null,null,null,null,null,null,{"$f":"VLOOKUP(L398,állásidő_kódok!$B:$D,3,0)","v":{"$error":"#N/A"}},null,null,null,null,null,null,null,{"$f":"VLOOKUP(T398,állásidő_kódok!$B:$D,3,0)","v":{"$error":"#N/A"}}]
[null,null,null,null,null,{"$f":"VLOOKUP(D399,állásidő_kódok!$B:$D,3,0)","v":{"$error":"#N/A"}},null,null,null,null,null,null,null,{"$f":"VLOOKUP(L399,állásidő_kódok!$B:$D,3,0)","v":{"$error":"#N/A"}},null,null,null,null,null,null,null,{"$f":"VLOOKUP(T399,állásidő_kódok!$B:$D,3,0)","v":{"$error":"#N/A"}}]
[null,null,null,null,null,{"$f":"VLOOKUP(D400,állásidő_kódok!$B:$D,3,0)","v":{"$error":"#N/A"}},null,null,null,null,null,null,null,{"$f":"VLOOKUP(L400,állásidő_kódok!$B:$D,3,0)","v":{"$error":"#N/A"}},null,null,null,null,null,null,null,{"$f":"VLOOKUP(T400,állásidő_kódok!$B:$D,3,0)","v":{"$error":"#N/A"}}]
[null,null,null,null,null,{"$f":"VLOOKUP(D401,állásidő_kódok!$B:$D,3,0)","v":{"$error":"#N/A"}},null,null,null,null,null,null,null,{"$f":"VLOOKUP(L401,állásidő_kódok!$B:$D,3,0)","v":{"$error":"#N/A"}},null,null,null,null,null,null,null,{"$f":"VLOOKUP(T401,állásidő_kódok!$B:$D,3,0)","v":{"$error":"#N/A"}}]
[null,null,null,null,null,{"$f":"VLOOKUP(D402,állásidő_kódok!$B:$D,3,0)","v":{"$error":"#N/A"}},null,null,null,null,null,null,null,{"$f":"VLOOKUP(L402,állásidő_kódok!$B:$D,3,0)","v":{"$error":"#N/A"}},null,null,null,null,null,null,null,{"$f":"VLOOKUP(T402,állásidő_kódok!$B:$D,3,0)","v":{"$error":"#N/A"}}]
[null,null,null,null,"Állásidők nélküli teljesítés:",{"$f":"((SUM(E393:E402)/445))+E375/E377","v":{"$error":"#DIV/0!"}},null,null,null,null,null,null,"Állásidők nélküli teljesítés:",{"$f":"((SUM(M393:M402)/445))+M375/M377","v":{"$error":"#DIV/0!"}},null,null,null,null,null,null,"Állásidők nélküli teljesítés:",{"$f":"((SUM(U393:U402)/445))+U375/U377","v":{"$error":"#DIV/0!"}}]
[null,{"$f":"Alapadatok!C16","v":"Cella12"},null,null,null,null,null,null,null,{"$f":"B404","v":"Cella12"},null,null,null,null,null,null,null,{"$f":"B404","v":"Cella12"}]
[null,null,null,"Gyártott:",null,"db",null,null,null,null,null,"Gyártott:",null,"db",null,null,null,null,null,"Gyártott:",null,"db"]
[]
[null,null,null,"Elvárt darabszám:",0,"db",null,"Elvárt db/op:",0,null,null,"Elvárt darabszám:",0,"db",null,"Elvárt db/op:",0,null,null,"Elvárt darabszám:",0,"db",null,"Elvárt db/op:",0]
[null,null,null,"Szükséges létszám: ",0,"fő",null,null,null,null,null,"Szükséges létszám:",0,"fő",null,null,null,null,null,"Szükséges létszám:",0,"fő"]
[null,null,null,"Aktuális létszám:",0,"fő",null,"Aktuális db/op:",0,null,null,"Aktuális létszám:",0,"fő",null,"Aktuális db/op:",0,null,null,"Aktuális létszám:",0,"fő",null,"Aktuális db/op:",0]
[]
[null,null,null,"Operátor",null,"fő",null,null,null,null,null,"Operátor",null,"fő",null,null,null,null,null,"Operátor",null,"fő"]
[null,null,null,"Koordinátor",null,"fő",null,null,null,null,null,"Koordinátor",null,"fő",null,null,null,null,null,"Koordinátor",null,"fő"]
[null,null,null,"Beállító",null,"fő",null,null,null,null,null,"Beállító",null,"fő",null,null,null,null,null,"Beállító",null,"fő"]
[null,null,null,"QA, Service",null,"fő",null,null,null,null,null,"QA, Service",null,"fő",null,null,null,null,null,"QA, Service",null,"fő"]
[null,null,null,"Anyagszállító",null,"fő",null,null,null,null,null,"Anyagszállító",null,"fő",null,null,null,null,null,"Anyagszállító",null,"fő"]
[null,null,null,"Egyéb",null,"fő",null,null,null,null,null,"Egyéb",null,"fő",null,null,null,null,null,"Egyéb",null,"fő"]
[]
[null,null,null,"Backlog:",null,"sorok száma",null,null,null,null,null,"Backlog:",null,"sorok száma",null,null,null,null,null,"Backlog:",null,"sorok száma"]
[]
[null,null,null,"Backlog:",null,"összes darab",null,null,null,null,null,"Backlog:",null,"összes darab",null,null,null,null,null,"Backlog:",null,"összes darab"]
[]
[null,null,null,"Kód:","Időtartam","Állásidő megnevezése",null,null,null,null,null,"Kód:","Időtartam","Állásidő megnevezése",null,null,null,null,null,"Kód:","Időtartam","Állásidő megnevezése"]
[null,null,null,null,null,{"$f":"VLOOKUP(D423,állásidő_kódok!$B:$D,3,0)","v":{"$error":"#N/A"}},null,null,null,null,null,null,null,{"$f":"VLOOKUP(L423,állásidő_kódok!$B:$D,3,0)","v":{"$error":"#N/A"}},null,null,null,null,null,null,null,{"$f":"VLOOKUP(T423,állásidő_kódok!$B:$D,3,0)","v":{"$error":"#N/A"}}]
[null,null,null,null,null,{"$f":"VLOOKUP(D424,állásidő_kódok!$B:$D,3,0)","v":{"$error":"#N/A"}},null,null,null,null,null,null,null,{"$f":"VLOOKUP(L424,állásidő_kódok!$B:$D,3,0)","v":{"$error":"#N/A"}},null,null,null,null,null,null,null,{"$f":"VLOOKUP(T424,állásidő_kódok!$B:$D,3,0)","v":{"$error":"#N/A"}}]
[null,null,null,null,null,{"$f":"VLOOKUP(D425,állásidő_kódok!$B:$D,3,0)","v":{"$error":"#N/A"}},null,null,null,null,null,null,null,{"$f":"VLOOKUP(L425,állásidő_kódok!$B:$D,3,0)","v":{"$error":"#N/A"}},null,null,null,null,null,null,null,{"$f":"VLOOKUP(T425,állásidő_kódok!$B:$D,3,0)","v":{"$error":"#N/A"}}]
[null,null,null,null,null,{"$f":"VLOOKUP(D426,állásidő_kódok!$B:$D,3,0)","v":{"$error":"#N/A"}},null,null,null,null,null,null,null,{"$f":"VLOOKUP(L426,állásidő_kódok!$B:$D,3,0)","v":{"$error":"#N/A"}},null,null,null,null,null,null,null,{"$f":"VLOOKUP(T426,állásidő_kódok!$B:$D,3,0)","v":{"$error":"#N/A"}}]
[null,null,null,null,null,{"$f":"VLOOKUP(D427,állásidő_kódok!$B:$D,3,0)","v":{"$error":"#N/A"}},null,null,null,null,null,null,null,{"$f":"VLOOKUP(L427,állásidő_kódok!$B:$D,3,0)","v":{"$error":"#N/A"}},null,null,null,null,null,null,null,{"$f":"VLOOKUP(T427,állásidő_kódok!$B:$D,3,0)","v":{"$error":"#N/A"}}]
[null,null,null,null,null,{"$f":"VLOOKUP(D428,állásidő_kódok!$B:$D,3,0)","v":{"$error":"#N/A"}},null,null,null,null,null,null,null,{"$f":"VLOOKUP(L428,állásidő_kódok!$B:$D,3,0)","v":{"$error":"#N/A"}},null,null,null,null,null,null,null,{"$f":"VLOOKUP(T428,állásidő_kódok!$B:$D,3,0)","v":{"$error":"#N/A"}}]
[null,null,null,null,null,{"$f":"VLOOKUP(D429,állásidő_kódok!$B:$D,3,0)","v":{"$error":"#N/A"}},null,null,null,null,null,null,null,{"$f":"VLOOKUP(L429,állásidő_kódok!$B:$D,3,0)","v":{"$error":"#N/A"}},null,null,null,null,null,null,null,{"$f":"VLOOKUP(T429,állásidő_kódok!$B:$D,3,0)","v":{"$error":"#N/A"}}]
[null,null,null,null,null,{"$f":"VLOOKUP(D430,állásidő_kódok!$B:$D,3,0)","v":{"$error":"#N/A"}},null,null,null,null,null,null,null,{"$f":"VLOOKUP(L430,állásidő_kódok!$B:$D,3,0)","v":{"$error":"#N/A"}},null,null,null,null,null,null,null,{"$f":"VLOOKUP(T430,állásidő_kódok!$B:$D,3,0)","v":{"$error":"#N/A"}}]
[null,null,null,null,null,{"$f":"VLOOKUP(D431,állásidő_kódok!$B:$D,3,0)","v":{"$error":"#N/A"}},null,null,null,null,null,null,null,{"$f":"VLOOKUP(L431,állásidő_kódok!$B:$D,3,0)","v":{"$error":"#N/A"}},null,null,null,null,null,null,null,{"$f":"VLOOKUP(T431,állásidő_kódok!$B:$D,3,0)","v":{"$error":"#N/A"}}]
[null,null,null,null,null,{"$f":"VLOOKUP(D432,állásidő_kódok!$B:$D,3,0)","v":{"$error":"#N/A"}},null,null,null,null,null,null,null,{"$f":"VLOOKUP(L432,állásidő_kódok!$B:$D,3,0)","v":{"$error":"#N/A"}},null,null,null,null,null,null,null,{"$f":"VLOOKUP(T432,állásidő_kódok!$B:$D,3,0)","v":{"$error":"#N/A"}}]
[null,null,null,null,"Állásidők nélküli teljesítés:",{"$f":"((SUM(E423:E432)/445))+E405/E407","v":{"$error":"#DIV/0!"}},null,null,null,null,null,null,"Állásidők nélküli teljesítés:",{"$f":"((SUM(M423:M432)/445))+M405/M407","v":{"$error":"#DIV/0!"}},null,null,null,null,null,null,"Állásidők nélküli teljesítés:",{"$f":"((SUM(U423:U432)/445))+U405/U407","v":{"$error":"#DIV/0!"}}]
[null,{"$f":"Alapadatok!C17","v":"Cella13"},null,null,null,null,null,null,null,{"$f":"B434","v":"Cella13"},null,null,null,null,null,null,null,{"$f":"B434","v":"Cella13"}]
[null,null,null,"Gyártott:",null,"db",null,null,null,null,null,"Gyártott:",null,"db",null,null,null,null,null,"Gyártott:",null,"db"]
[]
[null,null,null,"Elvárt darabszám:",0,"db",null,"Elvárt db/op:",0,null,null,"Elvárt darabszám:",0,"db",null,"Elvárt db/op:",0,null,null,"Elvárt darabszám:",0,"db",null,"Elvárt db/op:",0]
[null,null,null,"Szükséges létszám: ",0,"fő",null,null,null,null,null,"Szükséges létszám:",0,"fő",null,null,null,null,null,"Szükséges létszám:",0,"fő"]
[null,null,null,"Aktuális létszám:",0,"fő",null,"Aktuális db/op:",0,null,null,"Aktuális létszám:",0,"fő",null,"Aktuális db/op:",0,null,null,"Aktuális létszám:",0,"fő",null,"Aktuális db/op:",0]
[]
[null,null,null,"Operátor",null,"fő",null,null,null,null,null,"Operátor",null,"fő",null,null,null,null,null,"Operátor",null,"fő"]
[null,null,null,"Koordinátor",null,"fő",null,null,null,null,null,"Koordinátor",null,"fő",null,null,null,null,null,"Koordinátor",null,"fő"]
[null,null,null,"Beállító",null,"fő",null,null,null,null,null,"Beállító",null,"fő",null,null,null,null,null,"Beállító",null,"fő"]
[null,null,null,"QA, Service",null,"fő",null,null,null,null,null,"QA, Service",null,"fő",null,null,null,null,null,"QA, Service",null,"fő"]
[null,null,null,"Anyagszállító",null,"fő",null,null,null,null,null,"Anyagszállító",null,"fő",null,null,null,null,null,"Anyagszállító",null,"fő"]
[null,null,null,"Egyéb",null,"fő",null,null,null,null,null,"Egyéb",null,"fő",null,null,null,null,null,"Egyéb",null,"fő"]
[]
[null,null,null,"Backlog:",null,"sorok száma",null,null,null,null,null,"Backlog:",null,"sorok száma",null,null,null,null,null,"Backlog:",null,"sorok száma"]
[]
[null,null,null,"Backlog:",null,"összes darab",null,null,null,null,null,"Backlog:",null,"összes darab",null,null,null,null,null,"Backlog:",null,"összes darab"]
[]
[null,null,null,"Kód:","Időtartam","Állásidő megnevezése",null,null,null,null,null,"Kód:","Időtartam","Állásidő megnevezése",null,null,null,null,null,"Kód:","Időtartam","Állásidő megnevezése"]
[null,null,null,null,null,{"$f":"VLOOKUP(D453,állásidő_kódok!$B:$D,3,0)","v":{"$error":"#N/A"}},null,null,null,null,null,null,null,{"$f":"VLOOKUP(L453,állásidő_kódok!$B:$D,3,0)","v":{"$error":"#N/A"}},null,null,null,null,null,null,null,{"$f":"VLOOKUP(T453,állásidő_kódok!$B:$D,3,0)","v":{"$error":"#N/A"}}]
[null,null,null,null,null,{"$f":"VLOOKUP(D454,állásidő_kódok!$B:$D,3,0)","v":{"$error":"#N/A"}},null,null,null,null,null,null,null,{"$f":"VLOOKUP(L454,állásidő_kódok!$B:$D,3,0)","v":{"$error":"#N/A"}},null,null,null,null,null,null,null,{"$f":"VLOOKUP(T454,állásidő_kódok!$B:$D,3,0)","v":{"$error":"#N/A"}}]
[null,null,null,null,null,{"$f":"VLOOKUP(D455,állásidő_kódok!$B:$D,3,0)","v":{"$error":"#N/A"}},null,null,null,null,null,null,null,{"$f":"VLOOKUP(L455,állásidő_kódok!$B:$D,3,0)","v":{"$error":"#N/A"}},null,null,null,null,null,null,null,{"$f":"VLOOKUP(T455,állásidő_kódok!$B:$D,3,0)","v":{"$error":"#N/A"}}]
[null,null,null,null,null,{"$f":"VLOOKUP(D456,állásidő_kódok!$B:$D,3,0)","v":{"$error":"#N/A"}},null,null,null,null,null,null,null,{"$f":"VLOOKUP(L456,állásidő_kódok!$B:$D,3,0)","v":{"$error":"#N/A"}},null,null,null,null,null,null,null,{"$f":"VLOOKUP(T456,állásidő_kódok!$B:$D,3,0)","v":{"$error":"#N/A"}}]
[null,null,null,null,null,{"$f":"VLOOKUP(D457,állásidő_kódok!$B:$D,3,0)","v":{"$error":"#N/A"}},null,null,null,null,null,null,null,{"$f":"VLOOKUP(L457,állásidő_kódok!$B:$D,3,0)","v":{"$error":"#N/A"}},null,null,null,null,null,null,null,{"$f":"VLOOKUP(T457,állásidő_kódok!$B:$D,3,0)","v":{"$error":"#N/A"}}]
[null,null,null,null,null,{"$f":"VLOOKUP(D458,állásidő_kódok!$B:$D,3,0)","v":{"$error":"#N/A"}},null,null,null,null,null,null,null,{"$f":"VLOOKUP(L458,állásidő_kódok!$B:$D,3,0)","v":{"$error":"#N/A"}},null,null,null,null,null,null,null,{"$f":"VLOOKUP(T458,állásidő_kódok!$B:$D,3,0)","v":{"$error":"#N/A"}}]
[null,null,null,null,null,{"$f":"VLOOKUP(D459,állásidő_kódok!$B:$D,3,0)","v":{"$error":"#N/A"}},null,null,null,null,null,null,null,{"$f":"VLOOKUP(L459,állásidő_kódok!$B:$D,3,0)","v":{"$error":"#N/A"}},null,null,null,null,null,null,null,{"$f":"VLOOKUP(T459,állásidő_kódok!$B:$D,3,0)","v":{"$error":"#N/A"}}]
[null,null,null,null,null,{"$f":"VLOOKUP(D460,állásidő_kódok!$B:$D,3,0)","v":{"$error":"#N/A"}},null,null,null,null,null,null,null,{"$f":"VLOOKUP(L460,állásidő_kódok!$B:$D,3,0)","v":{"$error":"#N/A"}},null,null,null,null,null,null,null,{"$f":"VLOOKUP(T460,állásidő_kódok!$B:$D,3,0)","v":{"$error":"#N/A"}}]
[null,null,null,null,null,{"$f":"VLOOKUP(D461,állásidő_kódok!$B:$D,3,0)","v":{"$error":"#N/A"}},null,null,null,null,null,null,null,{"$f":"VLOOKUP(L461,állásidő_kódok!$B:$D,3,0)","v":{"$error":"#N/A"}},null,null,null,null,null,null,null,{"$f":"VLOOKUP(T461,állásidő_kódok!$B:$D,3,0)","v":{"$error":"#N/A"}}]
[null,null,null,null,null,{"$f":"VLOOKUP(D462,állásidő_kódok!$B:$D,3,0)","v":{"$error":"#N/A"}},null,null,null,null,null,null,null,{"$f":"VLOOKUP(L462,állásidő_kódok!$B:$D,3,0)","v":{"$error":"#N/A"}},null,null,null,null,null,null,null,{"$f":"VLOOKUP(T462,állásidő_kódok!$B:$D,3,0)","v":{"$error":"#N/A"}}]
[null,null,null,null,"Állásidők nélküli teljesítés:",{"$f":"((SUM(E453:E462)/445))+E435/E437","v":{"$error":"#DIV/0!"}},null,null,null,null,null,null,"Állásidők nélküli teljesítés:",{"$f":"((SUM(M453:M462)/445))+M435/M437","v":{"$error":"#DIV/0!"}},null,null,null,null,null,null,"Állásidők nélküli teljesítés:",{"$f":"((SUM(U453:U462)/445))+U435/U437","v":{"$error":"#DIV/0!"}}]
[null,{"$f":"Alapadatok!C18","v":"Cella14"},null,null,null,null,null,null,null,{"$f":"B464","v":"Cella14"},null,null,null,null,null,null,null,{"$f":"B464","v":"Cella14"}]
[null,null,null,"Gyártott:",null,"db",null,null,null,null,null,"Gyártott:",null,"db",null,null,null,null,null,"Gyártott:",null,"db"]
[]
[null,null,null,"Elvárt darabszám:",0,"db",null,"Elvárt db/op:",0,null,null,"Elvárt darabszám:",0,"db",null,"Elvárt db/op:",0,null,null,"Elvárt darabszám:",0,"db",null,"Elvárt db/op:",0]
[null,null,null,"Szükséges létszám: ",0,"fő",null,null,null,null,null,"Szükséges létszám:",0,"fő",null,null,null,null,null,"Szükséges létszám:",0,"fő"]
[null,null,null,"Aktuális létszám:",0,"fő",null,"Aktuális db/op:",0,null,null,"Aktuális létszám:",0,"fő",null,"Aktuális db/op:",0,null,null,"Aktuális létszám:",0,"fő",null,"Aktuális db/op:",0]
[]
[null,null,null,"Operátor",null,"fő",null,null,null,null,null,"Operátor",null,"fő",null,null,null,null,null,"Operátor",null,"fő"]
[null,null,null,"Koordinátor",null,"fő",null,null,null,null,null,"Koordinátor",null,"fő",null,null,null,null,null,"Koordinátor",null,"fő"]
[null,null,null,"Beállító",null,"fő",null,null,null,null,null,"Beállító",null,"fő",null,null,null,null,null,"Beállító",null,"fő"]
[null,null,null,"QA, Service",null,"fő",null,null,null,null,null,"QA, Service",null,"fő",null,null,null,null,null,"QA, Service",null,"fő"]
[null,null,null,"Anyagszállító",null,"fő",null,null,null,null,null,"Anyagszállító",null,"fő",null,null,null,null,null,"Anyagszállító",null,"fő"]
[null,null,null,"Egyéb",null,"fő",null,null,null,null,null,"Egyéb",null,"fő",null,null,null,null,null,"Egyéb",null,"fő"]
[]
[null,null,null,"Backlog:",null,"sorok száma",null,null,null,null,null,"Backlog:",null,"sorok száma",null,null,null,null,null,"Backlog:",null,"sorok száma"]
[]
[null,null,null,"Backlog:",null,"összes darab",null,null,null,null,null,"Backlog:",null,"összes darab",null,null,null,null,null,"Backlog:",null,"összes darab"]
[]
[null,null,null,"Kód:","Időtartam","Állásidő megnevezése",null,null,null,null,null,"Kód:","Időtartam","Állásidő megnevezése",null,null,null,null,null,"Kód:","Időtartam","Állásidő megnevezése"]
[null,null,null,null,null,{"$f":"VLOOKUP(D483,állásidő_kódok!$B:$D,3,0)","v":{"$error":"#N/A"}},null,null,null,null,null,null,null,{"$f":"VLOOKUP(L483,állásidő_kódok!$B:$D,3,0)","v":{"$error":"#N/A"}},null,null,null,null,null,null,null,{"$f":"VLOOKUP(T483,állásidő_kódok!$B:$D,3,0)","v":{"$error":"#N/A"}}]
[null,null,null,null,null,{"$f":"VLOOKUP(D484,állásidő_kódok!$B:$D,3,0)","v":{"$error":"#N/A"}},null,null,null,null,null,null,null,{"$f":"VLOOKUP(L484,állásidő_kódok!$B:$D,3,0)","v":{"$error":"#N/A"}},null,null,null,null,null,null,null,{"$f":"VLOOKUP(T484,állásidő_kódok!$B:$D,3,0)","v":{"$error":"#N/A"}}]
[null,null,null,null,null,{"$f":"VLOOKUP(D485,állásidő_kódok!$B:$D,3,0)","v":{"$error":"#N/A"}},null,null,null,null,null,null,null,{"$f":"VLOOKUP(L485,állásidő_kódok!$B:$D,3,0)","v":{"$error":"#N/A"}},null,null,null,null,null,null,null,{"$f":"VLOOKUP(T485,állásidő_kódok!$B:$D,3,0)","v":{"$error":"#N/A"}}]
[null,null,null,null,null,{"$f":"VLOOKUP(D486,állásidő_kódok!$B:$D,3,0)","v":{"$error":"#N/A"}},null,null,null,null,null,null,null,{"$f":"VLOOKUP(L486,állásidő_kódok!$B:$D,3,0)","v":{"$error":"#N/A"}},null,null,null,null,null,null,null,{"$f":"VLOOKUP(T486,állásidő_kódok!$B:$D,3,0)","v":{"$error":"#N/A"}}]
[null,null,null,null,null,{"$f":"VLOOKUP(D487,állásidő_kódok!$B:$D,3,0)","v":{"$error":"#N/A"}},null,null,null,null,null,null,null,{"$f":"VLOOKUP(L487,állásidő_kódok!$B:$D,3,0)","v":{"$error":"#N/A"}},null,null,null,null,null,null,null,{"$f":"VLOOKUP(T487,állásidő_kódok!$B:$D,3,0)","v":{"$error":"#N/A"}}]
[null,null,null,null,null,{"$f":"VLOOKUP(D488,állásidő_kódok!$B:$D,3,0)","v":{"$error":"#N/A"}},null,null,null,null,null,null,null,{"$f":"VLOOKUP(L488,állásidő_kódok!$B:$D,3,0)","v":{"$error":"#N/A"}},null,null,null,null,null,null,null,{"$f":"VLOOKUP(T488,állásidő_kódok!$B:$D,3,0)","v":{"$error":"#N/A"}}]
[null,null,null,null,null,{"$f":"VLOOKUP(D489,állásidő_kódok!$B:$D,3,0)","v":{"$error":"#N/A"}},null,null,null,null,null,null,null,{"$f":"VLOOKUP(L489,állásidő_kódok!$B:$D,3,0)","v":{"$error":"#N/A"}},null,null,null,null,null,null,null,{"$f":"VLOOKUP(T489,állásidő_kódok!$B:$D,3,0)","v":{"$error":"#N/A"}}]
[null,null,null,null,null,{"$f":"VLOOKUP(D490,állásidő_kódok!$B:$D,3,0)","v":{"$error":"#N/A"}},null,null,null,null,null,null,null,{"$f":"VLOOKUP(L490,állásidő_kódok!$B:$D,3,0)","v":{"$error":"#N/A"}},null,null,null,null,null,null,null,{"$f":"VLOOKUP(T490,állásidő_kódok!$B:$D,3,0)","v":{"$error":"#N/A"}}]
[null,null,null,null,null,{"$f":"VLOOKUP(D491,állásidő_kódok!$B:$D,3,0)","v":{"$error":"#N/A"}},null,null,null,null,null,null,null,{"$f":"VLOOKUP(L491,állásidő_kódok!$B:$D,3,0)","v":{"$error":"#N/A"}},null,null,null,null,null,null,null,{"$f":"VLOOKUP(T491,állásidő_kódok!$B:$D,3,0)","v":{"$error":"#N/A"}}]
[null,null,null,null,null,{"$f":"VLOOKUP(D492,állásidő_kódok!$B:$D,3,0)","v":{"$error":"#N/A"}},null,null,null,null,null,null,null,{"$f":"VLOOKUP(L492,állásidő_kódok!$B:$D,3,0)","v":{"$error":"#N/A"}},null,null,null,null,null,null,null,{"$f":"VLOOKUP(T492,állásidő_kódok!$B:$D,3,0)","v":{"$error":"#N/A"}}]
[null,null,null,null,"Állásidők nélküli teljesítés:",{"$f":"((SUM(E483:E492)/445))+E465/E467","v":{"$error":"#DIV/0!"}},null,null,null,null,null,null,"Állásidők nélküli teljesítés:",{"$f":"((SUM(M483:M492)/445))+M465/M467","v":{"$error":"#DIV/0!"}},null,null,null,null,null,null,"Állásidők nélküli teljesítés:",{"$f":"((SUM(U483:U492)/445))+U465/U467","v":{"$error":"#DIV/0!"}}]
[null,{"$f":"Alapadatok!C19","v":"Cella15"},null,null,null,null,null,null,null,{"$f":"B494","v":"Cella15"},null,null,null,null,null,null,null,{"$f":"B494","v":"Cella15"}]
[null,null,null,"Gyártott:",null,"db",null,null,null,null,null,"Gyártott:",null,"db",null,null,null,null,null,"Gyártott:",null,"db"]
[]
[null,null,null,"Elvárt darabszám:",0,"db",null,"Elvárt db/op:",0,null,null,"Elvárt darabszám:",0,"db",null,"Elvárt db/op:",0,null,null,"Elvárt darabszám:",0,"db",null,"Elvárt db/op:",0]
[null,null,null,"Szükséges létszám: ",0,"fő",null,null,null,null,null,"Szükséges létszám:",0,"fő",null,null,null,null,null,"Szükséges létszám:",0,"fő"]
[null,null,null,"Aktuális létszám:",0,"fő",null,"Aktuális db/op:",0,null,null,"Aktuális létszám:",0,"fő",null,"Aktuális db/op:",0,null,null,"Aktuális létszám:",0,"fő",null,"Aktuális db/op:",0]
[]
[null,null,null,"Operátor",null,"fő",null,null,null,null,null,"Operátor",null,"fő",null,null,null,null,null,"Operátor",null,"fő"]
[null,null,null,"Koordinátor",null,"fő",null,null,null,null,null,"Koordinátor",null,"fő",null,null,null,null,null,"Koordinátor",null,"fő"]
[null,null,null,"Beállító",null,"fő",null,null,null,null,null,"Beállító",null,"fő",null,null,null,null,null,"Beállító",null,"fő"]
[null,null,null,"QA, Service",null,"fő",null,null,null,null,null,"QA, Service",null,"fő",null,null,null,null,null,"QA, Service",null,"fő"]
[null,null,null,"Anyagszállító",null,"fő",null,null,null,null,null,"Anyagszállító",null,"fő",null,null,null,null,null,"Anyagszállító",null,"fő"]
[null,null,null,"Egyéb",null,"fő",null,null,null,null,null,"Egyéb",null,"fő",null,null,null,null,null,"Egyéb",null,"fő"]
[]
[null,null,null,"Backlog:",null,"sorok száma",null,null,null,null,null,"Backlog:",null,"sorok száma",null,null,null,null,null,"Backlog:",null,"sorok száma"]
[]
[null,null,null,"Backlog:",null,"összes darab",null,null,null,null,null,"Backlog:",null,"összes darab",null,null,null,null,null,"Backlog:",null,"összes darab"]
[]
[null,null,null,"Kód:","Időtartam","Állásidő megnevezése",null,null,null,null,null,"Kód:","Időtartam","Állásidő megnevezése",null,null,null,null,null,"Kód:","Időtartam","Állásidő megnevezése"]
[null,null,null,null,null,{"$f":"VLOOKUP(D513,állásidő_kódok!$B:$D,3,0)","v":{"$error":"#N/A"}},null,null,null,null,null,null,null,{"$f":"VLOOKUP(L513,állásidő_kódok!$B:$D,3,0)","v":{"$error":"#N/A"}},null,null,null,null,null,null,null,{"$f":"VLOOKUP(T513,állásidő_kódok!$B:$D,3,0)","v":{"$error":"#N/A"}}]
[null,null,null,null,null,{"$f":"VLOOKUP(D514,állásidő_kódok!$B:$D,3,0)","v":{"$error":"#N/A"}},null,null,null,null,null,null,null,{"$f":"VLOOKUP(L514,állásidő_kódok!$B:$D,3,0)","v":{"$error":"#N/A"}},null,null,null,null,null,null,null,{"$f":"VLOOKUP(T514,állásidő_kódok!$B:$D,3,0)","v":{"$error":"#N/A"}}]
[null,null,null,null,null,{"$f":"VLOOKUP(D515,állásidő_kódok!$B:$D,3,0)","v":{"$error":"#N/A"}},null,null,null,null,null,null,null,{"$f":"VLOOKUP(L515,állásidő_kódok!$B:$D,3,0)","v":{"$error":"#N/A"}},null,null,null,null,null,null,null,{"$f":"VLOOKUP(T515,állásidő_kódok!$B:$D,3,0)","v":{"$error":"#N/A"}}]
[null,null,null,null,null,{"$f":"VLOOKUP(D516,állásidő_kódok!$B:$D,3,0)","v":{"$error":"#N/A"}},null,null,null,null,null,null,null,{"$f":"VLOOKUP(L516,állásidő_kódok!$B:$D,3,0)","v":{"$error":"#N/A"}},null,null,null,null,null,null,null,{"$f":"VLOOKUP(T516,állásidő_kódok!$B:$D,3,0)","v":{"$error":"#N/A"}}]
[null,null,null,null,null,{"$f":"VLOOKUP(D517,állásidő_kódok!$B:$D,3,0)","v":{"$error":"#N/A"}},null,null,null,null,null,null,null,{"$f":"VLOOKUP(L517,állásidő_kódok!$B:$D,3,0)","v":{"$error":"#N/A"}},null,null,null,null,null,null,null,{"$f":"VLOOKUP(T517,állásidő_kódok!$B:$D,3,0)","v":{"$error":"#N/A"}}]
[null,null,null,null,null,{"$f":"VLOOKUP(D518,állásidő_kódok!$B:$D,3,0)","v":{"$error":"#N/A"}},null,null,null,null,null,null,null,{"$f":"VLOOKUP(L518,állásidő_kódok!$B:$D,3,0)","v":{"$error":"#N/A"}},null,null,null,null,null,null,null,{"$f":"VLOOKUP(T518,állásidő_kódok!$B:$D,3,0)","v":{"$error":"#N/A"}}]
[null,null,null,null,null,{"$f":"VLOOKUP(D519,állásidő_kódok!$B:$D,3,0)","v":{"$error":"#N/A"}},null,null,null,null,null,null,null,{"$f":"VLOOKUP(L519,állásidő_kódok!$B:$D,3,0)","v":{"$error":"#N/A"}},null,null,null,null,null,null,null,{"$f":"VLOOKUP(T519,állásidő_kódok!$B:$D,3,0)","v":{"$error":"#N/A"}}]
[null,null,null,null,null,{"$f":"VLOOKUP(D520,állásidő_kódok!$B:$D,3,0)","v":{"$error":"#N/A"}},null,null,null,null,null,null,null,{"$f":"VLOOKUP(L520,állásidő_kódok!$B:$D,3,0)","v":{"$error":"#N/A"}},null,null,null,null,null,null,null,{"$f":"VLOOKUP(T520,állásidő_kódok!$B:$D,3,0)","v":{"$error":"#N/A"}}]
[null,null,null,null,null,{"$f":"VLOOKUP(D521,állásidő_kódok!$B:$D,3,0)","v":{"$error":"#N/A"}},null,null,null,null,null,null,null,{"$f":"VLOOKUP(L521,állásidő_kódok!$B:$D,3,0)","v":{"$error":"#N/A"}},null,null,null,null,null,null,null,{"$f":"VLOOKUP(T521,állásidő_kódok!$B:$D,3,0)","v":{"$error":"#N/A"}}]
[null,null,null,null,null,{"$f":"VLOOKUP(D522,állásidő_kódok!$B:$D,3,0)","v":{"$error":"#N/A"}},null,null,null,null,null,null,null,{"$f":"VLOOKUP(L522,állásidő_kódok!$B:$D,3,0)","v":{"$error":"#N/A"}},null,null,null,null,null,null,null,{"$f":"VLOOKUP(T522,állásidő_kódok!$B:$D,3,0)","v":{"$error":"#N/A"}}]
[null,null,null,null,"Állásidők nélküli teljesítés:",{"$f":"((SUM(E513:E522)/445))+E495/E497","v":{"$error":"#DIV/0!"}},null,null,null,null,null,null,"Állásidők nélküli teljesítés:",{"$f":"((SUM(M513:M522)/445))+M495/M497","v":{"$error":"#DIV/0!"}},null,null,null,null,null,null,"Állásidők nélküli teljesítés:",{"$f":"((SUM(U513:U522)/445))+U495/U497","v":{"$error":"#DIV/0!"}}]

{"sheet":"wk_45_2","index":5,"n_rows":523,"n_cols":43,"rows_kept":523,"cut":false,"hidden":false,"merged":[[1,17,1,18],[1,19,1,22],[1,23,1,40],[2,1,3,5],[2,6,3,7],[2,8,3,8],[2,9,3,13],[2,14,3,15],[2,16,3,16],[2,17,3,21],[2,22,3,23],[2,24,3,24],[2,25,3,40],[2,42,2,43],[3,42,3,43],[4,2,4,4],[4,6,4,8],[4,10,4,12],[4,14,4,16],[4,18,4,20],[4,22,4,24],[4,26,4,31],[4,34,4,39],[8,27,8,28],[8,35,8,36],[10,2,10,4],[10,6,10,8],[10,10,10,12],[10,14,10,16],[10,18,10,20],[10,22,10,24],[10,26,10,31],[10,34,10,39],[14,27,14,28],[14,35,14,36],[16,2,16,4],[16,6,16,8],[16,10,16,12],[16,14,16,16],[16,18,16,20],[16,22,16,24],[16,26,16,31],[16,34,16,39],[20,27,20,28],[20,35,20,36],[22,2,22,4],[22,6,22,8],[22,10,22,12],[22,14,22,16],[22,18,22,20],[22,22,22,24],[22,26,22,31],[22,34,22,39],[28,2,28,4],[28,6,28,8],[28,10,28,12],[28,14,28,16],[28,18,28,20],[28,22,28,24],[28,26,28,31],[28,34,28,39],[34,2,34,4],[34,6,34,8],[34,10,34,12],[34,14,34,16],[34,18,34,20],[34,22,34,24],[34,26,34,31],[34,34,34,39],[40,26,40,31],[40,34,40,39],[46,2,46,4],[46,6,46,8],[46,10,46,12],[46,14,46,16],[46,18,46,20],[46,22,46,24],[46,26,46,31],[40,2,40,4],[40,6,40,8],[40,10,40,12],[40,14,40,16],[40,18,40,20],[40,22,40,24],[54,1,55,2],[54,3,54,7],[54,9,55,10],[54,11,54,15],[54,17,55,18],[54,19,54,23],[55,3,55,7],[55,11,55,15],[55,19,55,23],[56,1,57,2],[56,3,56,7],[56,9,57,10],[56,11,56,15],[56,17,57,18],[56,19,56,23],[57,3,57,7],[57,11,57,15],[57,19,57,23],[60,1,61,2],[60,3,60,7],[60,9,61,10],[60,11,60,15],[60,17,61,18],[61,19,61,23],[61,3,61,7],[61,11,61,15],[58,1,59,2],[58,3,58,7],[58,9,59,10],[58,11,58,15],[58,17,59,18],[58,19,58,23],[59,3,59,7],[59,11,59,15],[59,19,59,23],[62,1,63,2],[62,3,62,7],[62,9,63,10],[62,11,62,15],[62,17,63,18],[62,19,62,23],[63,3,63,7],[63,11,63,15],[63,19,63,23],[64,1,65,2],[64,3,64,7],[64,9,65,10],[64,11,64,15],[64,17,65,18],[64,19,64,23],[65,3,65,7],[65,11,65,15],[65,19,65,23],[68,1,69,2],[68,3,68,7],[68,9,69,10],[68,17,69,18],[68,19,68,23],[69,3,69,7],[69,11,69,15],[69,19,69,23],[66,1,67,2],[66,3,66,7],[66,9,67,10],[66,11,66,15],[66,17,67,18],[66,19,66,23],[67,3,67,7],[67,11,67,15],[67,19,67,23],[74,6,74,8],[74,14,74,16],[74,22,74,24],[102,5,102,6],[102,13,102,14],[102,21,102,22],[70,1,71,2],[70,3,70,7],[70,9,71,10],[70,11,70,15],[70,17,71,18],[70,19,70,23],[71,3,71,7],[71,11,71,15],[71,19,71,23],[134,6,134,8],[134,14,134,16],[134,22,134,24],[162,5,162,6],[162,13,162,14],[162,21,162,22],[104,6,104,8],[104,14,104,16],[104,22,104,24],[132,5,132,6],[132,13,132,14],[132,21,132,22],[194,6,194,8],[194,14,194,16],[194,22,194,24],[222,5,222,6],[222,13,222,14],[222,21,222,22],[164,6,164,8],[164,14,164,16],[164,22,164,24],[192,5,192,6],[192,13,192,14],[192,21,192,22],[254,6,254,8],[254,14,254,16],[254,22,254,24],[282,5,282,6],[282,13,282,14],[282,21,282,22],[224,6,224,8],[224,14,224,16],[224,22,224,24],[252,5,252,6],[252,13,252,14],[252,21,252,22],[314,6,314,8],[314,14,314,16],[314,22,314,24],[342,5,342,6],[342,13,342,14],[342,21,342,22],[284,6,284,8],[284,14,284,16],[284,22,284,24],[312,5,312,6],[312,13,312,14],[312,21,312,22],[374,6,374,8],[374,14,374,16],[374,22,374,24],[402,5,402,6],[402,13,402,14],[402,21,402,22],[344,6,344,8],[344,14,344,16],[344,22,344,24],[372,5,372,6],[372,13,372,14],[372,21,372,22],[434,6,434,8],[434,14,434,16],[434,22,434,24],[462,5,462,6],[462,13,462,14],[462,21,462,22],[404,6,404,8],[404,14,404,16],[404,22,404,24],[432,5,432,6],[432,13,432,14],[432,21,432,22],[494,6,494,8],[494,14,494,16],[494,22,494,24],[522,5,522,6],[522,13,522,14],[522,21,522,22],[464,6,464,8],[464,14,464,16],[464,22,464,24],[492,5,492,6],[492,13,492,14],[492,21,492,22]]}
[]
[null,null,null,null,null,null,null,null,null,{"$f":"Alapadatok!C2","v":"MG 160/180"},null,null,null,null,null,null,null,"Dátum:",null,"2018-11-06",null,null,null,"Töltsd ki a kereten belüli fehér mezőket!"]
[null,"Éjszaka",null,null,null,null,"Műszak",null,null,"Délelőtt",null,null,null,null,"Műszak",null,null,"Délután",null,null,null,null,"Műszak",null,null,"Napi összesítő",null,null,null,null,null,null,null,null,null,null,null,null,null,null,null,null,"Levél küldéséhez "]
[null,null,null,null,null,null,null,null,null,null,null,null,null,null,null,null,null,null,null,null,null,null,null,null,null,null,null,null,null,null,null,null,null,null,null,null,null,null,null,null,null,null," kattins az ikonra!"]
[null,null,{"$f":"B74","v":"Motor sor"},null,null,null,{"$f":"B104","v":"2p Sztátor sor"},null,null,null,{"$f":"J74","v":"Motor sor"},null,null,null,{"$f":"J104","v":"2p Sztátor sor"},null,null,null,{"$f":"R74","v":"Motor sor"},null,null,null,{"$f":"R104","v":"2p Sztátor sor"},null,null,null,{"$f":"C5","v":"Motor sor"},null,null,null,null,null,null,null,{"$f":"O5","v":"2p Sztátor sor"}]
[null,null,"Gyártott db",{"$f":"E75","v":52},"db",null,"Gyártott db",{"$f":"E105","v":42},"db",null,"Gyártott db",{"$f":"M75","v":56},"db",null,"Gyártott db",{"$f":"M105","v":52},"db",null,"Gyártott db",{"$f":"U75","v":54},"db",null,"Gyártott db",{"$f":"U105","v":33},"db",null,null,"Aktuális","Elvárt",null,"Éj",{"$f":"IF(D8=0,0,D6/D8)","v":6.5},"db/fő",null,null,"Aktuális","Elvárt",null,"Éj",{"$f":"IF(H8=0,0,H6/H8)","v":6},"db/fő"]
[null,null,"Elvárt db",{"$f":"E77","v":52},"db",null,"Elvárt db",{"$f":"E107","v":50},"db",null,"Elvárt db",{"$f":"M77","v":54},"db",null,"Elvárt db",{"$f":"M107","v":52},"db",null,"Elvárt db",{"$f":"U77","v":54},"db",null,"Elvárt db",{"$f":"U107","v":45},"db",null,"Darabszám",{"$f":"SUM(D6,L6,T6)","v":162},{"$f":"SUM(D7,L7,T7)","v":160},"db","De",{"$f":"IF(L8=0,0,L6/L8)","v":0},"db/fő",null,"Darabszám",{"$f":"SUM(H6,P6,X6)","v":127},{"$f":"SUM(H7,P7,X7)","v":147},"db","De",{"$f":"IF(P8=0,0,P6/P8)","v":0},"db/fő"]
[null,null,"Akt. létszám",{"$f":"E79","v":8},"fő",null,"Akt. létszám",{"$f":"E109","v":7},"fő",null,"Akt. létszám",{"$f":"M79","v":0},"fő",null,"Akt. létszám",{"$f":"M109","v":0},"fő",null,"Akt. létszám",{"$f":"U79","v":0},"fő",null,"Akt. létszám",{"$f":"U109","v":0},"fő",null,"Létszám",{"$f":"SUM(D8,L8,T8)","v":8},{"$f":"SUM(D9,L9,T9)","v":23},"fő","Du",{"$f":"IF(T8=0,0,T6/T8)","v":0},"db/fő",null,"Létszám",{"$f":"SUM(H8,P8,X8)","v":7},{"$f":"SUM(H9,P9,X9)","v":17},"fő","Du",{"$f":"IF(X8=0,0,X6/X8)","v":0},"db/fő"]
[null,null,"MPS létszám",{"$f":"E78","v":7},"fő",null,"MPS létszám",{"$f":"E108","v":6},"fő",null,"MPS létszám",{"$f":"M78","v":8},"fő",null,"MPS létszám",{"$f":"M108","v":6},"fő",null,"MPS létszám",{"$f":"U78","v":8},"fő",null,"MPS létszám",{"$f":"U108","v":5},"fő",null,"Össz állásidő",{"$f":"SUM(D10,L10,T10)","v":1030},null,"perc","Napi",{"$f":"IF(AB8=0,0,AB7/AB8)","v":20.25},"db/fő",null,"Össz állásidő",{"$f":"SUM(H10,P10,X10)","v":260},null,"perc","Napi",{"$f":"IF(AJ8=0,0,AJ7/AJ8)","v":18.142857142857142},"db/fő"]
[null,null,"Össz állásidő",{"$f":"SUM(E93:E102)","v":430},"perc",null,"Össz állásidő",{"$f":"SUM(E123:E132)","v":0},"perc",null,"Össz állásidő",{"$f":"SUM(M93:M102)","v":300},"perc",null,"Össz állásidő",{"$f":"SUM(M123:M132)","v":0},"perc",null,"Össz állásidő",{"$f":"SUM(U93:U102)","v":300},"perc",null,"Össz állásidő",{"$f":"SUM(U123:U132)","v":260},"perc",null,"Backlog sor/db",{"$f":"E88+M88+U88","v":0},{"$f":"E90+M90+U90","v":0},"db","Elvárt",{"$f":"IF(AC8=0,0,AC7/AC8)","v":6.9565217391304346},"db/fő",null,"Backlog sor/db",{"$f":"E118+M118+U118","v":0},{"$f":"E120+M120+U120","v":0},"db","Elvárt",{"$f":"IF(AK8=0,0,AK7/AK8)","v":8.6470588235294112},"db/fő"]
[null,null,{"$f":"B134","v":"4p sztátor sor"},null,null,null,{"$f":"B164","v":"DE cella"},null,null,null,{"$f":"J134","v":"4p sztátor sor"},null,null,null,{"$f":"J164","v":"DE cella"},null,null," ",{"$f":"R134","v":"4p sztátor sor"},null,null,null,{"$f":"R164","v":"DE cella"},null,null,null,{"$f":"C11","v":"4p sztátor sor"},null,null,null,null,null,null,null,{"$f":"O11","v":"DE cella"}]
[null,null,"Gyártott db",{"$f":"E135","v":0},"db",null,"Gyártott db",{"$f":"E165","v":54},"db",null,"Gyártott db",{"$f":"M135","v":20},"db",null,"Gyártott db",{"$f":"M165","v":57},"db",null,"Gyártott db",{"$f":"U135","v":0},"db",null,"Gyártott db",{"$f":"U165","v":33},"db",null,null,"Aktuális","Elvárt",null,"Éj",{"$f":"IF(D14=0,0,D12/D14)","v":0},"db/fő",null,null,"Aktuális","Elvárt",null,"Éj",{"$f":"IF(H14=0,0,H12/H14)","v":27},"db/fő"]
[null,null,"Elvárt db",{"$f":"E137","v":0},"db",null,"Elvárt db",{"$f":"E167","v":52},"db",null,"Elvárt db",{"$f":"M137","v":20},"db",null,"Elvárt db",{"$f":"M167","v":52},"db",null,"Elvárt db",{"$f":"U137","v":0},"db",null,"Elvárt db",{"$f":"U167","v":52},"db",null,"Darabszám",{"$f":"SUM(D12,L12,T12)","v":20},{"$f":"SUM(D13,L13,T13)","v":20},"db","De",{"$f":"IF(L14=0,0,L12/L14)","v":0},"db/fő",null,"Darabszám",{"$f":"SUM(H12,P12,X12)","v":144},{"$f":"SUM(H13,P13,X13)","v":156},"db","De",{"$f":"IF(P14=0,0,P12/P14)","v":0},"db/fő"]
[null,null,"Akt. létszám",{"$f":"E139","v":0},"fő",null,"Akt. létszám",{"$f":"E169","v":2},"fő",null,"Akt. létszám",{"$f":"M139","v":0},"fő",null,"Akt. létszám",{"$f":"M169","v":0},"fő",null,"Akt. létszám",{"$f":"U139","v":0},"fő",null,"Akt. létszám",{"$f":"U169","v":0},"fő",null,"Létszám",{"$f":"SUM(D14,L14,T14)","v":0},{"$f":"SUM(D15,L15,T15)","v":4},"fő","Du",{"$f":"IF(T14=0,0,T12/T14)","v":0},"db/fő",null,"Létszám",{"$f":"SUM(H14,P14,X14)","v":2},{"$f":"SUM(H15,P15,X15)","v":6},"fő","Du",{"$f":"IF(X14=0,0,X12/X14)","v":0},"db/fő"]
[null,null,"MPS létszám",{"$f":"E138","v":0},"fő",null,"MPS létszám",{"$f":"E168","v":2},"fő",null,"MPS létszám",{"$f":"M138","v":4},"fő",null,"MPS létszám",{"$f":"M168","v":2},"fő",null,"MPS létszám",{"$f":"U138","v":0},"fő",null,"MPS létszám",{"$f":"U168","v":2},"fő",null,"Össz állásidő",{"$f":"SUM(D16,L16,T16)","v":0},null,"perc","Napi",{"$f":"IF(AB14=0,0,AB13/AB14)","v":0},"db/fő",null,"Össz állásidő",{"$f":"SUM(H16,P16,X16)","v":150},null,"perc","Napi",{"$f":"IF(AJ14=0,0,AJ13/AJ14)","v":72},"db/fő"]
[null,null,"Össz állásidő",{"$f":"SUM(E153:E162)","v":0},"perc",null,"Össz állásidő",{"$f":"SUM(E183:E192)","v":0},"perc",null,"Össz állásidő",{"$f":"SUM(M153:M162)","v":0},"perc",null,"Össz állásidő",{"$f":"SUM(M183:M192)","v":0},"perc",null,"Össz állásidő",{"$f":"SUM(U153:U162)","v":0},"perc",null,"Össz állásidő",{"$f":"SUM(U183:U192)","v":150},"perc",null,"Backlog sor/db",{"$f":"SUM(E148,M148,U148)","v":0},{"$f":"SUM(E150,M150,U150)","v":0},"db","Elvárt",{"$f":"IF(AC14=0,0,AC13/AC14)","v":5},"db/fő",null,"Backlog sor/db",{"$f":"SUM(E178,M178,U178)","v":0},{"$f":"SUM(E180,M180,U180)","v":0},"db","Elvárt",{"$f":"IF(AK14=0,0,AK13/AK14)","v":26},"db/fő"]
[null,null,{"$f":"B194","v":"NDE cella"},null,null,null,{"$f":"B224","v":"T+R"},null,null,null,{"$f":"J194","v":"NDE cella"},null,null,null,{"$f":"J224","v":"T+R"},null,null,null,{"$f":"R194","v":"NDE cella"},null,null,null,{"$f":"R224","v":"T+R"},null,null,null,{"$f":"C17","v":"NDE cella"},null,null,null,null,null,null,null,{"$f":"O17","v":"T+R"}]
[null,null,"Gyártott db",{"$f":"E195","v":0},"db",null,"Gyártott db",{"$f":"E225","v":54},"db",null,"Gyártott db",{"$f":"M195","v":95},"db",null,"Gyártott db",{"$f":"M225","v":54},"db",null,"Gyártott db",{"$f":"U195","v":95},"db",null,"Gyártott db",{"$f":"U225","v":57},"db",null,null,"Aktuális","Elvárt",null,"Éj",{"$f":"IF(D20=0,0,D18/D20)","v":0},"db/fő",null,null,"Aktuális","Elvárt",null,"Éj",{"$f":"IF(H20=0,0,H18/H20)","v":18},"db/fő"]
[null,null,"Elvárt db",{"$f":"E197","v":95},"db",null,"Elvárt db",{"$f":"E227","v":54},"db",null,"Elvárt db",{"$f":"M197","v":95},"db",null,"Elvárt db",{"$f":"M227","v":54},"db",null,"Elvárt db",{"$f":"U197","v":95},"db",null,"Elvárt db",{"$f":"U227","v":54},"db",null,"Darabszám",{"$f":"SUM(D18,L18,T18)","v":190},{"$f":"SUM(D19,L19,T19)","v":285},"db","De",{"$f":"IF(L20=0,0,L18/L20)","v":0},"db/fő",null,"Darabszám",{"$f":"SUM(H18,P18,X18)","v":165},{"$f":"SUM(H19,P19,X19)","v":162},"db","De",{"$f":"IF(P20=0,0,P18/P20)","v":0},"db/fő"]
[null,null,"Akt. létszám",{"$f":"E199","v":0},"fő",null,"Akt. létszám",{"$f":"E229","v":3},"fő",null,"Akt. létszám",{"$f":"M199","v":0},"fő",null,"Akt. létszám",{"$f":"M229","v":0},"fő",null,"Akt. létszám",{"$f":"U199","v":0},"fő",null,"Akt. létszám",{"$f":"U229","v":0},"fő",null,"Létszám",{"$f":"SUM(D20,L20,T20)","v":0},{"$f":"SUM(D21,L21,T21)","v":3},"fő","Du",{"$f":"IF(T20=0,0,T18/T20)","v":0},"db/fő",null,"Létszám",{"$f":"SUM(H20,P20,X20)","v":3},{"$f":"SUM(H21,P21,X21)","v":9},"fő","Du",{"$f":"IF(X20=0,0,X18/X20)","v":0},"db/fő"]
[null,null,"MPS létszám",{"$f":"E198","v":1},"fő",null,"MPS létszám",{"$f":"E228","v":3},"fő",null,"MPS létszám",{"$f":"M198","v":1},"fő",null,"MPS létszám",{"$f":"M228","v":3},"fő",null,"MPS létszám",{"$f":"U198","v":1},"fő",null,"MPS létszám",{"$f":"U228","v":3},"fő",null,"Össz állásidő",{"$f":"SUM(D22,L22,T22)","v":480},null,"perc","Napi",{"$f":"IF(AB20=0,0,AB19/AB20)","v":0},"db/fő",null,"Össz állásidő",{"$f":"SUM(H22,P22,X22)","v":0},null,"perc","Napi",{"$f":"IF(AJ20=0,0,AJ19/AJ20)","v":55},"db/fő"]
[null,null,"Össz állásidő",{"$f":"SUM(E213:E222)","v":480},"perc",null,"Össz állásidő",{"$f":"SUM(E243:E252)","v":0},"perc",null,"Össz állásidő",{"$f":"SUM(M213:M222)","v":0},"perc",null,"Össz állásidő",{"$f":"SUM(M243:M252)","v":0},"perc",null,"Össz állásidő",{"$f":"SUM(U213:U222)","v":0},"perc",null,"Össz állásidő",{"$f":"SUM(U243:U252)","v":0},"perc",null,"Backlog sor/db",{"$f":"SUM(E208,M208,U208)","v":0},{"$f":"SUM(E210,M210,U210)","v":0},"db","Elvárt",{"$f":"IF(AC20=0,0,AC19/AC20)","v":95},"db/fő",null,"Backlog sor/db",{"$f":"SUM(E238,M238,U238)","v":0},{"$f":"SUM(E240,M240,U240)","v":0},"db","Elvárt",{"$f":"IF(AK20=0,0,AK19/AK20)","v":18},"db/fő"]
[null,null,{"$f":"B254","v":"Cella7"},null,null,null,{"$f":"B284","v":"Cella8"},null,null,null,{"$f":"J254","v":"Cella7"},null,null,null,{"$f":"J284","v":"Cella8"},null,null,null,{"$f":"R254","v":"Cella7"},null,null,null,{"$f":"R284","v":"Cella8"},null,null,null,{"$f":"C23","v":"Cella7"},null,null,null,null,null,null,null,{"$f":"O23","v":"Cella8"}]
[null,null,"Gyártott db",{"$f":"E255","v":0},"db",null,"Gyártott db",{"$f":"E285","v":0},"db",null,"Gyártott db",{"$f":"M255","v":0},"db",null,"Gyártott db",{"$f":"M285","v":0},"db",null,"Gyártott db",{"$f":"U255","v":0},"db",null,"Gyártott db",{"$f":"U285","v":0},"db",null,null,"Aktuális","Elvárt",null,"Éj",{"$f":"IF(D26=0,0,D24/D26)","v":0},"db/fő",null,null,"Aktuális","Elvárt",null,"Éj",{"$f":"IF(H26=0,0,H24/H26)","v":0},"db/fő"]
[null,null,"Elvárt db",{"$f":"E257","v":0},"db",null,"Elvárt db",{"$f":"E287","v":0},"db",null,"Elvárt db",{"$f":"M257","v":0},"db",null,"Elvárt db",{"$f":"M287","v":0},"db",null,"Elvárt db",{"$f":"U257","v":0},"db",null,"Elvárt db",{"$f":"U287","v":0},"db",null,"Darabszám",{"$f":"SUM(D24,L24,T24)","v":0},{"$f":"SUM(D25,L25,T25)","v":0},"db","De",{"$f":"IF(L26=0,0,L24/L26)","v":0},"db/fő",null,"Darabszám",{"$f":"SUM(H24,P24,X24)","v":0},{"$f":"SUM(H25,P25,X25)","v":0},"db","De",{"$f":"IF(P26=0,0,P24/P26)","v":0},"db/fő"]
[null,null,"Akt. létszám",{"$f":"E259","v":0},"fő",null,"Akt. létszám",{"$f":"E289","v":0},"fő",null,"Akt. létszám",{"$f":"M259","v":0},"fő",null,"Akt. létszám",{"$f":"M289","v":0},"fő",null,"Akt. létszám",{"$f":"U259","v":0},"fő",null,"Akt. létszám",{"$f":"U289","v":0},"fő",null,"Létszám",{"$f":"SUM(D26,L26,T26)","v":0},{"$f":"SUM(D27,L27,T27)","v":0},"fő","Du",{"$f":"IF(T26=0,0,T24/T26)","v":0},"db/fő",null,"Létszám",{"$f":"SUM(H26,P26,X26)","v":0},{"$f":"SUM(H27,P27,X27)","v":0},"fő","Du",{"$f":"IF(X26=0,0,X24/X26)","v":0},"db/fő"]
[null,null,"MPS létszám",{"$f":"E258","v":0},"fő",null,"MPS létszám",{"$f":"E288","v":0},"fő",null,"MPS létszám",{"$f":"M258","v":0},"fő",null,"MPS létszám",{"$f":"M288","v":0},"fő",null,"MPS létszám",{"$f":"U258","v":0},"fő",null,"MPS létszám",{"$f":"U288","v":0},"fő",null,"Össz állásidő",{"$f":"SUM(D28,L28,T28)","v":0},null,"perc","Napi",{"$f":"IF(AB26=0,0,AB25/AB26)","v":0},"db/fő",null,"Össz állásidő",{"$f":"SUM(H28,P28,X28)","v":0},null,"perc","Napi",{"$f":"IF(AJ26=0,0,AJ25/AJ26)","v":0},"db/fő"]
[null,null,"Össz állásidő",{"$f":"SUM(E273:E282)","v":0},"perc",null,"Össz állásidő",{"$f":"SUM(E303:E312)","v":0},"perc",null,"Össz állásidő",{"$f":"SUM(M273:M282)","v":0},"perc",null,"Össz állásidő",{"$f":"SUM(M303:M312)","v":0},"perc",null,"Össz állásidő",{"$f":"SUM(U273:U282)","v":0},"perc",null,"Össz állásidő",{"$f":"SUM(U303:U312)","v":0},"perc",null,"Backlog sor/db",{"$f":"SUM(E160,M160,U160)","v":0},{"$f":"SUM(E162,M162,U162)","v":0},"db","Elvárt",{"$f":"IF(AC26=0,0,AC25/AC26)","v":0},"db/fő",null,"Backlog sor/db",{"$f":"SUM(E160,M160,U160)","v":0},{"$f":"SUM(E162,M162,U162)","v":0},"db","Elvárt",{"$f":"IF(AK26=0,0,AK25/AK26)","v":0},"db/fő"]
[null,null,{"$f":"B314","v":"Cella9"},null,null,null,{"$f":"B344","v":"Cella10"},null,null,null,{"$f":"J314","v":"Cella9"},null,null,null,{"$f":"J344","v":"Cella10"},null,null,null,{"$f":"R314","v":"Cella9"},null,null,null,{"$f":"R344","v":"Cella10"},null,null,null,{"$f":"C29","v":"Cella9"},null,null,null,null,null,null,null,{"$f":"G29","v":"Cella10"}]
[null,null,"Gyártott db",{"$f":"E315","v":0},"db",null,"Gyártott db",{"$f":"E345","v":0},"db",null,"Gyártott db",{"$f":"M315","v":0},"db",null,"Gyártott db",{"$f":"M345","v":0},"db",null,"Gyártott db",{"$f":"U315","v":0},"db",null,"Gyártott db",{"$f":"U345","v":0},"db",null,null,"Aktuális","Elvárt",null,"Éj",{"$f":"IF(D32=0,0,D30/D32)","v":0},"db/fő",null,null,"Aktuális","Elvárt",null,"Éj",{"$f":"IF(D32=0,0,D30/D32)","v":0},"db/fő"]
[null,null,"Elvárt db",{"$f":"E317","v":0},"db",null,"Elvárt db",{"$f":"E347","v":0},"db",null,"Elvárt db",{"$f":"M317","v":0},"db",null,"Elvárt db",{"$f":"M347","v":0},"db",null,"Elvárt db",{"$f":"U317","v":0},"db",null,"Elvárt db",{"$f":"U347","v":0},"db",null,"Darabszám",{"$f":"SUM(D30,L30,T30)","v":0},{"$f":"SUM(D31,L31,T31)","v":0},"db","De",{"$f":"IF(L32=0,0,L30/L32)","v":0},"db/fő",null,"Darabszám",{"$f":"SUM(H30,P30,X30)","v":0},{"$f":"SUM(H31,P31,X31)","v":0},"db","De",{"$f":"IF(L32=0,0,L30/L32)","v":0},"db/fő"]
[null,null,"Akt. létszám",{"$f":"E319","v":0},"fő",null,"Akt. létszám",{"$f":"E349","v":0},"fő",null,"Akt. létszám",{"$f":"M319","v":0},"fő",null,"Akt. létszám",{"$f":"M349","v":0},"fő",null,"Akt. létszám",{"$f":"U319","v":0},"fő",null,"Akt. létszám",{"$f":"U349","v":0},"fő",null,"Létszám",{"$f":"SUM(D32,L32,T32)","v":0},{"$f":"SUM(D33,L33,T33)","v":0},"fő","Du",{"$f":"IF(T32=0,0,T30/T32)","v":0},"db/fő",null,"Létszám",{"$f":"SUM(H32,P32,X32)","v":0},{"$f":"SUM(H33,P33,X33)","v":0},"fő","Du",{"$f":"IF(T32=0,0,T30/T32)","v":0},"db/fő"]
[null,null,"MPS létszám",{"$f":"E318","v":0},"fő",null,"MPS létszám",{"$f":"E348","v":0},"fő",null,"MPS létszám",{"$f":"M318","v":0},"fő",null,"MPS létszám",{"$f":"M348","v":0},"fő",null,"MPS létszám",{"$f":"U318","v":0},"fő",null,"MPS létszám",{"$f":"U348","v":0},"fő",null,"Össz állásidő",{"$f":"SUM(D34,L34,T34)","v":0},null,"perc","Napi",{"$f":"IF(AB32=0,0,AB31/AB32)","v":0},"db/fő",null,"Össz állásidő",{"$f":"SUM(H34,P34,X34)","v":0},null,"perc","Napi",{"$f":"IF(AJ32=0,0,AJ31/AJ32)","v":0},"db/fő"]
[null,null,"Össz állásidő",{"$f":"SUM(E333:E342)","v":0},"perc",null,"Össz állásidő",{"$f":"SUM(E363:E372)","v":0},"perc",null,"Össz állásidő",{"$f":"SUM(M333:M342)","v":0},"perc",null,"Össz állásidő",{"$f":"SUM(M363:M372)","v":0},"perc",null,"Össz állásidő",{"$f":"SUM(U333:U342)","v":0},"perc",null,"Össz állásidő",{"$f":"SUM(U363:U372)","v":0},"perc",null,"Backlog sor/db",{"$f":"SUM(E166,M166,U166)","v":0},{"$f":"SUM(E168,M168,U168)","v":6},"db","Elvárt",{"$f":"IF(AC32=0,0,AC31/AC32)","v":0},"db/fő",null,"Backlog sor/db",{"$f":"SUM(E172,M172,U172)","v":0},{"$f":"SUM(E174,M174,U174)","v":0},"db","Elvárt",{"$f":"IF(AK32=0,0,AK31/AK32)","v":0},"db/fő"]
[null,null,{"$f":"B374","v":"Cella11"},null,null,null,{"$f":"B404","v":"Cella12"},null,null,null,{"$f":"J374","v":"Cella11"},null,null,null,{"$f":"J404","v":"Cella12"},null,null,null,{"$f":"R374","v":"Cella11"},null,null,null,{"$f":"R404","v":"Cella12"},null,null,null,{"$f":"C35","v":"Cella11"},null,null,null,null,null,null,null,{"$f":"G35","v":"Cella12"}]
[null,null,"Gyártott db",{"$f":"E375","v":0},"db",null,"Gyártott db",{"$f":"E405","v":0},"db",null,"Gyártott db",{"$f":"M375","v":0},"db",null,"Gyártott db",{"$f":"M405","v":0},"db",null,"Gyártott db",{"$f":"U375","v":0},"db",null,"Gyártott db",{"$f":"U405","v":0},"db",null,null,"Aktuális","Elvárt",null,"Éj",{"$f":"IF(D38=0,0,D36/D38)","v":0},"db/fő",null,null,"Aktuális","Elvárt",null,"Éj",{"$f":"IF(H38=0,0,H36/H38)","v":0},"db/fő"]
[null,null,"Elvárt db",{"$f":"E377","v":0},"db",null,"Elvárt db",{"$f":"E407","v":0},"db",null,"Elvárt db",{"$f":"M377","v":0},"db",null,"Elvárt db",{"$f":"M407","v":0},"db",null,"Elvárt db",{"$f":"U377","v":0},"db",null,"Elvárt db",{"$f":"U407","v":0},"db",null,"Darabszám",{"$f":"SUM(D36,L36,T36)","v":0},{"$f":"SUM(D37,L37,T37)","v":0},"db","De",{"$f":"IF(L38=0,0,L36/L38)","v":0},"db/fő",null,"Darabszám",{"$f":"SUM(H36,LX36,X36)","v":0},{"$f":"SUM(H37,P37,X37)","v":0},"db","De",{"$f":"IF(P38=0,0,P36/P38)","v":0},"db/fő"]
[null,null,"Akt. létszám",{"$f":"E379","v":0},"fő",null,"Akt. létszám",{"$f":"E409","v":0},"fő",null,"Akt. létszám",{"$f":"M379","v":0},"fő",null,"Akt. létszám",{"$f":"M409","v":0},"fő",null,"Akt. létszám",{"$f":"U379","v":0},"fő",null,"Akt. létszám",{"$f":"U409","v":0},"fő",null,"Létszám",{"$f":"SUM(D38,L38,T38)","v":0},{"$f":"SUM(D39,L39,T39)","v":0},"fő","Du",{"$f":"IF(T38=0,0,T36/T38)","v":0},"db/fő",null,"Létszám",{"$f":"SUM(H38,P38,X38)","v":0},{"$f":"SUM(H39,P39,X39)","v":0},"fő","Du",{"$f":"IF(X38=0,0,X37/X38)","v":0},"db/fő"]
[null,null,"MPS létszám",{"$f":"E378","v":0},"fő",null,"MPS létszám",{"$f":"E408","v":0},"fő",null,"MPS létszám",{"$f":"M378","v":0},"fő",null,"MPS létszám",{"$f":"M408","v":0},"fő",null,"MPS létszám",{"$f":"U378","v":0},"fő",null,"MPS létszám",{"$f":"U408","v":0},"fő",null,"Össz állásidő",{"$f":"SUM(D40,L40,T40)","v":0},null,"perc","Napi",{"$f":"IF(AB38=0,0,AB37/AB38)","v":0},"db/fő",null,"Össz állásidő",{"$f":"SUM(H40,P40,X40)","v":0},null,"perc","Napi",{"$f":"IF(AJ38=0,0,AJ37/AJ38)","v":0},"db/fő"]
[null,null,"Össz állásidő",{"$f":"SUM(E393:E402)","v":0},"perc",null,"Össz állásidő",{"$f":"SUM(E423:E432)","v":0},"perc",null,"Össz állásidő",{"$f":"SUM(M393:M402)","v":0},"perc",null,"Össz állásidő",{"$f":"SUM(M423:M432)","v":0},"perc",null,"Össz állásidő",{"$f":"SUM(U393:U402)","v":0},"perc",null,"Össz állásidő",{"$f":"SUM(U423:U432)","v":0},"perc",null,"Backlog sor/db",{"$f":"SUM(E172,M172,U172)","v":0},{"$f":"SUM(E174,M174,U174)","v":0},"db","Elvárt",{"$f":"IF(AC38=0,0,AC37/AC38)","v":0},"db/fő",null,"Backlog sor/db",{"$f":"SUM(E178,M178,U178)","v":0},{"$f":"SUM(E180,M180,U180)","v":0},"db","Elvárt",{"$f":"IF(AK38=0,0,AK37/AK38)","v":0},"db/fő"]
[null,null,{"$f":"B434","v":"Cella13"},null,null,null,{"$f":"B464","v":"Cella14"},null,null,null,{"$f":"J434","v":"Cella13"},null,null,null,{"$f":"J464","v":"Cella14"},null,null,null,{"$f":"R434","v":"Cella13"},null,null,null,{"$f":"R464","v":"Cella14"},null,null,null,{"$f":"C41","v":"Cella13"},null,null,null,null,null,null,null,{"$f":"G41","v":"Cella14"}]
[null,null,"Gyártott db",{"$f":"E435","v":0},"db",null,"Gyártott db",{"$f":"E465","v":0},"db",null,"Gyártott db",{"$f":"M435","v":0},"db",null,"Gyártott db",{"$f":"M465","v":0},"db",null,"Gyártott db",{"$f":"U435","v":0},"db",null,"Gyártott db",{"$f":"U465","v":0},"db",null,null,"Aktuális","Elvárt",null,"Éj",{"$f":"IF(D44=0,0,D42/D44)","v":0},"db/fő",null,null,"Aktuális","Elvárt",null,"Éj",{"$f":"IF(H44=0,0,H42/H44)","v":0},"db/fő"]
[null,null,"Elvárt db",{"$f":"E437","v":0},"db",null,"Elvárt db",{"$f":"E467","v":0},"db",null,"Elvárt db",{"$f":"M437","v":0},"db",null,"Elvárt db",{"$f":"M467","v":0},"db",null,"Elvárt db",{"$f":"U437","v":0},"db",null,"Elvárt db",{"$f":"U467","v":0},"db",null,"Darabszám",{"$f":"SUM(D42,L42,T42)","v":0},{"$f":"SUM(D43,L43,T43)","v":0},"db","De",{"$f":"IF(L44=0,0,L42/L44)","v":0},"db/fő",null,"Darabszám",{"$f":"SUM(H42,P42,X42)","v":0},{"$f":"SUM(H43,P43,X43)","v":0},"db","De",{"$f":"IF(P44=0,0,P42/P44)","v":0},"db/fő"]
[null,null,"Akt. létszám",{"$f":"E439","v":0},"fő",null,"Akt. létszám",{"$f":"E469","v":0},"fő",null,"Akt. létszám",{"$f":"M439","v":0},"fő",null,"Akt. létszám",{"$f":"M469","v":0},"fő",null,"Akt. létszám",{"$f":"U439","v":0},"fő",null,"Akt. létszám",{"$f":"U469","v":0},"fő",null,"Létszám",{"$f":"SUM(D44,L44,T44)","v":0},{"$f":"SUM(D45,L45,T45)","v":0},"fő","Du",{"$f":"IF(T44=0,0,T42/T44)","v":0},"db/fő",null,"Létszám",{"$f":"SUM(D56,L56,T56)","v":0},{"$f":"SUM(D57,L57,T57)","v":0},"fő","Du",{"$f":"IF(X44=0,0,X42/X44)","v":0},"db/fő"]
[null,null,"MPS létszám",{"$f":"E438","v":0},"fő",null,"MPS létszám",{"$f":"E468","v":0},"fő",null,"MPS létszám",{"$f":"M438","v":0},"fő",null,"MPS létszám",{"$f":"M468","v":0},"fő",null,"MPS létszám",{"$f":"U438","v":0},"fő",null,"MPS létszám",{"$f":"U468","v":0},"fő",null,"Össz állásidő",{"$f":"SUM(D46,L46,T46)","v":0},null,"perc","Napi",{"$f":"IF(AB44=0,0,AB43/AB44)","v":0},"db/fő",null,"Össz állásidő",{"$f":"SUM(D58,L58,T58)","v":0},null,"perc","Napi",{"$f":"IF(AJ44=0,0,AJ43/AJ44)","v":0},"db/fő"]
[null,null,"Össz állásidő",{"$f":"SUM(E453:E462)","v":0},"perc",null,"Össz állásidő",{"$f":"SUM(E483:E492)","v":0},"perc",null,"Össz állásidő",{"$f":"SUM(M453:M462)","v":0},"perc",null,"Össz állásidő",{"$f":"SUM(M483:M492)","v":0},"perc",null,"Össz állásidő",{"$f":"SUM(U453:U462)","v":0},"perc",null,"Össz állásidő",{"$f":"SUM(U483:U492)","v":0},"perc",null,"Backlog sor/db",{"$f":"SUM(E178,M178,U178)","v":0},{"$f":"SUM(E180,M180,U180)","v":0},"db","Elvárt",{"$f":"IF(AC44=0,0,AC43/AC44)","v":0},"db/fő",null,"Backlog sor/db",{"$f":"SUM(E190,M190,U190)","v":0},{"$f":"SUM(E192,M192,U192)","v":0},"db","Elvárt",{"$f":"IF(AK44=0,0,AK43/AK44)","v":0},"db/fő"]
[null,null,{"$f":"B494","v":"Cella15"},null,null,null,null,null,null,null,{"$f":"J494","v":"Cella15"},null,null,null,null,null,null,null,{"$f":"R494","v":"Cella15"},null,null,null,null,null,null,null,{"$f":"C47","v":"Cella15"}]
[null,null,"Gyártott db",{"$f":"E495","v":0},"db",null,null,null,null,null,"Gyártott db",{"$f":"M495","v":0},"db",null,null,null,null,null,"Gyártott db",{"$f":"U495","v":0},"db",null,null,null,null,null,null,"Aktuális","Elvárt",null,"Éj",{"$f":"IF(D50=0,0,D48/D50)","v":0},"db/fő"]
[null,null,"Elvárt db",{"$f":"E497","v":0},"db",null,null,null,null,null,"Elvárt db",{"$f":"M497","v":0},"db",null,null,null,null,null,"Elvárt db",{"$f":"U497","v":0},"db",null,null,null,null,null,"Darabszám",{"$f":"SUM(D48,L48,T48)","v":0},{"$f":"SUM(D49,L49,T49)","v":0},"db","De",{"$f":"IF(L50=0,0,L48/L50)","v":0},"db/fő"]
[null,null,"Akt. létszám",{"$f":"E499","v":0},"fő",null,null,null,null,null,"Akt. létszám",{"$f":"M499","v":0},"fő",null,null,null,null,null,"Akt. létszám",{"$f":"U499","v":0},"fő",null,null,null,null,null,"Létszám",{"$f":"SUM(D50,L50,T50)","v":0},{"$f":"SUM(D51,L51,T51)","v":0},"fő","Du",{"$f":"IF(T50=0,0,T48/T50)","v":0},"db/fő"]
[null,null,"MPS létszám",{"$f":"E498","v":0},"fő",null,null,null,null,null,"MPS létszám",{"$f":"M498","v":0},"fő",null,null,null,null,null,"MPS létszám",{"$f":"U498","v":0},"fő",null,null,null,null,null,"Össz állásidő",{"$f":"SUM(D52,L52,T52)","v":0},null,"perc","Napi",{"$f":"IF(AB50=0,0,AB49/AB50)","v":0},"db/fő"]
[null,null,"Össz állásidő",{"$f":"SUM(E513:E522)","v":0},"perc",null,null,null,null,null,"Össz állásidő",{"$f":"SUM(M513:M522)","v":0},"perc",null,null,null,null,null,"Össz állásidő",{"$f":"SUM(U513:U522)","v":0},"perc",null,null,null,null,null,"Backlog sor/db",{"$f":"SUM(E194,M194,U194)","v":0},{"$f":"SUM(E196,M196,U196)","v":0},"db","Elvárt",{"$f":"IF(AC50=0,0,AC49/AC50)","v":0},"db/fő"]
[]
[null,"Megjegyzés/egyéb fontos információ:",null,null,null,null,null,null,"Megoldva?","Megjegyzés/egyéb fontos információ:",null,null,null,null,null,null,"Megoldva?","Megjegyzés/egyéb fontos információ:",null,null,null,null,null,null,"Megoldva?"]
[null,"Biztonság",null,null,null,null,null,null,null,"Biztonság",null,null,null,null,null,null,null,"Biztonság"]
[null,null,null,null,null,null,null,null,null,null,null,null,null,null,null,null,null,null,null," "]
[null,"Minőség",null,null,null,null,null,null,null,"Minőség",null,null,null,null,null,null,null,"Minőség"]
[]
[null,"Termelés",null,"Besütő:   db   E-tower:   db",null,null,null,null,null,"Termelés",null,"Besütő:14db, E- tower:36db,",null,null,null,null,null,"Termelés",null,"BESÜTŐ:  64db, E-TOWER:  40db ."]
[null,null,null,"BWS: 40db  Lakkozó:  71db",null,null,null,null,null,null,null,"BWS:52db Alliance:40db Fornax:0db ",null,null,null,null,null,null,null,"BWS:40db  db"]
[null,"Dolgozók",null,"Szabi: -    Beteg: -",null,null,null,null,null,"Dolgozók",null,"Szabi:2fő  Beteg:2fő  ",null,null,null,null,null,"Dolgozók"]
[null,null,null,"112 Qtn: 1fő",null,null,null,null,null,null,null,null,null,null,null,null,null,null,null,"1 fő CNC- s a motorsoron. Szabi:2fő   Beteg:3fő"]
[null,"Támogatók",null,"megrendelő:16 MGE: 10db",null,null,null,null,null,"Támogatók",null,"megrendelő : 11db HM: 12db",null,null,null,null,null,"Támogatók",null,"megrendelő:10db       HM:17db"]
[]
[null,"5S",null,null,null,null,null,null,null,"5S",null,null,null,null,null,null,null,"5S"]
[]
[null,"Karbantartás",null,null,null,null,null,null,null,"Karbantartás",null,"T+R bal alsó tálca minden felnyitáskor",null,null,null,null,null,"Karbantartás",null,"a motorsoron lift és darú javítás PM12 mlsz:6909707"]
[null,null,null,null,null,null,null,null,null,null,null,"letilt. PM11 elküldve."]
[]
[]
[null,null,null,"Szt. backlog:"]
[null,null,null,"Motor backlog:"]
[]
[null,{"$f":"Alapadatok!C5","v":"Motor sor"},null,null,null,null,null,null,null,{"$f":"B74","v":"Motor sor"},null,null,null,null,null,null,null,{"$f":"B74","v":"Motor sor"}]
[null,null,null,"Gyártott:",52,"db",null,null,null,null,null,"Gyártott:",56,"db",null,null,null,null,null,"Gyártott:",54,"db"]
[]
[null,null,null,"Elvárt darabszám:",52,"db",null,"Elvárt db/op:",7.43,null,null,"Elvárt darabszám:",54,"db",null,"Elvárt db/op:",6.75,null,null,"Elvárt darabszám:",54,"db",null,"Elvárt db/op:",6.75]
[null,null,null,"Szükséges létszám: ",7,"fő",null,null,null,null,null,"Szükséges létszám:",8,"fő",null,null,null,null,null,"Szükséges létszám:",8,"fő"]
[null,null,null,"Aktuális létszám:",8,"fő",null,"Aktuális db/op:",6.5,null,null,"Aktuális létszám:",0,"fő",null,"Aktuális db/op:",0,null,null,"Aktuális létszám:",0,"fő",null,"Aktuális db/op:",0]
[]
[null,null,null,"Operátor",7,"fő",null,null,null,null,null,"Operátor",6,"fő",null,null,null,null,null,"Operátor",8,"fő"]
[null,null,null,"Koordinátor",1,"fő",null,null,null,null,null,"Koordinátor",1,"fő",null,null,null,null,null,"Koordinátor",null,"fő"]
[null,null,null,"Beállító",null,"fő",null,null,null,null,null,"Beállító",null,"fő",null,null,null,null,null,"Beállító",null,"fő"]
[null,null,null,"QA, Service",null,"fő",null,null,null,null,null,"QA, Service",null,"fő",null,null,null,null,null,"QA, Service",null,"fő"]
[null,null,null,"Anyagszállító",null,"fő",null,null,null,null,null,"Anyagszállító",null,"fő",null,null,null,null,null,"Anyagszállító",null,"fő"]
[null,null,null,"Egyéb",null,"fő",null,null,null,null,null,"Egyéb",1,"fő",null,null,null,null,null,"Egyéb",null,"fő"]
[]
[null,null,null,"Backlog:",null,"sorok száma",null,null,null,null,null,"Backlog:",null,"sorok száma",null,null,null,null,null,"Backlog:",null,"sorok száma"]
[]
[null,null,null,"Backlog:",null,"összes darab",null,null,null,null,null,"Backlog:",null,"összes darab",null,null,null,null,null,"Backlog:",null,"összes darab"]
[]
[null,null,null,"Kód:","Időtartam","Állásidő megnevezése",null,null,null,null,null,"Kód:","Időtartam","Állásidő megnevezése",null,null,null,null,null,"Kód:","Időtartam","Állásidő megnevezése"]
[null,null,null,200,30,{"$f":"VLOOKUP(D93,állásidő_kódok!$B:$D,3,0)","v":"AE - Anyaghiány Szupermarketból"},null,null,null,null,null,200,200,{"$f":"VLOOKUP(L93,állásidő_kódok!$B:$D,3,0)","v":"AE - Anyaghiány Szupermarketból"},null,null,null,null,null,200,100,{"$f":"VLOOKUP(T93,állásidő_kódok!$B:$D,3,0)","v":"AE - Anyaghiány Szupermarketból"}]
[null,null,null,null,null,{"$f":"VLOOKUP(D94,állásidő_kódok!$B:$D,3,0)","v":{"$error":"#N/A"}},null,null,null,null,null,null,null,{"$f":"VLOOKUP(L94,állásidő_kódok!$B:$D,3,0)","v":{"$error":"#N/A"}},null,null,null,null,null,null,null,{"$f":"VLOOKUP(T94,állásidő_kódok!$B:$D,3,0)","v":{"$error":"#N/A"}}]
[null,null,null,null,null,{"$f":"VLOOKUP(D95,állásidő_kódok!$B:$D,3,0)","v":{"$error":"#N/A"}},null,null,null,null,null,null,null,{"$f":"VLOOKUP(L95,állásidő_kódok!$B:$D,3,0)","v":{"$error":"#N/A"}},null,null,null,null,null,null,null,{"$f":"VLOOKUP(T95,állásidő_kódok!$B:$D,3,0)","v":{"$error":"#N/A"}}]
[null,null,null,null,null,{"$f":"VLOOKUP(D96,állásidő_kódok!$B:$D,3,0)","v":{"$error":"#N/A"}},null,null,null,null,null,null,null,{"$f":"VLOOKUP(L96,állásidő_kódok!$B:$D,3,0)","v":{"$error":"#N/A"}},null,null,null,null,null,null,null,{"$f":"VLOOKUP(T96,állásidő_kódok!$B:$D,3,0)","v":{"$error":"#N/A"}}]
[null,null,null,null,null,{"$f":"VLOOKUP(D97,állásidő_kódok!$B:$D,3,0)","v":{"$error":"#N/A"}},null,null,null,null,null,null,null,{"$f":"VLOOKUP(L97,állásidő_kódok!$B:$D,3,0)","v":{"$error":"#N/A"}},null,null,null,null,null,null,null,{"$f":"VLOOKUP(T97,állásidő_kódok!$B:$D,3,0)","v":{"$error":"#N/A"}}]
[null,null,null,null,null,{"$f":"VLOOKUP(D98,állásidő_kódok!$B:$D,3,0)","v":{"$error":"#N/A"}},null,null,null,null,null,null,null,{"$f":"VLOOKUP(L98,állásidő_kódok!$B:$D,3,0)","v":{"$error":"#N/A"}},null,null,null,null,null,null,null,{"$f":"VLOOKUP(T98,állásidő_kódok!$B:$D,3,0)","v":{"$error":"#N/A"}}]
[null,null,null,null,null,{"$f":"VLOOKUP(D99,állásidő_kódok!$B:$D,3,0)","v":{"$error":"#N/A"}},null,null,null,null,null,null,null,{"$f":"VLOOKUP(L99,állásidő_kódok!$B:$D,3,0)","v":{"$error":"#N/A"}},null,null,null,null,null,null,null,{"$f":"VLOOKUP(T99,állásidő_kódok!$B:$D,3,0)","v":{"$error":"#N/A"}}]
[null,null,null,null,null,{"$f":"VLOOKUP(D100,állásidő_kódok!$B:$D,3,0)","v":{"$error":"#N/A"}},null,null,null,null,null,null,null,{"$f":"VLOOKUP(L100,állásidő_kódok!$B:$D,3,0)","v":{"$error":"#N/A"}},null,null,null,null,null,null,null,{"$f":"VLOOKUP(T100,állásidő_kódok!$B:$D,3,0)","v":{"$error":"#N/A"}}]
[null,null,null,null,null,{"$f":"VLOOKUP(D101,állásidő_kódok!$B:$D,3,0)","v":{"$error":"#N/A"}},null,null,null,null,null,null,null,{"$f":"VLOOKUP(L101,állásidő_kódok!$B:$D,3,0)","v":{"$error":"#N/A"}},null,null,null,null,null,null,null,{"$f":"VLOOKUP(T101,állásidő_kódok!$B:$D,3,0)","v":{"$error":"#N/A"}}]
[null,null,null,205,400,{"$f":"VLOOKUP(D102,állásidő_kódok!$B:$D,3,0)","v":"AE - Csomagolóanyag hiány"},null,null,null,null,null,1,100,{"$f":"VLOOKUP(L102,állásidő_kódok!$B:$D,3,0)","v":"E-I. - Emberi erőforrás hiány"},null,null,null,null,null,5,200,{"$f":"VLOOKUP(T102,állásidő_kódok!$B:$D,3,0)","v":"E-I. - 5%-os emberi erőforrás hiány"}]
[null,null,null,null,"Állásidők nélküli teljesítés:",{"$f":"((SUM(E93:E102)/445))+E75/E77","v":1.9662921348314608},null,null,null,null,null,null,"Állásidők nélküli teljesítés:",{"$f":"((SUM(M93:M102)/445))+M75/M77","v":1.7111943404078236},null,null,null,null,null,null,"Állásidők nélküli teljesítés:",{"$f":"((SUM(U93:U102)/445))+U75/U77","v":1.6741573033707864}]
[null,{"$f":"Alapadatok!C6","v":"2p Sztátor sor"},null,null,null,null,null,null,null,{"$f":"B104","v":"2p Sztátor sor"},null,null,null,null,null,null,null,{"$f":"B104","v":"2p Sztátor sor"}]
[null,null,null,"Gyártott:",42,"db",null,null,null,null,null,"Gyártott:",52,"db",null,null,null,null,null,"Gyártott:",33,"db"]
[]
[null,null,null,"Elvárt darabszám:",50,"db",null,"Elvárt db/op:",8.33,null,null,"Elvárt darabszám:",52,"db",null,"Elvárt db/op:",8.67,null,null,"Elvárt darabszám:",45,"db",null,"Elvárt db/op:",9]
[null,null,null,"Szükséges létszám: ",6,"fő",null,null,null,null,null,"Szükséges létszám:",6,"fő",null,null,null,null,null,"Szükséges létszám:",5,"fő"]
[null,null,null,"Aktuális létszám:",7,"fő",null,"Aktuális db/op:",6,null,null,"Aktuális létszám:",0,"fő",null,"Aktuális db/op:",0,null,null,"Aktuális létszám:",0,"fő",null,"Aktuális db/op:",0]
[]
[null,null,null,"Operátor",5,"fő",null,null,null,null,null,"Operátor",6,"fő",null,null,null,null,null,"Operátor",4,"fő"]
[null,null,null,"Koordinátor",1,"fő",null,null,null,null,null,"Koordinátor",1,"fő",null,null,null,null,null,"Koordinátor",1,"fő"]
[null,null,null,"Beállító",1,"fő",null,null,null,null,null,"Beállító",1,"fő",null,null,null,null,null,"Beállító",1,"fő"]
[null,null,null,"QA, Service",null,"fő",null,null,null,null,null,"QA, Service",null,"fő",null,null,null,null,null,"QA, Service",null,"fő"]
[null,null,null,"Anyagszállító",null,"fő",null,null,null,null,null,"Anyagszállító",null,"fő",null,null,null,null,null,"Anyagszállító",null,"fő"]
[null,null,null,"Egyéb",null,"fő",null,null,null,null,null,"Egyéb",null,"fő",null,null,null,null,null,"Egyéb",null,"fő"]
[]
[null,null,null,"Backlog:",null,"sorok száma",null,null,null,null,null,"Backlog:",null,"sorok száma",null,null,null,null,null,"Backlog:",null,"sorok száma"]
[]
[null,null,null,"Backlog:",null,"összes darab",null,null,null,null,null,"Backlog:",null,"összes darab",null,null,null,null,null,"Backlog:",null,"összes darab"]
[]
[null,null,null,"Kód:","Időtartam","Állásidő megnevezése",null,null,null,null,null,"Kód:","Időtartam","Állásidő megnevezése",null,null,null,null,null,"Kód:","Időtartam","Állásidő megnevezése"]
[null,null,null,null,null,{"$f":"VLOOKUP(D123,állásidő_kódok!$B:$D,3,0)","v":{"$error":"#N/A"}},null,null,null,null,null,null,null,{"$f":"VLOOKUP(L123,állásidő_kódok!$B:$D,3,0)","v":{"$error":"#N/A"}},null,null,null,null,null,100,60,{"$f":"VLOOKUP(T123,állásidő_kódok!$B:$D,3,0)","v":"E-II. - Betanulás-betanítás"}]
[null,null,null,null,null,{"$f":"VLOOKUP(D124,állásidő_kódok!$B:$D,3,0)","v":{"$error":"#N/A"}},null,null,null,null,null,null,null,{"$f":"VLOOKUP(L124,állásidő_kódok!$B:$D,3,0)","v":{"$error":"#N/A"}},null,null,null,null,null,1,200,{"$f":"VLOOKUP(T124,állásidő_kódok!$B:$D,3,0)","v":"E-I. - Emberi erőforrás hiány"}]
[null,null,null,null,null,{"$f":"VLOOKUP(D125,állásidő_kódok!$B:$D,3,0)","v":{"$error":"#N/A"}},null,null,null,null,null,null,null,{"$f":"VLOOKUP(L125,állásidő_kódok!$B:$D,3,0)","v":{"$error":"#N/A"}},null,null,null,null,null,null,null,{"$f":"VLOOKUP(T125,állásidő_kódok!$B:$D,3,0)","v":{"$error":"#N/A"}}]
[null,null,null,null,null,{"$f":"VLOOKUP(D126,állásidő_kódok!$B:$D,3,0)","v":{"$error":"#N/A"}},null,null,null,null,null,null,null,{"$f":"VLOOKUP(L126,állásidő_kódok!$B:$D,3,0)","v":{"$error":"#N/A"}},null,null,null,null,null,null,null,{"$f":"VLOOKUP(T126,állásidő_kódok!$B:$D,3,0)","v":{"$error":"#N/A"}}]
[null,null,null,null,null,{"$f":"VLOOKUP(D127,állásidő_kódok!$B:$D,3,0)","v":{"$error":"#N/A"}},null,null,null,null,null,null,null,{"$f":"VLOOKUP(L127,állásidő_kódok!$B:$D,3,0)","v":{"$error":"#N/A"}},null,null,null,null,null,null,null,{"$f":"VLOOKUP(T127,állásidő_kódok!$B:$D,3,0)","v":{"$error":"#N/A"}}]
[null,null,null,null,null,{"$f":"VLOOKUP(D128,állásidő_kódok!$B:$D,3,0)","v":{"$error":"#N/A"}},null,null,null,null,null,null,null,{"$f":"VLOOKUP(L128,állásidő_kódok!$B:$D,3,0)","v":{"$error":"#N/A"}},null,null,null,null,null,null,null,{"$f":"VLOOKUP(T128,állásidő_kódok!$B:$D,3,0)","v":{"$error":"#N/A"}}]
[null,null,null,null,null,{"$f":"VLOOKUP(D129,állásidő_kódok!$B:$D,3,0)","v":{"$error":"#N/A"}},null,null,null,null,null,null,null,{"$f":"VLOOKUP(L129,állásidő_kódok!$B:$D,3,0)","v":{"$error":"#N/A"}},null,null,null,null,null,null,null,{"$f":"VLOOKUP(T129,állásidő_kódok!$B:$D,3,0)","v":{"$error":"#N/A"}}]
[null,null,null,null,null,{"$f":"VLOOKUP(D130,állásidő_kódok!$B:$D,3,0)","v":{"$error":"#N/A"}},null,null,null,null,null,null,null,{"$f":"VLOOKUP(L130,állásidő_kódok!$B:$D,3,0)","v":{"$error":"#N/A"}},null,null,null,null,null,null,null,{"$f":"VLOOKUP(T130,állásidő_kódok!$B:$D,3,0)","v":{"$error":"#N/A"}}]
[null,null,null,null,null,{"$f":"VLOOKUP(D131,állásidő_kódok!$B:$D,3,0)","v":{"$error":"#N/A"}},null,null,null,null,null,null,null,{"$f":"VLOOKUP(L131,állásidő_kódok!$B:$D,3,0)","v":{"$error":"#N/A"}},null,null,null,null,null,null,null,{"$f":"VLOOKUP(T131,állásidő_kódok!$B:$D,3,0)","v":{"$error":"#N/A"}}]
[null,null,null,null,null,{"$f":"VLOOKUP(D132,állásidő_kódok!$B:$D,3,0)","v":{"$error":"#N/A"}},null,null,null,null,null,null,null,{"$f":"VLOOKUP(L132,állásidő_kódok!$B:$D,3,0)","v":{"$error":"#N/A"}},null,null,null,null,null,null,null,{"$f":"VLOOKUP(T132,állásidő_kódok!$B:$D,3,0)","v":{"$error":"#N/A"}}]
[null,null,null,null,"Állásidők nélküli teljesítés:",{"$f":"((SUM(E123:E132)/445))+E105/E107","v":0.84},null,null,null,null,null,null,"Állásidők nélküli teljesítés:",{"$f":"((SUM(M123:M132)/445))+M105/M107","v":1},null,null,null,null,null,null,"Állásidők nélküli teljesítés:",{"$f":"((SUM(U123:U132)/445))+U105/U107","v":1.3176029962546816}]
[null,{"$f":"Alapadatok!C7","v":"4p sztátor sor"},null,null,null,null,null,null,null,{"$f":"B134","v":"4p sztátor sor"},null,null,null,null,null,null,null,{"$f":"B134","v":"4p sztátor sor"}]
[null,null,null,"Gyártott:",null,"db",null,null,null,null,null,"Gyártott:",20,"db",null,null,null,null,null,"Gyártott:",null,"db"]
[]
[null,null,null,"Elvárt darabszám:",0,"db",null,"Elvárt db/op:",0,null,null,"Elvárt darabszám:",20,"db",null,"Elvárt db/op:",5,null,null,"Elvárt darabszám:",0,"db",null,"Elvárt db/op:",0]
[null,null,null,"Szükséges létszám: ",0,"fő",null,null,null,null,null,"Szükséges létszám:",4,"fő",null,null,null,null,null,"Szükséges létszám:",0,"fő"]
[null,null,null,"Aktuális létszám:",0,"fő",null,"Aktuális db/op:",0,null,null,"Aktuális létszám:",0,"fő",null,"Aktuális db/op:",0,null,null,"Aktuális létszám:",0,"fő",null,"Aktuális db/op:",0]
[]
[null,null,null,"Operátor",null,"fő",null,null,null,null,null,"Operátor",4,"fő",null,null,null,null,null,"Operátor",null,"fő"]
[null,null,null,"Koordinátor",null,"fő",null,null,null,null,null,"Koordinátor",null,"fő",null,null,null,null,null,"Koordinátor",null,"fő"]
[null,null,null,"Beállító",null,"fő",null,null,null,null,null,"Beállító",null,"fő",null,null,null,null,null,"Beállító",null,"fő"]
[null,null,null,"QA, Service",null,"fő",null,null,null,null,null,"QA, Service",null,"fő",null,null,null,null,null,"QA, Service",null,"fő"]
[null,null,null,"Anyagszállító",null,"fő",null,null,null,null,null,"Anyagszállító",null,"fő",null,null,null,null,null,"Anyagszállító",null,"fő"]
[null,null,null,"Egyéb",null,"fő",null,null,null,null,null,"Egyéb",null,"fő",null,null,null,null,null,"Egyéb",null,"fő"]
[]
[null,null,null,"Backlog:",null,"sorok száma",null,null,null,null,null,"Backlog:",null,"sorok száma",null,null,null,null,null,"Backlog:",null,"sorok száma"]
[]
[null,null,null,"Backlog:",null,"összes darab",null,null,null,null,null,"Backlog:",null,"összes darab",null,null,null,null,null,"Backlog:",null,"összes darab"]
[]
[null,null,null,"Kód:","Időtartam","Állásidő megnevezése",null,null,null,null,null,"Kód:","Időtartam","Állásidő megnevezése",null,null,null,null,null,"Kód:","Időtartam","Állásidő megnevezése"]
[null,null,null,null,null,{"$f":"VLOOKUP(D153,állásidő_kódok!$B:$D,3,0)","v":{"$error":"#N/A"}},null,null,null,null,null,null,null,{"$f":"VLOOKUP(L153,állásidő_kódok!$B:$D,3,0)","v":{"$error":"#N/A"}},null,null,null,null,null,null,null,{"$f":"VLOOKUP(T153,állásidő_kódok!$B:$D,3,0)","v":{"$error":"#N/A"}}]
[null,null,null,null,null,{"$f":"VLOOKUP(D154,állásidő_kódok!$B:$D,3,0)","v":{"$error":"#N/A"}},null,null,null,null,null,null,null,{"$f":"VLOOKUP(L154,állásidő_kódok!$B:$D,3,0)","v":{"$error":"#N/A"}},null,null,null,null,null,null,null,{"$f":"VLOOKUP(T154,állásidő_kódok!$B:$D,3,0)","v":{"$error":"#N/A"}}]
[null,null,null,null,null,{"$f":"VLOOKUP(D155,állásidő_kódok!$B:$D,3,0)","v":{"$error":"#N/A"}},null,null,null,null,null,null,null,{"$f":"VLOOKUP(L155,állásidő_kódok!$B:$D,3,0)","v":{"$error":"#N/A"}},null,null,null,null,null,null,null,{"$f":"VLOOKUP(T155,állásidő_kódok!$B:$D,3,0)","v":{"$error":"#N/A"}}]
[null,null,null,null,null,{"$f":"VLOOKUP(D156,állásidő_kódok!$B:$D,3,0)","v":{"$error":"#N/A"}},null,null,null,null,null,null,null,{"$f":"VLOOKUP(L156,állásidő_kódok!$B:$D,3,0)","v":{"$error":"#N/A"}},null,null,null,null,null,null,null,{"$f":"VLOOKUP(T156,állásidő_kódok!$B:$D,3,0)","v":{"$error":"#N/A"}}]
[null,null,null,null,null,{"$f":"VLOOKUP(D157,állásidő_kódok!$B:$D,3,0)","v":{"$error":"#N/A"}},null,null,null,null,null,null,null,{"$f":"VLOOKUP(L157,állásidő_kódok!$B:$D,3,0)","v":{"$error":"#N/A"}},null,null,null,null,null,null,null,{"$f":"VLOOKUP(T157,állásidő_kódok!$B:$D,3,0)","v":{"$error":"#N/A"}}]
[null,null,null,null,null,{"$f":"VLOOKUP(D158,állásidő_kódok!$B:$D,3,0)","v":{"$error":"#N/A"}},null,null,null,null,null,null,null,{"$f":"VLOOKUP(L158,állásidő_kódok!$B:$D,3,0)","v":{"$error":"#N/A"}},null,null,null,null,null,null,null,{"$f":"VLOOKUP(T158,állásidő_kódok!$B:$D,3,0)","v":{"$error":"#N/A"}}]
[null,null,null,null,null,{"$f":"VLOOKUP(D159,állásidő_kódok!$B:$D,3,0)","v":{"$error":"#N/A"}},null,null,null,null,null,null,null,{"$f":"VLOOKUP(L159,állásidő_kódok!$B:$D,3,0)","v":{"$error":"#N/A"}},null,null,null,null,null,null,null,{"$f":"VLOOKUP(T159,állásidő_kódok!$B:$D,3,0)","v":{"$error":"#N/A"}}]
[null,null,null,null,null,{"$f":"VLOOKUP(D160,állásidő_kódok!$B:$D,3,0)","v":{"$error":"#N/A"}},null,null,null,null,null,null,null,{"$f":"VLOOKUP(L160,állásidő_kódok!$B:$D,3,0)","v":{"$error":"#N/A"}},null,null,null,null,null,null,null,{"$f":"VLOOKUP(T160,állásidő_kódok!$B:$D,3,0)","v":{"$error":"#N/A"}}]
[null,null,null,null,null,{"$f":"VLOOKUP(D161,állásidő_kódok!$B:$D,3,0)","v":{"$error":"#N/A"}},null,null,null,null,null,null,null,{"$f":"VLOOKUP(L161,állásidő_kódok!$B:$D,3,0)","v":{"$error":"#N/A"}},null,null,null,null,null,null,null,{"$f":"VLOOKUP(T161,állásidő_kódok!$B:$D,3,0)","v":{"$error":"#N/A"}}]
[null,null,null,null,null,{"$f":"VLOOKUP(D162,állásidő_kódok!$B:$D,3,0)","v":{"$error":"#N/A"}},null,null,null,null,null,null,null,{"$f":"VLOOKUP(L162,állásidő_kódok!$B:$D,3,0)","v":{"$error":"#N/A"}},null,null,null,null,null,null,null,{"$f":"VLOOKUP(T162,állásidő_kódok!$B:$D,3,0)","v":{"$error":"#N/A"}}]
[null,null,null,null,"Állásidők nélküli teljesítés:",{"$f":"((SUM(E153:E162)/445))+E135/E137","v":{"$error":"#DIV/0!"}},null,null,null,null,null,null,"Állásidők nélküli teljesítés:",{"$f":"((SUM(M153:M162)/445))+M135/M137","v":1},null,null,null,null,null,null,"Állásidők nélküli teljesítés:",{"$f":"((SUM(U153:U162)/445))+U135/U137","v":{"$error":"#DIV/0!"}}]
[null,{"$f":"Alapadatok!C8","v":"DE cella"},null,null,null,null,null,null,null,{"$f":"B164","v":"DE cella"},null,null,null,null,null,null,null,{"$f":"B164","v":"DE cella"}]
[null,null,null,"Gyártott:",54,"db",null,null,null,null,null,"Gyártott:",57,"db",null,null,null,null,null,"Gyártott:",33,"db"]
[]
[null,null,null,"Elvárt darabszám:",52,"db",null,"Elvárt db/op:",26,null,null,"Elvárt darabszám:",52,"db",null,"Elvárt db/op:",26,null,null,"Elvárt darabszám:",52,"db",null,"Elvárt db/op:",26]
[null,null,null,"Szükséges létszám: ",2,"fő",null,null,null,null,null,"Szükséges létszám:",2,"fő",null,null,null,null,null,"Szükséges létszám:",2,"fő"]
[null,null,null,"Aktuális létszám:",2,"fő",null,"Aktuális db/op:",27,null,null,"Aktuális létszám:",0,"fő",null,"Aktuális db/op:",0,null,null,"Aktuális létszám:",0,"fő",null,"Aktuális db/op:",0]
[]
[null,null,null,"Operátor",2,"fő",null,null,null,null,null,"Operátor",1,"fő",null,null,null,null,null,"Operátor",1,"fő"]
[null,null,null,"Koordinátor",null,"fő",null,null,null,null,null,"Koordinátor",null,"fő",null,null,null,null,null,"Koordinátor",null,"fő"]
[null,null,null,"Beállító",null,"fő",null,null,null,null,null,"Beállító",null,"fő",null,null,null,null,null,"Beállító",null,"fő"]
[null,null,null,"QA, Service",null,"fő",null,null,null,null,null,"QA, Service",null,"fő",null,null,null,null,null,"QA, Service",null,"fő"]
[null,null,null,"Anyagszállító",null,"fő",null,null,null,null,null,"Anyagszállító",null,"fő",null,null,null,null,null,"Anyagszállító",null,"fő"]
[null,null,null,"Egyéb",null,"fő",null,null,null,null,null,"Egyéb",null,"fő",null,null,null,null,null,"Egyéb",null,"fő"]
[]
[null,null,null,"Backlog:",null,"sorok száma",null,null,null,null,null,"Backlog:",null,"sorok száma",null,null,null,null,null,"Backlog:",null,"sorok száma"]
[]
[null,null,null,"Backlog:",null,"összes darab",null,null,null,null,null,"Backlog:",null,"összes darab",null,null,null,null,null,"Backlog:",null,"összes darab"]
[]
[null,null,null,"Kód:","Időtartam","Állásidő megnevezése",null,null,null,null,null,"Kód:","Időtartam","Állásidő megnevezése",null,null,null,null,null,"Kód:","Időtartam","Állásidő megnevezése"]
[null,null,null,null,null,{"$f":"VLOOKUP(D183,állásidő_kódok!$B:$D,3,0)","v":{"$error":"#N/A"}},null,null,null,null,null,null,null,{"$f":"VLOOKUP(L183,állásidő_kódok!$B:$D,3,0)","v":{"$error":"#N/A"}},null,null,null,null,null,201,150,{"$f":"VLOOKUP(T183,állásidő_kódok!$B:$D,3,0)","v":"AE-Alapanyaghiány (GW)"}]
[null,null,null,null,null,{"$f":"VLOOKUP(D184,állásidő_kódok!$B:$D,3,0)","v":{"$error":"#N/A"}},null,null,null,null,null,null,null,{"$f":"VLOOKUP(L184,állásidő_kódok!$B:$D,3,0)","v":{"$error":"#N/A"}},null,null,null,null,null,null,null,{"$f":"VLOOKUP(T184,állásidő_kódok!$B:$D,3,0)","v":{"$error":"#N/A"}}]
[null,null,null,null,null,{"$f":"VLOOKUP(D185,állásidő_kódok!$B:$D,3,0)","v":{"$error":"#N/A"}},null,null,null,null,null,null,null,{"$f":"VLOOKUP(L185,állásidő_kódok!$B:$D,3,0)","v":{"$error":"#N/A"}},null,null,null,null,null,null,null,{"$f":"VLOOKUP(T185,állásidő_kódok!$B:$D,3,0)","v":{"$error":"#N/A"}}]
[null,null,null,null,null,{"$f":"VLOOKUP(D186,állásidő_kódok!$B:$D,3,0)","v":{"$error":"#N/A"}},null,null,null,null,null,null,null,{"$f":"VLOOKUP(L186,állásidő_kódok!$B:$D,3,0)","v":{"$error":"#N/A"}},null,null,null,null,null,null,null,{"$f":"VLOOKUP(T186,állásidő_kódok!$B:$D,3,0)","v":{"$error":"#N/A"}}]
[null,null,null,null,null,{"$f":"VLOOKUP(D187,állásidő_kódok!$B:$D,3,0)","v":{"$error":"#N/A"}},null,null,null,null,null,null,null,{"$f":"VLOOKUP(L187,állásidő_kódok!$B:$D,3,0)","v":{"$error":"#N/A"}},null,null,null,null,null,null,null,{"$f":"VLOOKUP(T187,állásidő_kódok!$B:$D,3,0)","v":{"$error":"#N/A"}}]
[null,null,null,null,null,{"$f":"VLOOKUP(D188,állásidő_kódok!$B:$D,3,0)","v":{"$error":"#N/A"}},null,null,null,null,null,null,null,{"$f":"VLOOKUP(L188,állásidő_kódok!$B:$D,3,0)","v":{"$error":"#N/A"}},null,null,null,null,null,null,null,{"$f":"VLOOKUP(T188,állásidő_kódok!$B:$D,3,0)","v":{"$error":"#N/A"}}]
[null,null,null,null,null,{"$f":"VLOOKUP(D189,állásidő_kódok!$B:$D,3,0)","v":{"$error":"#N/A"}},null,null,null,null,null,null,null,{"$f":"VLOOKUP(L189,állásidő_kódok!$B:$D,3,0)","v":{"$error":"#N/A"}},null,null,null,null,null,null,null,{"$f":"VLOOKUP(T189,állásidő_kódok!$B:$D,3,0)","v":{"$error":"#N/A"}}]
[null,null,null,null,null,{"$f":"VLOOKUP(D190,állásidő_kódok!$B:$D,3,0)","v":{"$error":"#N/A"}},null,null,null,null,null,null,null,{"$f":"VLOOKUP(L190,állásidő_kódok!$B:$D,3,0)","v":{"$error":"#N/A"}},null,null,null,null,null,null,null,{"$f":"VLOOKUP(T190,állásidő_kódok!$B:$D,3,0)","v":{"$error":"#N/A"}}]
[null,null,null,null,null,{"$f":"VLOOKUP(D191,állásidő_kódok!$B:$D,3,0)","v":{"$error":"#N/A"}},null,null,null,null,null,null,null,{"$f":"VLOOKUP(L191,állásidő_kódok!$B:$D,3,0)","v":{"$error":"#N/A"}},null,null,null,null,null,null,null,{"$f":"VLOOKUP(T191,állásidő_kódok!$B:$D,3,0)","v":{"$error":"#N/A"}}]
[null,null,null,null,null,{"$f":"VLOOKUP(D192,állásidő_kódok!$B:$D,3,0)","v":{"$error":"#N/A"}},null,null,null,null,null,null,null,{"$f":"VLOOKUP(L192,állásidő_kódok!$B:$D,3,0)","v":{"$error":"#N/A"}},null,null,null,null,null,null,null,{"$f":"VLOOKUP(T192,állásidő_kódok!$B:$D,3,0)","v":{"$error":"#N/A"}}]
[null,null,null,null,"Állásidők nélküli teljesítés:",{"$f":"((SUM(E183:E192)/445))+E165/E167","v":1.0384615384615385},null,null,null,null,null,null,"Állásidők nélküli teljesítés:",{"$f":"((SUM(M183:M192)/445))+M165/M167","v":1.0961538461538463},null,null,null,null,null,null,"Állásidők nélküli teljesítés:",{"$f":"((SUM(U183:U192)/445))+U165/U167","v":0.97169403630077777}]
[null,{"$f":"Alapadatok!C9","v":"NDE cella"},null,null,null,null,null,null,null,{"$f":"B194","v":"NDE cella"},null,null,null,null,null,null,null,{"$f":"B194","v":"NDE cella"}]
[null,null,null,"Gyártott:",0,"db",null,null,null,null,null,"Gyártott:",95,"db",null,null,null,null,null,"Gyártott:",95,"db"]
[]
[null,null,null,"Elvárt darabszám:",95,"db",null,"Elvárt db/op:",95,null,null,"Elvárt darabszám:",95,"db",null,"Elvárt db/op:",95,null,null,"Elvárt darabszám:",95,"db",null,"Elvárt db/op:",95]
[null,null,null,"Szükséges létszám: ",1,"fő",null,null,null,null,null,"Szükséges létszám:",1,"fő",null,null,null,null,null,"Szükséges létszám:",1,"fő"]
[null,null,null,"Aktuális létszám:",0,"fő",null,"Aktuális db/op:",0,null,null,"Aktuális létszám:",0,"fő",null,"Aktuális db/op:",0,null,null,"Aktuális létszám:",0,"fő",null,"Aktuális db/op:",0]
[]
[null,null,null,"Operátor",0,"fő",null,null,null,null,null,"Operátor",null,"fő",null,null,null,null,null,"Operátor",1,"fő"]
[null,null,null,"Koordinátor",null,"fő",null,null,null,null,null,"Koordinátor",null,"fő",null,null,null,null,null,"Koordinátor",null,"fő"]
[null,null,null,"Beállító",null,"fő",null,null,null,null,null,"Beállító",1,"fő",null,null,null,null,null,"Beállító",null,"fő"]
[null,null,null,"QA, Service",null,"fő",null,null,null,null,null,"QA, Service",null,"fő",null,null,null,null,null,"QA, Service",null,"fő"]
[null,null,null,"Anyagszállító",null,"fő",null,null,null,null,null,"Anyagszállító",null,"fő",null,null,null,null,null,"Anyagszállító",null,"fő"]
[null,null,null,"Egyéb",null,"fő",null,null,null,null,null,"Egyéb",null,"fő",null,null,null,null,null,"Egyéb",null,"fő"]
[]
[null,null,null,"Backlog:",null,"sorok száma",null,null,null,null,null,"Backlog:",null,"sorok száma",null,null,null,null,null,"Backlog:",null,"sorok száma"]
[]
[null,null,null,"Backlog:",null,"összes darab",null,null,null,null,null,"Backlog:",null,"összes darab",null,null,null,null,null,"Backlog:",null,"összes darab"]
[]
[null,null,null,"Kód:","Időtartam","Állásidő megnevezése",null,null,null,null,null,"Kód:","Időtartam","Állásidő megnevezése",null,null,null,null,null,"Kód:","Időtartam","Állásidő megnevezése"]
[null,null,null,1,480,{"$f":"VLOOKUP(D213,állásidő_kódok!$B:$D,3,0)","v":"E-I. - Emberi erőforrás hiány"},null,null,null,null,null,null,null,{"$f":"VLOOKUP(L213,állásidő_kódok!$B:$D,3,0)","v":{"$error":"#N/A"}},null,null,null,null,null,null,null,{"$f":"VLOOKUP(T213,állásidő_kódok!$B:$D,3,0)","v":{"$error":"#N/A"}}]
[null,null,null,null,null,{"$f":"VLOOKUP(D214,állásidő_kódok!$B:$D,3,0)","v":{"$error":"#N/A"}},null,null,null,null,null,null,null,{"$f":"VLOOKUP(L214,állásidő_kódok!$B:$D,3,0)","v":{"$error":"#N/A"}},null,null,null,null,null,null,null,{"$f":"VLOOKUP(T214,állásidő_kódok!$B:$D,3,0)","v":{"$error":"#N/A"}}]
[null,null,null,null,null,{"$f":"VLOOKUP(D215,állásidő_kódok!$B:$D,3,0)","v":{"$error":"#N/A"}},null,null,null,null,null,null,null,{"$f":"VLOOKUP(L215,állásidő_kódok!$B:$D,3,0)","v":{"$error":"#N/A"}},null,null,null,null,null,null,null,{"$f":"VLOOKUP(T215,állásidő_kódok!$B:$D,3,0)","v":{"$error":"#N/A"}}]
[null,null,null,null,null,{"$f":"VLOOKUP(D216,állásidő_kódok!$B:$D,3,0)","v":{"$error":"#N/A"}},null,null,null,null,null,null,null,{"$f":"VLOOKUP(L216,állásidő_kódok!$B:$D,3,0)","v":{"$error":"#N/A"}},null,null,null,null,null,null,null,{"$f":"VLOOKUP(T216,állásidő_kódok!$B:$D,3,0)","v":{"$error":"#N/A"}}]
[null,null,null,null,null,{"$f":"VLOOKUP(D217,állásidő_kódok!$B:$D,3,0)","v":{"$error":"#N/A"}},null,null,null,null,null,null,null,{"$f":"VLOOKUP(L217,állásidő_kódok!$B:$D,3,0)","v":{"$error":"#N/A"}},null,null,null,null,null,null,null,{"$f":"VLOOKUP(T217,állásidő_kódok!$B:$D,3,0)","v":{"$error":"#N/A"}}]
[null,null,null,null,null,{"$f":"VLOOKUP(D218,állásidő_kódok!$B:$D,3,0)","v":{"$error":"#N/A"}},null,null,null,null,null,null,null,{"$f":"VLOOKUP(L218,állásidő_kódok!$B:$D,3,0)","v":{"$error":"#N/A"}},null,null,null,null,null,null,null,{"$f":"VLOOKUP(T218,állásidő_kódok!$B:$D,3,0)","v":{"$error":"#N/A"}}]
[null,null,null,null,null,{"$f":"VLOOKUP(D219,állásidő_kódok!$B:$D,3,0)","v":{"$error":"#N/A"}},null,null,null,null,null,null,null,{"$f":"VLOOKUP(L219,állásidő_kódok!$B:$D,3,0)","v":{"$error":"#N/A"}},null,null,null,null,null,null,null,{"$f":"VLOOKUP(T219,állásidő_kódok!$B:$D,3,0)","v":{"$error":"#N/A"}}]
[null,null,null,null,null,{"$f":"VLOOKUP(D220,állásidő_kódok!$B:$D,3,0)","v":{"$error":"#N/A"}},null,null,null,null,null,null,null,{"$f":"VLOOKUP(L220,állásidő_kódok!$B:$D,3,0)","v":{"$error":"#N/A"}},null,null,null,null,null,null,null,{"$f":"VLOOKUP(T220,állásidő_kódok!$B:$D,3,0)","v":{"$error":"#N/A"}}]
[null,null,null,null,null,{"$f":"VLOOKUP(D221,állásidő_kódok!$B:$D,3,0)","v":{"$error":"#N/A"}},null,null,null,null,null,null,null,{"$f":"VLOOKUP(L221,állásidő_kódok!$B:$D,3,0)","v":{"$error":"#N/A"}},null,null,null,null,null,null,null,{"$f":"VLOOKUP(T221,állásidő_kódok!$B:$D,3,0)","v":{"$error":"#N/A"}}]
[null,null,null,null,null,{"$f":"VLOOKUP(D222,állásidő_kódok!$B:$D,3,0)","v":{"$error":"#N/A"}},null,null,null,null,null,null,null,{"$f":"VLOOKUP(L222,állásidő_kódok!$B:$D,3,0)","v":{"$error":"#N/A"}},null,null,null,null,null,null,null,{"$f":"VLOOKUP(T222,állásidő_kódok!$B:$D,3,0)","v":{"$error":"#N/A"}}]
[null,null,null,null,"Állásidők nélküli teljesítés:",{"$f":"((SUM(E213:E222)/445))+E195/E197","v":1.0786516853932584},null,null,null,null,null,null,"Állásidők nélküli teljesítés:",{"$f":"((SUM(M213:M222)/445))+M195/M197","v":1},null,null,null,null,null,null,"Állásidők nélküli teljesítés:",{"$f":"((SUM(U213:U222)/445))+U195/U197","v":1}]
[null,{"$f":"Alapadatok!C10","v":"T+R"},null,null,null,null,null,null,null,{"$f":"B224","v":"T+R"},null,null,null,null,null,null,null,{"$f":"B224","v":"T+R"}]
[null,null,null,"Gyártott:",54,"db",null,null,null,null,null,"Gyártott:",54,"db",null,null,null,null,null,"Gyártott:",57,"db"]
[]
[null,null,null,"Elvárt darabszám:",54,"db",null,"Elvárt db/op:",18,null,null,"Elvárt darabszám:",54,"db",null,"Elvárt db/op:",18,null,null,"Elvárt darabszám:",54,"db",null,"Elvárt db/op:",18]
[null,null,null,"Szükséges létszám: ",3,"fő",null,null,null,null,null,"Szükséges létszám:",3,"fő",null,null,null,null,null,"Szükséges létszám:",3,"fő"]
[null,null,null,"Aktuális létszám:",3,"fő",null,"Aktuális db/op:",18,null,null,"Aktuális létszám:",0,"fő",null,"Aktuális db/op:",0,null,null,"Aktuális létszám:",0,"fő",null,"Aktuális db/op:",0]
[]
[null,null,null,"Operátor",3,"fő",null,null,null,null,null,"Operátor",3,"fő",null,null,null,null,null,"Operátor",3,"fő"]
[null,null,null,"Koordinátor",null,"fő",null,null,null,null,null,"Koordinátor",1,"fő",null,null,null,null,null,"Koordinátor",null,"fő"]
[null,null,null,"Beállító",null,"fő",null,null,null,null,null,"Beállító",null,"fő",null,null,null,null,null,"Beállító",null,"fő"]
[null,null,null,"QA, Service",null,"fő",null,null,null,null,null,"QA, Service",null,"fő",null,null,null,null,null,"QA, Service",null,"fő"]
[null,null,null,"Anyagszállító",null,"fő",null,null,null,null,null,"Anyagszállító",null,"fő",null,null,null,null,null,"Anyagszállító",null,"fő"]
[null,null,null,"Egyéb",null,"fő",null,null,null,null,null,"Egyéb",null,"fő",null,null,null,null,null,"Egyéb",null,"fő"]
[]
[null,null,null,"Backlog:",null,"sorok száma",null,null,null,null,null,"Backlog:",null,"sorok száma",null,null,null,null,null,"Backlog:",null,"sorok száma"]
[]
[null,null,null,"Backlog:",null,"összes darab",null,null,null,null,null,"Backlog:",null,"összes darab",null,null,null,null,null,"Backlog:",null,"összes darab"]
[]
[null,null,null,"Kód:","Időtartam","Állásidő megnevezése",null,null,null,null,null,"Kód:","Időtartam","Állásidő megnevezése",null,null,null,null,null,"Kód:","Időtartam","Állásidő megnevezése"]
[null,null,null,null,null,{"$f":"VLOOKUP(D243,állásidő_kódok!$B:$D,3,0)","v":{"$error":"#N/A"}},null,null,null,null,null,null,null,{"$f":"VLOOKUP(L243,állásidő_kódok!$B:$D,3,0)","v":{"$error":"#N/A"}},null,null,null,null,null,null,null,{"$f":"VLOOKUP(T243,állásidő_kódok!$B:$D,3,0)","v":{"$error":"#N/A"}}]
[null,null,null,null,null,{"$f":"VLOOKUP(D244,állásidő_kódok!$B:$D,3,0)","v":{"$error":"#N/A"}},null,null,null,null,null,null,null,{"$f":"VLOOKUP(L244,állásidő_kódok!$B:$D,3,0)","v":{"$error":"#N/A"}},null,null,null,null,null,null,null,{"$f":"VLOOKUP(T244,állásidő_kódok!$B:$D,3,0)","v":{"$error":"#N/A"}}]
[null,null,null,null,null,{"$f":"VLOOKUP(D245,állásidő_kódok!$B:$D,3,0)","v":{"$error":"#N/A"}},null,null,null,null,null,null,null,{"$f":"VLOOKUP(L245,állásidő_kódok!$B:$D,3,0)","v":{"$error":"#N/A"}},null,null,null,null,null,null,null,{"$f":"VLOOKUP(T245,állásidő_kódok!$B:$D,3,0)","v":{"$error":"#N/A"}}]
[null,null,null,null,null,{"$f":"VLOOKUP(D246,állásidő_kódok!$B:$D,3,0)","v":{"$error":"#N/A"}},null,null,null,null,null,null,null,{"$f":"VLOOKUP(L246,állásidő_kódok!$B:$D,3,0)","v":{"$error":"#N/A"}},null,null,null,null,null,null,null,{"$f":"VLOOKUP(T246,állásidő_kódok!$B:$D,3,0)","v":{"$error":"#N/A"}}]
[null,null,null,null,null,{"$f":"VLOOKUP(D247,állásidő_kódok!$B:$D,3,0)","v":{"$error":"#N/A"}},null,null,null,null,null,null,null,{"$f":"VLOOKUP(L247,állásidő_kódok!$B:$D,3,0)","v":{"$error":"#N/A"}},null,null,null,null,null,null,null,{"$f":"VLOOKUP(T247,állásidő_kódok!$B:$D,3,0)","v":{"$error":"#N/A"}}]
[null,null,null,null,null,{"$f":"VLOOKUP(D248,állásidő_kódok!$B:$D,3,0)","v":{"$error":"#N/A"}},null,null,null,null,null,null,null,{"$f":"VLOOKUP(L248,állásidő_kódok!$B:$D,3,0)","v":{"$error":"#N/A"}},null,null,null,null,null,null,null,{"$f":"VLOOKUP(T248,állásidő_kódok!$B:$D,3,0)","v":{"$error":"#N/A"}}]
[null,null,null,null,null,{"$f":"VLOOKUP(D249,állásidő_kódok!$B:$D,3,0)","v":{"$error":"#N/A"}},null,null,null,null,null,null,null,{"$f":"VLOOKUP(L249,állásidő_kódok!$B:$D,3,0)","v":{"$error":"#N/A"}},null,null,null,null,null,null,null,{"$f":"VLOOKUP(T249,állásidő_kódok!$B:$D,3,0)","v":{"$error":"#N/A"}}]
[null,null,null,null,null,{"$f":"VLOOKUP(D250,állásidő_kódok!$B:$D,3,0)","v":{"$error":"#N/A"}},null,null,null,null,null,null,null,{"$f":"VLOOKUP(L250,állásidő_kódok!$B:$D,3,0)","v":{"$error":"#N/A"}},null,null,null,null,null,null,null,{"$f":"VLOOKUP(T250,állásidő_kódok!$B:$D,3,0)","v":{"$error":"#N/A"}}]
[null,null,null,null,null,{"$f":"VLOOKUP(D251,állásidő_kódok!$B:$D,3,0)","v":{"$error":"#N/A"}},null,null,null,null,null,null,null,{"$f":"VLOOKUP(L251,állásidő_kódok!$B:$D,3,0)","v":{"$error":"#N/A"}},null,null,null,null,null,null,null,{"$f":"VLOOKUP(T251,állásidő_kódok!$B:$D,3,0)","v":{"$error":"#N/A"}}]
[null,null,null,null,null,{"$f":"VLOOKUP(D252,állásidő_kódok!$B:$D,3,0)","v":{"$error":"#N/A"}},null,null,null,null,null,null,null,{"$f":"VLOOKUP(L252,állásidő_kódok!$B:$D,3,0)","v":{"$error":"#N/A"}},null,null,null,null,null,null,null,{"$f":"VLOOKUP(T252,állásidő_kódok!$B:$D,3,0)","v":{"$error":"#N/A"}}]
[null,null,null,null,"Állásidők nélküli teljesítés:",{"$f":"((SUM(E243:E252)/445))+E225/E227","v":1},null,null,null,null,null,null,"Állásidők nélküli teljesítés:",{"$f":"((SUM(M243:M252)/445))+M225/M227","v":1},null,null,null,null,null,null,"Állásidők nélküli teljesítés:",{"$f":"((SUM(U243:U252)/445))+U225/U227","v":1.0555555555555556}]
[null,{"$f":"Alapadatok!C11","v":"Cella7"},null,null,null,null,null,null,null,{"$f":"B254","v":"Cella7"},null,null,null,null,null,null,null,{"$f":"B254","v":"Cella7"}]
[null,null,null,"Gyártott:",null,"db",null,null,null,null,null,"Gyártott:",null,"db",null,null,null,null,null,"Gyártott:",null,"db"]
[]
[null,null,null,"Elvárt darabszám:",0,"db",null,"Elvárt db/op:",0,null,null,"Elvárt darabszám:",0,"db",null,"Elvárt db/op:",0,null,null,"Elvárt darabszám:",0,"db",null,"Elvárt db/op:",0]
[null,null,null,"Szükséges létszám: ",0,"fő",null,null,null,null,null,"Szükséges létszám:",0,"fő",null,null,null,null,null,"Szükséges létszám:",0,"fő"]
[null,null,null,"Aktuális létszám:",0,"fő",null,"Aktuális db/op:",0,null,null,"Aktuális létszám:",0,"fő",null,"Aktuális db/op:",0,null,null,"Aktuális létszám:",0,"fő",null,"Aktuális db/op:",0]
[]
[null,null,null,"Operátor",null,"fő",null,null,null,null,null,"Operátor",null,"fő",null,null,null,null,null,"Operátor",null,"fő"]
[null,null,null,"Koordinátor",null,"fő",null,null,null,null,null,"Koordinátor",null,"fő",null,null,null,null,null,"Koordinátor",null,"fő"]
[null,null,null,"Beállító",null,"fő",null,null,null,null,null,"Beállító",null,"fő",null,null,null,null,null,"Beállító",null,"fő"]
[null,null,null,"QA, Service",null,"fő",null,null,null,null,null,"QA, Service",null,"fő",null,null,null,null,null,"QA, Service",null,"fő"]
[null,null,null,"Anyagszállító",null,"fő",null,null,null,null,null,"Anyagszállító",null,"fő",null,null,null,null,null,"Anyagszállító",null,"fő"]
[null,null,null,"Egyéb",null,"fő",null,null,null,null,null,"Egyéb",null,"fő",null,null,null,null,null,"Egyéb",null,"fő"]
[]
[null,null,null,"Backlog:",null,"sorok száma",null,null,null,null,null,"Backlog:",null,"sorok száma",null,null,null,null,null,"Backlog:",null,"sorok száma"]
[]
[null,null,null,"Backlog:",null,"összes darab",null,null,null,null,null,"Backlog:",null,"összes darab",null,null,null,null,null,"Backlog:",null,"összes darab"]
[]
[null,null,null,"Kód:","Időtartam","Állásidő megnevezése",null,null,null,null,null,"Kód:","Időtartam","Állásidő megnevezése",null,null,null,null,null,"Kód:","Időtartam","Állásidő megnevezése"]
[null,null,null,null,null,{"$f":"VLOOKUP(D273,állásidő_kódok!$B:$D,3,0)","v":{"$error":"#N/A"}},null,null,null,null,null,null,null,{"$f":"VLOOKUP(L273,állásidő_kódok!$B:$D,3,0)","v":{"$error":"#N/A"}},null,null,null,null,null,null,null,{"$f":"VLOOKUP(T273,állásidő_kódok!$B:$D,3,0)","v":{"$error":"#N/A"}}]
[null,null,null,null,null,{"$f":"VLOOKUP(D274,állásidő_kódok!$B:$D,3,0)","v":{"$error":"#N/A"}},null,null,null,null,null,null,null,{"$f":"VLOOKUP(L274,állásidő_kódok!$B:$D,3,0)","v":{"$error":"#N/A"}},null,null,null,null,null,null,null,{"$f":"VLOOKUP(T274,állásidő_kódok!$B:$D,3,0)","v":{"$error":"#N/A"}}]
[null,null,null,null,null,{"$f":"VLOOKUP(D275,állásidő_kódok!$B:$D,3,0)","v":{"$error":"#N/A"}},null,null,null,null,null,null,null,{"$f":"VLOOKUP(L275,állásidő_kódok!$B:$D,3,0)","v":{"$error":"#N/A"}},null,null,null,null,null,null,null,{"$f":"VLOOKUP(T275,állásidő_kódok!$B:$D,3,0)","v":{"$error":"#N/A"}}]
[null,null,null,null,null,{"$f":"VLOOKUP(D276,állásidő_kódok!$B:$D,3,0)","v":{"$error":"#N/A"}},null,null,null,null,null,null,null,{"$f":"VLOOKUP(L276,állásidő_kódok!$B:$D,3,0)","v":{"$error":"#N/A"}},null,null,null,null,null,null,null,{"$f":"VLOOKUP(T276,állásidő_kódok!$B:$D,3,0)","v":{"$error":"#N/A"}}]
[null,null,null,null,null,{"$f":"VLOOKUP(D277,állásidő_kódok!$B:$D,3,0)","v":{"$error":"#N/A"}},null,null,null,null,null,null,null,{"$f":"VLOOKUP(L277,állásidő_kódok!$B:$D,3,0)","v":{"$error":"#N/A"}},null,null,null,null,null,null,null,{"$f":"VLOOKUP(T277,állásidő_kódok!$B:$D,3,0)","v":{"$error":"#N/A"}}]
[null,null,null,null,null,{"$f":"VLOOKUP(D278,állásidő_kódok!$B:$D,3,0)","v":{"$error":"#N/A"}},null,null,null,null,null,null,null,{"$f":"VLOOKUP(L278,állásidő_kódok!$B:$D,3,0)","v":{"$error":"#N/A"}},null,null,null,null,null,null,null,{"$f":"VLOOKUP(T278,állásidő_kódok!$B:$D,3,0)","v":{"$error":"#N/A"}}]
[null,null,null,null,null,{"$f":"VLOOKUP(D279,állásidő_kódok!$B:$D,3,0)","v":{"$error":"#N/A"}},null,null,null,null,null,null,null,{"$f":"VLOOKUP(L279,állásidő_kódok!$B:$D,3,0)","v":{"$error":"#N/A"}},null,null,null,null,null,null,null,{"$f":"VLOOKUP(T279,állásidő_kódok!$B:$D,3,0)","v":{"$error":"#N/A"}}]
[null,null,null,null,null,{"$f":"VLOOKUP(D280,állásidő_kódok!$B:$D,3,0)","v":{"$error":"#N/A"}},null,null,null,null,null,null,null,{"$f":"VLOOKUP(L280,állásidő_kódok!$B:$D,3,0)","v":{"$error":"#N/A"}},null,null,null,null,null,null,null,{"$f":"VLOOKUP(T280,állásidő_kódok!$B:$D,3,0)","v":{"$error":"#N/A"}}]
[null,null,null,null,null,{"$f":"VLOOKUP(D281,állásidő_kódok!$B:$D,3,0)","v":{"$error":"#N/A"}},null,null,null,null,null,null,null,{"$f":"VLOOKUP(L281,állásidő_kódok!$B:$D,3,0)","v":{"$error":"#N/A"}},null,null,null,null,null,null,null,{"$f":"VLOOKUP(T281,állásidő_kódok!$B:$D,3,0)","v":{"$error":"#N/A"}}]
[null,null,null,null,null,{"$f":"VLOOKUP(D282,állásidő_kódok!$B:$D,3,0)","v":{"$error":"#N/A"}},null,null,null,null,null,null,null,{"$f":"VLOOKUP(L282,állásidő_kódok!$B:$D,3,0)","v":{"$error":"#N/A"}},null,null,null,null,null,null,null,{"$f":"VLOOKUP(T282,állásidő_kódok!$B:$D,3,0)","v":{"$error":"#N/A"}}]
[null,null,null,null,"Állásidők nélküli teljesítés:",{"$f":"((SUM(E273:E282)/445))+E255/E257","v":{"$error":"#DIV/0!"}},null,null,null,null,null,null,"Állásidők nélküli teljesítés:",{"$f":"((SUM(M273:M282)/445))+M255/M257","v":{"$error":"#DIV/0!"}},null,null,null,null,null,null,"Állásidők nélküli teljesítés:",{"$f":"((SUM(U273:U282)/445))+U255/U257","v":{"$error":"#DIV/0!"}}]
[null,{"$f":"Alapadatok!C12","v":"Cella8"},null,null,null,null,null,null,null,{"$f":"B284","v":"Cella8"},null,null,null,null,null,null,null,{"$f":"B284","v":"Cella8"}]
[null,null,null,"Gyártott:",null,"db",null,null,null,null,null,"Gyártott:",null,"db",null,null,null,null,null,"Gyártott:",null,"db"]
[]
[null,null,null,"Elvárt darabszám:",0,"db",null,"Elvárt db/op:",0,null,null,"Elvárt darabszám:",0,"db",null,"Elvárt db/op:",0,null,null,"Elvárt darabszám:",0,"db",null,"Elvárt db/op:",0]
[null,null,null,"Szükséges létszám: ",0,"fő",null,null,null,null,null,"Szükséges létszám:",0,"fő",null,null,null,null,null,"Szükséges létszám:",0,"fő"]
[null,null,null,"Aktuális létszám:",0,"fő",null,"Aktuális db/op:",0,null,null,"Aktuális létszám:",0,"fő",null,"Aktuális db/op:",0,null,null,"Aktuális létszám:",0,"fő",null,"Aktuális db/op:",0]
[]
[null,null,null,"Operátor",null,"fő",null,null,null,null,null,"Operátor",null,"fő",null,null,null,null,null,"Operátor",null,"fő"]
[null,null,null,"Koordinátor",null,"fő",null,null,null,null,null,"Koordinátor",null,"fő",null,null,null,null,null,"Koordinátor",null,"fő"]
[null,null,null,"Beállító",null,"fő",null,null,null,null,null,"Beállító",null,"fő",null,null,null,null,null,"Beállító",null,"fő"]
[null,null,null,"QA, Service",null,"fő",null,null,null,null,null,"QA, Service",null,"fő",null,null,null,null,null,"QA, Service",null,"fő"]
[null,null,null,"Anyagszállító",null,"fő",null,null,null,null,null,"Anyagszállító",null,"fő",null,null,null,null,null,"Anyagszállító",null,"fő"]
[null,null,null,"Egyéb",null,"fő",null,null,null,null,null,"Egyéb",null,"fő",null,null,null,null,null,"Egyéb",null,"fő"]
[]
[null,null,null,"Backlog:",null,"sorok száma",null,null,null,null,null,"Backlog:",null,"sorok száma",null,null,null,null,null,"Backlog:",null,"sorok száma"]
[]
[null,null,null,"Backlog:",null,"összes darab",null,null,null,null,null,"Backlog:",null,"összes darab",null,null,null,null,null,"Backlog:",null,"összes darab"]
[]
[null,null,null,"Kód:","Időtartam","Állásidő megnevezése",null,null,null,null,null,"Kód:","Időtartam","Állásidő megnevezése",null,null,null,null,null,"Kód:","Időtartam","Állásidő megnevezése"]
[null,null,null,null,null,{"$f":"VLOOKUP(D303,állásidő_kódok!$B:$D,3,0)","v":{"$error":"#N/A"}},null,null,null,null,null,null,null,{"$f":"VLOOKUP(L303,állásidő_kódok!$B:$D,3,0)","v":{"$error":"#N/A"}},null,null,null,null,null,null,null,{"$f":"VLOOKUP(T303,állásidő_kódok!$B:$D,3,0)","v":{"$error":"#N/A"}}]
[null,null,null,null,null,{"$f":"VLOOKUP(D304,állásidő_kódok!$B:$D,3,0)","v":{"$error":"#N/A"}},null,null,null,null,null,null,null,{"$f":"VLOOKUP(L304,állásidő_kódok!$B:$D,3,0)","v":{"$error":"#N/A"}},null,null,null,null,null,null,null,{"$f":"VLOOKUP(T304,állásidő_kódok!$B:$D,3,0)","v":{"$error":"#N/A"}}]
[null,null,null,null,null,{"$f":"VLOOKUP(D305,állásidő_kódok!$B:$D,3,0)","v":{"$error":"#N/A"}},null,null,null,null,null,null,null,{"$f":"VLOOKUP(L305,állásidő_kódok!$B:$D,3,0)","v":{"$error":"#N/A"}},null,null,null,null,null,null,null,{"$f":"VLOOKUP(T305,állásidő_kódok!$B:$D,3,0)","v":{"$error":"#N/A"}}]
[null,null,null,null,null,{"$f":"VLOOKUP(D306,állásidő_kódok!$B:$D,3,0)","v":{"$error":"#N/A"}},null,null,null,null,null,null,null,{"$f":"VLOOKUP(L306,állásidő_kódok!$B:$D,3,0)","v":{"$error":"#N/A"}},null,null,null,null,null,null,null,{"$f":"VLOOKUP(T306,állásidő_kódok!$B:$D,3,0)","v":{"$error":"#N/A"}}]
[null,null,null,null,null,{"$f":"VLOOKUP(D307,állásidő_kódok!$B:$D,3,0)","v":{"$error":"#N/A"}},null,null,null,null,null,null,null,{"$f":"VLOOKUP(L307,állásidő_kódok!$B:$D,3,0)","v":{"$error":"#N/A"}},null,null,null,null,null,null,null,{"$f":"VLOOKUP(T307,állásidő_kódok!$B:$D,3,0)","v":{"$error":"#N/A"}}]
[null,null,null,null,null,{"$f":"VLOOKUP(D308,állásidő_kódok!$B:$D,3,0)","v":{"$error":"#N/A"}},null,null,null,null,null,null,null,{"$f":"VLOOKUP(L308,állásidő_kódok!$B:$D,3,0)","v":{"$error":"#N/A"}},null,null,null,null,null,null,null,{"$f":"VLOOKUP(T308,állásidő_kódok!$B:$D,3,0)","v":{"$error":"#N/A"}}]
[null,null,null,null,null,{"$f":"VLOOKUP(D309,állásidő_kódok!$B:$D,3,0)","v":{"$error":"#N/A"}},null,null,null,null,null,null,null,{"$f":"VLOOKUP(L309,állásidő_kódok!$B:$D,3,0)","v":{"$error":"#N/A"}},null,null,null,null,null,null,null,{"$f":"VLOOKUP(T309,állásidő_kódok!$B:$D,3,0)","v":{"$error":"#N/A"}}]
[null,null,null,null,null,{"$f":"VLOOKUP(D310,állásidő_kódok!$B:$D,3,0)","v":{"$error":"#N/A"}},null,null,null,null,null,null,null,{"$f":"VLOOKUP(L310,állásidő_kódok!$B:$D,3,0)","v":{"$error":"#N/A"}},null,null,null,null,null,null,null,{"$f":"VLOOKUP(T310,állásidő_kódok!$B:$D,3,0)","v":{"$error":"#N/A"}}]
[null,null,null,null,null,{"$f":"VLOOKUP(D311,állásidő_kódok!$B:$D,3,0)","v":{"$error":"#N/A"}},null,null,null,null,null,null,null,{"$f":"VLOOKUP(L311,állásidő_kódok!$B:$D,3,0)","v":{"$error":"#N/A"}},null,null,null,null,null,null,null,{"$f":"VLOOKUP(T311,állásidő_kódok!$B:$D,3,0)","v":{"$error":"#N/A"}}]
[null,null,null,null,null,{"$f":"VLOOKUP(D312,állásidő_kódok!$B:$D,3,0)","v":{"$error":"#N/A"}},null,null,null,null,null,null,null,{"$f":"VLOOKUP(L312,állásidő_kódok!$B:$D,3,0)","v":{"$error":"#N/A"}},null,null,null,null,null,null,null,{"$f":"VLOOKUP(T312,állásidő_kódok!$B:$D,3,0)","v":{"$error":"#N/A"}}]
[null,null,null,null,"Állásidők nélküli teljesítés:",{"$f":"((SUM(E303:E312)/445))+E285/E287","v":{"$error":"#DIV/0!"}},null,null,null,null,null,null,"Állásidők nélküli teljesítés:",{"$f":"((SUM(M303:M312)/445))+M285/M287","v":{"$error":"#DIV/0!"}},null,null,null,null,null,null,"Állásidők nélküli teljesítés:",{"$f":"((SUM(U303:U312)/445))+U285/U287","v":{"$error":"#DIV/0!"}}]
[null,{"$f":"Alapadatok!C13","v":"Cella9"},null,null,null,null,null,null,null,{"$f":"B314","v":"Cella9"},null,null,null,null,null,null,null,{"$f":"B314","v":"Cella9"}]
[null,null,null,"Gyártott:",null,"db",null,null,null,null,null,"Gyártott:",null,"db",null,null,null,null,null,"Gyártott:",null,"db"]
[]
[null,null,null,"Elvárt darabszám:",0,"db",null,"Elvárt db/op:",0,null,null,"Elvárt darabszám:",0,"db",null,"Elvárt db/op:",0,null,null,"Elvárt darabszám:",0,"db",null,"Elvárt db/op:",0]
[null,null,null,"Szükséges létszám: ",0,"fő",null,null,null,null,null,"Szükséges létszám:",0,"fő",null,null,null,null,null,"Szükséges létszám:",0,"fő"]
[null,null,null,"Aktuális létszám:",0,"fő",null,"Aktuális db/op:",0,null,null,"Aktuális létszám:",0,"fő",null,"Aktuális db/op:",0,null,null,"Aktuális létszám:",0,"fő",null,"Aktuális db/op:",0]
[]
[null,null,null,"Operátor",null,"fő",null,null,null,null,null,"Operátor",null,"fő",null,null,null,null,null,"Operátor",null,"fő"]
[null,null,null,"Koordinátor",null,"fő",null,null,null,null,null,"Koordinátor",null,"fő",null,null,null,null,null,"Koordinátor",null,"fő"]
[null,null,null,"Beállító",null,"fő",null,null,null,null,null,"Beállító",null,"fő",null,null,null,null,null,"Beállító",null,"fő"]
[null,null,null,"QA, Service",null,"fő",null,null,null,null,null,"QA, Service",null,"fő",null,null,null,null,null,"QA, Service",null,"fő"]
[null,null,null,"Anyagszállító",null,"fő",null,null,null,null,null,"Anyagszállító",null,"fő",null,null,null,null,null,"Anyagszállító",null,"fő"]
[null,null,null,"Egyéb",null,"fő",null,null,null,null,null,"Egyéb",null,"fő",null,null,null,null,null,"Egyéb",null,"fő"]
[]
[null,null,null,"Backlog:",null,"sorok száma",null,null,null,null,null,"Backlog:",null,"sorok száma",null,null,null,null,null,"Backlog:",null,"sorok száma"]
[]
[null,null,null,"Backlog:",null,"összes darab",null,null,null,null,null,"Backlog:",null,"összes darab",null,null,null,null,null,"Backlog:",null,"összes darab"]
[]
[null,null,null,"Kód:","Időtartam","Állásidő megnevezése",null,null,null,null,null,"Kód:","Időtartam","Állásidő megnevezése",null,null,null,null,null,"Kód:","Időtartam","Állásidő megnevezése"]
[null,null,null,null,null,{"$f":"VLOOKUP(D333,állásidő_kódok!$B:$D,3,0)","v":{"$error":"#N/A"}},null,null,null,null,null,null,null,{"$f":"VLOOKUP(L333,állásidő_kódok!$B:$D,3,0)","v":{"$error":"#N/A"}},null,null,null,null,null,null,null,{"$f":"VLOOKUP(T333,állásidő_kódok!$B:$D,3,0)","v":{"$error":"#N/A"}}]
[null,null,null,null,null,{"$f":"VLOOKUP(D334,állásidő_kódok!$B:$D,3,0)","v":{"$error":"#N/A"}},null,null,null,null,null,null,null,{"$f":"VLOOKUP(L334,állásidő_kódok!$B:$D,3,0)","v":{"$error":"#N/A"}},null,null,null,null,null,null,null,{"$f":"VLOOKUP(T334,állásidő_kódok!$B:$D,3,0)","v":{"$error":"#N/A"}}]
[null,null,null,null,null,{"$f":"VLOOKUP(D335,állásidő_kódok!$B:$D,3,0)","v":{"$error":"#N/A"}},null,null,null,null,null,null,null,{"$f":"VLOOKUP(L335,állásidő_kódok!$B:$D,3,0)","v":{"$error":"#N/A"}},null,null,null,null,null,null,null,{"$f":"VLOOKUP(T335,állásidő_kódok!$B:$D,3,0)","v":{"$error":"#N/A"}}]
[null,null,null,null,null,{"$f":"VLOOKUP(D336,állásidő_kódok!$B:$D,3,0)","v":{"$error":"#N/A"}},null,null,null,null,null,null,null,{"$f":"VLOOKUP(L336,állásidő_kódok!$B:$D,3,0)","v":{"$error":"#N/A"}},null,null,null,null,null,null,null,{"$f":"VLOOKUP(T336,állásidő_kódok!$B:$D,3,0)","v":{"$error":"#N/A"}}]
[null,null,null,null,null,{"$f":"VLOOKUP(D337,állásidő_kódok!$B:$D,3,0)","v":{"$error":"#N/A"}},null,null,null,null,null,null,null,{"$f":"VLOOKUP(L337,állásidő_kódok!$B:$D,3,0)","v":{"$error":"#N/A"}},null,null,null,null,null,null,null,{"$f":"VLOOKUP(T337,állásidő_kódok!$B:$D,3,0)","v":{"$error":"#N/A"}}]
[null,null,null,null,null,{"$f":"VLOOKUP(D338,állásidő_kódok!$B:$D,3,0)","v":{"$error":"#N/A"}},null,null,null,null,null,null,null,{"$f":"VLOOKUP(L338,állásidő_kódok!$B:$D,3,0)","v":{"$error":"#N/A"}},null,null,null,null,null,null,null,{"$f":"VLOOKUP(T338,állásidő_kódok!$B:$D,3,0)","v":{"$error":"#N/A"}}]
[null,null,null,null,null,{"$f":"VLOOKUP(D339,állásidő_kódok!$B:$D,3,0)","v":{"$error":"#N/A"}},null,null,null,null,null,null,null,{"$f":"VLOOKUP(L339,állásidő_kódok!$B:$D,3,0)","v":{"$error":"#N/A"}},null,null,null,null,null,null,null,{"$f":"VLOOKUP(T339,állásidő_kódok!$B:$D,3,0)","v":{"$error":"#N/A"}}]
[null,null,null,null,null,{"$f":"VLOOKUP(D340,állásidő_kódok!$B:$D,3,0)","v":{"$error":"#N/A"}},null,null,null,null,null,null,null,{"$f":"VLOOKUP(L340,állásidő_kódok!$B:$D,3,0)","v":{"$error":"#N/A"}},null,null,null,null,null,null,null,{"$f":"VLOOKUP(T340,állásidő_kódok!$B:$D,3,0)","v":{"$error":"#N/A"}}]
[null,null,null,null,null,{"$f":"VLOOKUP(D341,állásidő_kódok!$B:$D,3,0)","v":{"$error":"#N/A"}},null,null,null,null,null,null,null,{"$f":"VLOOKUP(L341,állásidő_kódok!$B:$D,3,0)","v":{"$error":"#N/A"}},null,null,null,null,null,null,null,{"$f":"VLOOKUP(T341,állásidő_kódok!$B:$D,3,0)","v":{"$error":"#N/A"}}]
[null,null,null,null,null,{"$f":"VLOOKUP(D342,állásidő_kódok!$B:$D,3,0)","v":{"$error":"#N/A"}},null,null,null,null,null,null,null,{"$f":"VLOOKUP(L342,állásidő_kódok!$B:$D,3,0)","v":{"$error":"#N/A"}},null,null,null,null,null,null,null,{"$f":"VLOOKUP(T342,állásidő_kódok!$B:$D,3,0)","v":{"$error":"#N/A"}}]
[null,null,null,null,"Állásidők nélküli teljesítés:",{"$f":"((SUM(E333:E342)/445))+E315/E317","v":{"$error":"#DIV/0!"}},null,null,null,null,null,null,"Állásidők nélküli teljesítés:",{"$f":"((SUM(M333:M342)/445))+M315/M317","v":{"$error":"#DIV/0!"}},null,null,null,null,null,null,"Állásidők nélküli teljesítés:",{"$f":"((SUM(U333:U342)/445))+U315/U317","v":{"$error":"#DIV/0!"}}]
[null,{"$f":"Alapadatok!C14","v":"Cella10"},null,null,null,null,null,null,null,{"$f":"B344","v":"Cella10"},null,null,null,null,null,null,null,{"$f":"B344","v":"Cella10"}]
[null,null,null,"Gyártott:",null,"db",null,null,null,null,null,"Gyártott:",null,"db",null,null,null,null,null,"Gyártott:",null,"db"]
[]
[null,null,null,"Elvárt darabszám:",0,"db",null,"Elvárt db/op:",0,null,null,"Elvárt darabszám:",0,"db",null,"Elvárt db/op:",0,null,null,"Elvárt darabszám:",0,"db",null,"Elvárt db/op:",0]
[null,null,null,"Szükséges létszám: ",0,"fő",null,null,null,null,null,"Szükséges létszám:",0,"fő",null,null,null,null,null,"Szükséges létszám:",0,"fő"]
[null,null,null,"Aktuális létszám:",0,"fő",null,"Aktuális db/op:",0,null,null,"Aktuális létszám:",0,"fő",null,"Aktuális db/op:",0,null,null,"Aktuális létszám:",0,"fő",null,"Aktuális db/op:",0]
[]
[null,null,null,"Operátor",null,"fő",null,null,null,null,null,"Operátor",null,"fő",null,null,null,null,null,"Operátor",null,"fő"]
[null,null,null,"Koordinátor",null,"fő",null,null,null,null,null,"Koordinátor",null,"fő",null,null,null,null,null,"Koordinátor",null,"fő"]
[null,null,null,"Beállító",null,"fő",null,null,null,null,null,"Beállító",null,"fő",null,null,null,null,null,"Beállító",null,"fő"]
[null,null,null,"QA, Service",null,"fő",null,null,null,null,null,"QA, Service",null,"fő",null,null,null,null,null,"QA, Service",null,"fő"]
[null,null,null,"Anyagszállító",null,"fő",null,null,null,null,null,"Anyagszállító",null,"fő",null,null,null,null,null,"Anyagszállító",null,"fő"]
[null,null,null,"Egyéb",null,"fő",null,null,null,null,null,"Egyéb",null,"fő",null,null,null,null,null,"Egyéb",null,"fő"]
[]
[null,null,null,"Backlog:",null,"sorok száma",null,null,null,null,null,"Backlog:",null,"sorok száma",null,null,null,null,null,"Backlog:",null,"sorok száma"]
[]
[null,null,null,"Backlog:",null,"összes darab",null,null,null,null,null,"Backlog:",null,"összes darab",null,null,null,null,null,"Backlog:",null,"összes darab"]
[]
[null,null,null,"Kód:","Időtartam","Állásidő megnevezése",null,null,null,null,null,"Kód:","Időtartam","Állásidő megnevezése",null,null,null,null,null,"Kód:","Időtartam","Állásidő megnevezése"]
[null,null,null,null,null,{"$f":"VLOOKUP(D363,állásidő_kódok!$B:$D,3,0)","v":{"$error":"#N/A"}},null,null,null,null,null,null,null,{"$f":"VLOOKUP(L363,állásidő_kódok!$B:$D,3,0)","v":{"$error":"#N/A"}},null,null,null,null,null,null,null,{"$f":"VLOOKUP(T363,állásidő_kódok!$B:$D,3,0)","v":{"$error":"#N/A"}}]
[null,null,null,null,null,{"$f":"VLOOKUP(D364,állásidő_kódok!$B:$D,3,0)","v":{"$error":"#N/A"}},null,null,null,null,null,null,null,{"$f":"VLOOKUP(L364,állásidő_kódok!$B:$D,3,0)","v":{"$error":"#N/A"}},null,null,null,null,null,null,null,{"$f":"VLOOKUP(T364,állásidő_kódok!$B:$D,3,0)","v":{"$error":"#N/A"}}]
[null,null,null,null,null,{"$f":"VLOOKUP(D365,állásidő_kódok!$B:$D,3,0)","v":{"$error":"#N/A"}},null,null,null,null,null,null,null,{"$f":"VLOOKUP(L365,állásidő_kódok!$B:$D,3,0)","v":{"$error":"#N/A"}},null,null,null,null,null,null,null,{"$f":"VLOOKUP(T365,állásidő_kódok!$B:$D,3,0)","v":{"$error":"#N/A"}}]
[null,null,null,null,null,{"$f":"VLOOKUP(D366,állásidő_kódok!$B:$D,3,0)","v":{"$error":"#N/A"}},null,null,null,null,null,null,null,{"$f":"VLOOKUP(L366,állásidő_kódok!$B:$D,3,0)","v":{"$error":"#N/A"}},null,null,null,null,null,null,null,{"$f":"VLOOKUP(T366,állásidő_kódok!$B:$D,3,0)","v":{"$error":"#N/A"}}]
[null,null,null,null,null,{"$f":"VLOOKUP(D367,állásidő_kódok!$B:$D,3,0)","v":{"$error":"#N/A"}},null,null,null,null,null,null,null,{"$f":"VLOOKUP(L367,állásidő_kódok!$B:$D,3,0)","v":{"$error":"#N/A"}},null,null,null,null,null,null,null,{"$f":"VLOOKUP(T367,állásidő_kódok!$B:$D,3,0)","v":{"$error":"#N/A"}}]
[null,null,null,null,null,{"$f":"VLOOKUP(D368,állásidő_kódok!$B:$D,3,0)","v":{"$error":"#N/A"}},null,null,null,null,null,null,null,{"$f":"VLOOKUP(L368,állásidő_kódok!$B:$D,3,0)","v":{"$error":"#N/A"}},null,null,null,null,null,null,null,{"$f":"VLOOKUP(T368,állásidő_kódok!$B:$D,3,0)","v":{"$error":"#N/A"}}]
[null,null,null,null,null,{"$f":"VLOOKUP(D369,állásidő_kódok!$B:$D,3,0)","v":{"$error":"#N/A"}},null,null,null,null,null,null,null,{"$f":"VLOOKUP(L369,állásidő_kódok!$B:$D,3,0)","v":{"$error":"#N/A"}},null,null,null,null,null,null,null,{"$f":"VLOOKUP(T369,állásidő_kódok!$B:$D,3,0)","v":{"$error":"#N/A"}}]
[null,null,null,null,null,{"$f":"VLOOKUP(D370,állásidő_kódok!$B:$D,3,0)","v":{"$error":"#N/A"}},null,null,null,null,null,null,null,{"$f":"VLOOKUP(L370,állásidő_kódok!$B:$D,3,0)","v":{"$error":"#N/A"}},null,null,null,null,null,null,null,{"$f":"VLOOKUP(T370,állásidő_kódok!$B:$D,3,0)","v":{"$error":"#N/A"}}]
[null,null,null,null,null,{"$f":"VLOOKUP(D371,állásidő_kódok!$B:$D,3,0)","v":{"$error":"#N/A"}},null,null,null,null,null,null,null,{"$f":"VLOOKUP(L371,állásidő_kódok!$B:$D,3,0)","v":{"$error":"#N/A"}},null,null,null,null,null,null,null,{"$f":"VLOOKUP(T371,állásidő_kódok!$B:$D,3,0)","v":{"$error":"#N/A"}}]
[null,null,null,null,null,{"$f":"VLOOKUP(D372,állásidő_kódok!$B:$D,3,0)","v":{"$error":"#N/A"}},null,null,null,null,null,null,null,{"$f":"VLOOKUP(L372,állásidő_kódok!$B:$D,3,0)","v":{"$error":"#N/A"}},null,null,null,null,null,null,null,{"$f":"VLOOKUP(T372,állásidő_kódok!$B:$D,3,0)","v":{"$error":"#N/A"}}]
[null,null,null,null,"Állásidők nélküli teljesítés:",{"$f":"((SUM(E363:E372)/445))+E345/E347","v":{"$error":"#DIV/0!"}},null,null,null,null,null,null,"Állásidők nélküli teljesítés:",{"$f":"((SUM(M363:M372)/445))+M345/M347","v":{"$error":"#DIV/0!"}},null,null,null,null,null,null,"Állásidők nélküli teljesítés:",{"$f":"((SUM(U363:U372)/445))+U345/U347","v":{"$error":"#DIV/0!"}}]
[null,{"$f":"Alapadatok!C15","v":"Cella11"},null,null,null,null,null,null,null,{"$f":"B374","v":"Cella11"},null,null,null,null,null,null,null,{"$f":"B374","v":"Cella11"}]
[null,null,null,"Gyártott:",null,"db",null,null,null,null,null,"Gyártott:",null,"db",null,null,null,null,null,"Gyártott:",null,"db"]
[]
[null,null,null,"Elvárt darabszám:",0,"db",null,"Elvárt db/op:",0,null,null,"Elvárt darabszám:",0,"db",null,"Elvárt db/op:",0,null,null,"Elvárt darabszám:",0,"db",null,"Elvárt db/op:",0]
[null,null,null,"Szükséges létszám: ",0,"fő",null,null,null,null,null,"Szükséges létszám:",0,"fő",null,null,null,null,null,"Szükséges létszám:",0,"fő"]
[null,null,null,"Aktuális létszám:",0,"fő",null,"Aktuális db/op:",0,null,null,"Aktuális létszám:",0,"fő",null,"Aktuális db/op:",0,null,null,"Aktuális létszám:",0,"fő",null,"Aktuális db/op:",0]
[]
[null,null,null,"Operátor",null,"fő",null,null,null,null,null,"Operátor",null,"fő",null,null,null,null,null,"Operátor",null,"fő"]
[null,null,null,"Koordinátor",null,"fő",null,null,null,null,null,"Koordinátor",null,"fő",null,null,null,null,null,"Koordinátor",null,"fő"]
[null,null,null,"Beállító",null,"fő",null,null,null,null,null,"Beállító",null,"fő",null,null,null,null,null,"Beállító",null,"fő"]
[null,null,null,"QA, Service",null,"fő",null,null,null,null,null,"QA, Service",null,"fő",null,null,null,null,null,"QA, Service",null,"fő"]
[null,null,null,"Anyagszállító",null,"fő",null,null,null,null,null,"Anyagszállító",null,"fő",null,null,null,null,null,"Anyagszállító",null,"fő"]
[null,null,null,"Egyéb",null,"fő",null,null,null,null,null,"Egyéb",null,"fő",null,null,null,null,null,"Egyéb",null,"fő"]
[]
[null,null,null,"Backlog:",null,"sorok száma",null,null,null,null,null,"Backlog:",null,"sorok száma",null,null,null,null,null,"Backlog:",null,"sorok száma"]
[]
[null,null,null,"Backlog:",null,"összes darab",null,null,null,null,null,"Backlog:",null,"összes darab",null,null,null,null,null,"Backlog:",null,"összes darab"]
[]
[null,null,null,"Kód:","Időtartam","Állásidő megnevezése",null,null,null,null,null,"Kód:","Időtartam","Állásidő megnevezése",null,null,null,null,null,"Kód:","Időtartam","Állásidő megnevezése"]
[null,null,null,null,null,{"$f":"VLOOKUP(D393,állásidő_kódok!$B:$D,3,0)","v":{"$error":"#N/A"}},null,null,null,null,null,null,null,{"$f":"VLOOKUP(L393,állásidő_kódok!$B:$D,3,0)","v":{"$error":"#N/A"}},null,null,null,null,null,null,null,{"$f":"VLOOKUP(T393,állásidő_kódok!$B:$D,3,0)","v":{"$error":"#N/A"}}]
[null,null,null,null,null,{"$f":"VLOOKUP(D394,állásidő_kódok!$B:$D,3,0)","v":{"$error":"#N/A"}},null,null,null,null,null,null,null,{"$f":"VLOOKUP(L394,állásidő_kódok!$B:$D,3,0)","v":{"$error":"#N/A"}},null,null,null,null,null,null,null,{"$f":"VLOOKUP(T394,állásidő_kódok!$B:$D,3,0)","v":{"$error":"#N/A"}}]
[null,null,null,null,null,{"$f":"VLOOKUP(D395,állásidő_kódok!$B:$D,3,0)","v":{"$error":"#N/A"}},null,null,null,null,null,null,null,{"$f":"VLOOKUP(L395,állásidő_kódok!$B:$D,3,0)","v":{"$error":"#N/A"}},null,null,null,null,null,null,null,{"$f":"VLOOKUP(T395,állásidő_kódok!$B:$D,3,0)","v":{"$error":"#N/A"}}]
[null,null,null,null,null,{"$f":"VLOOKUP(D396,állásidő_kódok!$B:$D,3,0)","v":{"$error":"#N/A"}},null,null,null,null,null,null,null,{"$f":"VLOOKUP(L396,állásidő_kódok!$B:$D,3,0)","v":{"$error":"#N/A"}},null,null,null,null,null,null,null,{"$f":"VLOOKUP(T396,állásidő_kódok!$B:$D,3,0)","v":{"$error":"#N/A"}}]
[null,null,null,null,null,{"$f":"VLOOKUP(D397,állásidő_kódok!$B:$D,3,0)","v":{"$error":"#N/A"}},null,null,null,null,null,null,null,{"$f":"VLOOKUP(L397,állásidő_kódok!$B:$D,3,0)","v":{"$error":"#N/A"}},null,null,null,null,null,null,null,{"$f":"VLOOKUP(T397,állásidő_kódok!$B:$D,3,0)","v":{"$error":"#N/A"}}]
[null,null,null,null,null,{"$f":"VLOOKUP(D398,állásidő_kódok!$B:$D,3,0)","v":{"$error":"#N/A"}},null,null,null,null,null,null,null,{"$f":"VLOOKUP(L398,állásidő_kódok!$B:$D,3,0)","v":{"$error":"#N/A"}},null,null,null,null,null,null,null,{"$f":"VLOOKUP(T398,állásidő_kódok!$B:$D,3,0)","v":{"$error":"#N/A"}}]
[null,null,null,null,null,{"$f":"VLOOKUP(D399,állásidő_kódok!$B:$D,3,0)","v":{"$error":"#N/A"}},null,null,null,null,null,null,null,{"$f":"VLOOKUP(L399,állásidő_kódok!$B:$D,3,0)","v":{"$error":"#N/A"}},null,null,null,null,null,null,null,{"$f":"VLOOKUP(T399,állásidő_kódok!$B:$D,3,0)","v":{"$error":"#N/A"}}]
[null,null,null,null,null,{"$f":"VLOOKUP(D400,állásidő_kódok!$B:$D,3,0)","v":{"$error":"#N/A"}},null,null,null,null,null,null,null,{"$f":"VLOOKUP(L400,állásidő_kódok!$B:$D,3,0)","v":{"$error":"#N/A"}},null,null,null,null,null,null,null,{"$f":"VLOOKUP(T400,állásidő_kódok!$B:$D,3,0)","v":{"$error":"#N/A"}}]
[null,null,null,null,null,{"$f":"VLOOKUP(D401,állásidő_kódok!$B:$D,3,0)","v":{"$error":"#N/A"}},null,null,null,null,null,null,null,{"$f":"VLOOKUP(L401,állásidő_kódok!$B:$D,3,0)","v":{"$error":"#N/A"}},null,null,null,null,null,null,null,{"$f":"VLOOKUP(T401,állásidő_kódok!$B:$D,3,0)","v":{"$error":"#N/A"}}]
[null,null,null,null,null,{"$f":"VLOOKUP(D402,állásidő_kódok!$B:$D,3,0)","v":{"$error":"#N/A"}},null,null,null,null,null,null,null,{"$f":"VLOOKUP(L402,állásidő_kódok!$B:$D,3,0)","v":{"$error":"#N/A"}},null,null,null,null,null,null,null,{"$f":"VLOOKUP(T402,állásidő_kódok!$B:$D,3,0)","v":{"$error":"#N/A"}}]
[null,null,null,null,"Állásidők nélküli teljesítés:",{"$f":"((SUM(E393:E402)/445))+E375/E377","v":{"$error":"#DIV/0!"}},null,null,null,null,null,null,"Állásidők nélküli teljesítés:",{"$f":"((SUM(M393:M402)/445))+M375/M377","v":{"$error":"#DIV/0!"}},null,null,null,null,null,null,"Állásidők nélküli teljesítés:",{"$f":"((SUM(U393:U402)/445))+U375/U377","v":{"$error":"#DIV/0!"}}]
[null,{"$f":"Alapadatok!C16","v":"Cella12"},null,null,null,null,null,null,null,{"$f":"B404","v":"Cella12"},null,null,null,null,null,null,null,{"$f":"B404","v":"Cella12"}]
[null,null,null,"Gyártott:",null,"db",null,null,null,null,null,"Gyártott:",null,"db",null,null,null,null,null,"Gyártott:",null,"db"]
[]
[null,null,null,"Elvárt darabszám:",0,"db",null,"Elvárt db/op:",0,null,null,"Elvárt darabszám:",0,"db",null,"Elvárt db/op:",0,null,null,"Elvárt darabszám:",0,"db",null,"Elvárt db/op:",0]
[null,null,null,"Szükséges létszám: ",0,"fő",null,null,null,null,null,"Szükséges létszám:",0,"fő",null,null,null,null,null,"Szükséges létszám:",0,"fő"]
[null,null,null,"Aktuális létszám:",0,"fő",null,"Aktuális db/op:",0,null,null,"Aktuális létszám:",0,"fő",null,"Aktuális db/op:",0,null,null,"Aktuális létszám:",0,"fő",null,"Aktuális db/op:",0]
[]
[null,null,null,"Operátor",null,"fő",null,null,null,null,null,"Operátor",null,"fő",null,null,null,null,null,"Operátor",null,"fő"]
[null,null,null,"Koordinátor",null,"fő",null,null,null,null,null,"Koordinátor",null,"fő",null,null,null,null,null,"Koordinátor",null,"fő"]
[null,null,null,"Beállító",null,"fő",null,null,null,null,null,"Beállító",null,"fő",null,null,null,null,null,"Beállító",null,"fő"]
[null,null,null,"QA, Service",null,"fő",null,null,null,null,null,"QA, Service",null,"fő",null,null,null,null,null,"QA, Service",null,"fő"]
[null,null,null,"Anyagszállító",null,"fő",null,null,null,null,null,"Anyagszállító",null,"fő",null,null,null,null,null,"Anyagszállító",null,"fő"]
[null,null,null,"Egyéb",null,"fő",null,null,null,null,null,"Egyéb",null,"fő",null,null,null,null,null,"Egyéb",null,"fő"]
[]
[null,null,null,"Backlog:",null,"sorok száma",null,null,null,null,null,"Backlog:",null,"sorok száma",null,null,null,null,null,"Backlog:",null,"sorok száma"]
[]
[null,null,null,"Backlog:",null,"összes darab",null,null,null,null,null,"Backlog:",null,"összes darab",null,null,null,null,null,"Backlog:",null,"összes darab"]
[]
[null,null,null,"Kód:","Időtartam","Állásidő megnevezése",null,null,null,null,null,"Kód:","Időtartam","Állásidő megnevezése",null,null,null,null,null,"Kód:","Időtartam","Állásidő megnevezése"]
[null,null,null,null,null,{"$f":"VLOOKUP(D423,állásidő_kódok!$B:$D,3,0)","v":{"$error":"#N/A"}},null,null,null,null,null,null,null,{"$f":"VLOOKUP(L423,állásidő_kódok!$B:$D,3,0)","v":{"$error":"#N/A"}},null,null,null,null,null,null,null,{"$f":"VLOOKUP(T423,állásidő_kódok!$B:$D,3,0)","v":{"$error":"#N/A"}}]
[null,null,null,null,null,{"$f":"VLOOKUP(D424,állásidő_kódok!$B:$D,3,0)","v":{"$error":"#N/A"}},null,null,null,null,null,null,null,{"$f":"VLOOKUP(L424,állásidő_kódok!$B:$D,3,0)","v":{"$error":"#N/A"}},null,null,null,null,null,null,null,{"$f":"VLOOKUP(T424,állásidő_kódok!$B:$D,3,0)","v":{"$error":"#N/A"}}]
[null,null,null,null,null,{"$f":"VLOOKUP(D425,állásidő_kódok!$B:$D,3,0)","v":{"$error":"#N/A"}},null,null,null,null,null,null,null,{"$f":"VLOOKUP(L425,állásidő_kódok!$B:$D,3,0)","v":{"$error":"#N/A"}},null,null,null,null,null,null,null,{"$f":"VLOOKUP(T425,állásidő_kódok!$B:$D,3,0)","v":{"$error":"#N/A"}}]
[null,null,null,null,null,{"$f":"VLOOKUP(D426,állásidő_kódok!$B:$D,3,0)","v":{"$error":"#N/A"}},null,null,null,null,null,null,null,{"$f":"VLOOKUP(L426,állásidő_kódok!$B:$D,3,0)","v":{"$error":"#N/A"}},null,null,null,null,null,null,null,{"$f":"VLOOKUP(T426,állásidő_kódok!$B:$D,3,0)","v":{"$error":"#N/A"}}]
[null,null,null,null,null,{"$f":"VLOOKUP(D427,állásidő_kódok!$B:$D,3,0)","v":{"$error":"#N/A"}},null,null,null,null,null,null,null,{"$f":"VLOOKUP(L427,állásidő_kódok!$B:$D,3,0)","v":{"$error":"#N/A"}},null,null,null,null,null,null,null,{"$f":"VLOOKUP(T427,állásidő_kódok!$B:$D,3,0)","v":{"$error":"#N/A"}}]
[null,null,null,null,null,{"$f":"VLOOKUP(D428,állásidő_kódok!$B:$D,3,0)","v":{"$error":"#N/A"}},null,null,null,null,null,null,null,{"$f":"VLOOKUP(L428,állásidő_kódok!$B:$D,3,0)","v":{"$error":"#N/A"}},null,null,null,null,null,null,null,{"$f":"VLOOKUP(T428,állásidő_kódok!$B:$D,3,0)","v":{"$error":"#N/A"}}]
[null,null,null,null,null,{"$f":"VLOOKUP(D429,állásidő_kódok!$B:$D,3,0)","v":{"$error":"#N/A"}},null,null,null,null,null,null,null,{"$f":"VLOOKUP(L429,állásidő_kódok!$B:$D,3,0)","v":{"$error":"#N/A"}},null,null,null,null,null,null,null,{"$f":"VLOOKUP(T429,állásidő_kódok!$B:$D,3,0)","v":{"$error":"#N/A"}}]
[null,null,null,null,null,{"$f":"VLOOKUP(D430,állásidő_kódok!$B:$D,3,0)","v":{"$error":"#N/A"}},null,null,null,null,null,null,null,{"$f":"VLOOKUP(L430,állásidő_kódok!$B:$D,3,0)","v":{"$error":"#N/A"}},null,null,null,null,null,null,null,{"$f":"VLOOKUP(T430,állásidő_kódok!$B:$D,3,0)","v":{"$error":"#N/A"}}]
[null,null,null,null,null,{"$f":"VLOOKUP(D431,állásidő_kódok!$B:$D,3,0)","v":{"$error":"#N/A"}},null,null,null,null,null,null,null,{"$f":"VLOOKUP(L431,állásidő_kódok!$B:$D,3,0)","v":{"$error":"#N/A"}},null,null,null,null,null,null,null,{"$f":"VLOOKUP(T431,állásidő_kódok!$B:$D,3,0)","v":{"$error":"#N/A"}}]
[null,null,null,null,null,{"$f":"VLOOKUP(D432,állásidő_kódok!$B:$D,3,0)","v":{"$error":"#N/A"}},null,null,null,null,null,null,null,{"$f":"VLOOKUP(L432,állásidő_kódok!$B:$D,3,0)","v":{"$error":"#N/A"}},null,null,null,null,null,null,null,{"$f":"VLOOKUP(T432,állásidő_kódok!$B:$D,3,0)","v":{"$error":"#N/A"}}]
[null,null,null,null,"Állásidők nélküli teljesítés:",{"$f":"((SUM(E423:E432)/445))+E405/E407","v":{"$error":"#DIV/0!"}},null,null,null,null,null,null,"Állásidők nélküli teljesítés:",{"$f":"((SUM(M423:M432)/445))+M405/M407","v":{"$error":"#DIV/0!"}},null,null,null,null,null,null,"Állásidők nélküli teljesítés:",{"$f":"((SUM(U423:U432)/445))+U405/U407","v":{"$error":"#DIV/0!"}}]
[null,{"$f":"Alapadatok!C17","v":"Cella13"},null,null,null,null,null,null,null,{"$f":"B434","v":"Cella13"},null,null,null,null,null,null,null,{"$f":"B434","v":"Cella13"}]
[null,null,null,"Gyártott:",null,"db",null,null,null,null,null,"Gyártott:",null,"db",null,null,null,null,null,"Gyártott:",null,"db"]
[]
[null,null,null,"Elvárt darabszám:",0,"db",null,"Elvárt db/op:",0,null,null,"Elvárt darabszám:",0,"db",null,"Elvárt db/op:",0,null,null,"Elvárt darabszám:",0,"db",null,"Elvárt db/op:",0]
[null,null,null,"Szükséges létszám: ",0,"fő",null,null,null,null,null,"Szükséges létszám:",0,"fő",null,null,null,null,null,"Szükséges létszám:",0,"fő"]
[null,null,null,"Aktuális létszám:",0,"fő",null,"Aktuális db/op:",0,null,null,"Aktuális létszám:",0,"fő",null,"Aktuális db/op:",0,null,null,"Aktuális létszám:",0,"fő",null,"Aktuális db/op:",0]
[]
[null,null,null,"Operátor",null,"fő",null,null,null,null,null,"Operátor",null,"fő",null,null,null,null,null,"Operátor",null,"fő"]
[null,null,null,"Koordinátor",null,"fő",null,null,null,null,null,"Koordinátor",null,"fő",null,null,null,null,null,"Koordinátor",null,"fő"]
[null,null,null,"Beállító",null,"fő",null,null,null,null,null,"Beállító",null,"fő",null,null,null,null,null,"Beállító",null,"fő"]
[null,null,null,"QA, Service",null,"fő",null,null,null,null,null,"QA, Service",null,"fő",null,null,null,null,null,"QA, Service",null,"fő"]
[null,null,null,"Anyagszállító",null,"fő",null,null,null,null,null,"Anyagszállító",null,"fő",null,null,null,null,null,"Anyagszállító",null,"fő"]
[null,null,null,"Egyéb",null,"fő",null,null,null,null,null,"Egyéb",null,"fő",null,null,null,null,null,"Egyéb",null,"fő"]
[]
[null,null,null,"Backlog:",null,"sorok száma",null,null,null,null,null,"Backlog:",null,"sorok száma",null,null,null,null,null,"Backlog:",null,"sorok száma"]
[]
[null,null,null,"Backlog:",null,"összes darab",null,null,null,null,null,"Backlog:",null,"összes darab",null,null,null,null,null,"Backlog:",null,"összes darab"]
[]
[null,null,null,"Kód:","Időtartam","Állásidő megnevezése",null,null,null,null,null,"Kód:","Időtartam","Állásidő megnevezése",null,null,null,null,null,"Kód:","Időtartam","Állásidő megnevezése"]
[null,null,null,null,null,{"$f":"VLOOKUP(D453,állásidő_kódok!$B:$D,3,0)","v":{"$error":"#N/A"}},null,null,null,null,null,null,null,{"$f":"VLOOKUP(L453,állásidő_kódok!$B:$D,3,0)","v":{"$error":"#N/A"}},null,null,null,null,null,null,null,{"$f":"VLOOKUP(T453,állásidő_kódok!$B:$D,3,0)","v":{"$error":"#N/A"}}]
[null,null,null,null,null,{"$f":"VLOOKUP(D454,állásidő_kódok!$B:$D,3,0)","v":{"$error":"#N/A"}},null,null,null,null,null,null,null,{"$f":"VLOOKUP(L454,állásidő_kódok!$B:$D,3,0)","v":{"$error":"#N/A"}},null,null,null,null,null,null,null,{"$f":"VLOOKUP(T454,állásidő_kódok!$B:$D,3,0)","v":{"$error":"#N/A"}}]
[null,null,null,null,null,{"$f":"VLOOKUP(D455,állásidő_kódok!$B:$D,3,0)","v":{"$error":"#N/A"}},null,null,null,null,null,null,null,{"$f":"VLOOKUP(L455,állásidő_kódok!$B:$D,3,0)","v":{"$error":"#N/A"}},null,null,null,null,null,null,null,{"$f":"VLOOKUP(T455,állásidő_kódok!$B:$D,3,0)","v":{"$error":"#N/A"}}]
[null,null,null,null,null,{"$f":"VLOOKUP(D456,állásidő_kódok!$B:$D,3,0)","v":{"$error":"#N/A"}},null,null,null,null,null,null,null,{"$f":"VLOOKUP(L456,állásidő_kódok!$B:$D,3,0)","v":{"$error":"#N/A"}},null,null,null,null,null,null,null,{"$f":"VLOOKUP(T456,állásidő_kódok!$B:$D,3,0)","v":{"$error":"#N/A"}}]
[null,null,null,null,null,{"$f":"VLOOKUP(D457,állásidő_kódok!$B:$D,3,0)","v":{"$error":"#N/A"}},null,null,null,null,null,null,null,{"$f":"VLOOKUP(L457,állásidő_kódok!$B:$D,3,0)","v":{"$error":"#N/A"}},null,null,null,null,null,null,null,{"$f":"VLOOKUP(T457,állásidő_kódok!$B:$D,3,0)","v":{"$error":"#N/A"}}]
[null,null,null,null,null,{"$f":"VLOOKUP(D458,állásidő_kódok!$B:$D,3,0)","v":{"$error":"#N/A"}},null,null,null,null,null,null,null,{"$f":"VLOOKUP(L458,állásidő_kódok!$B:$D,3,0)","v":{"$error":"#N/A"}},null,null,null,null,null,null,null,{"$f":"VLOOKUP(T458,állásidő_kódok!$B:$D,3,0)","v":{"$error":"#N/A"}}]
[null,null,null,null,null,{"$f":"VLOOKUP(D459,állásidő_kódok!$B:$D,3,0)","v":{"$error":"#N/A"}},null,null,null,null,null,null,null,{"$f":"VLOOKUP(L459,állásidő_kódok!$B:$D,3,0)","v":{"$error":"#N/A"}},null,null,null,null,null,null,null,{"$f":"VLOOKUP(T459,állásidő_kódok!$B:$D,3,0)","v":{"$error":"#N/A"}}]
[null,null,null,null,null,{"$f":"VLOOKUP(D460,állásidő_kódok!$B:$D,3,0)","v":{"$error":"#N/A"}},null,null,null,null,null,null,null,{"$f":"VLOOKUP(L460,állásidő_kódok!$B:$D,3,0)","v":{"$error":"#N/A"}},null,null,null,null,null,null,null,{"$f":"VLOOKUP(T460,állásidő_kódok!$B:$D,3,0)","v":{"$error":"#N/A"}}]
[null,null,null,null,null,{"$f":"VLOOKUP(D461,állásidő_kódok!$B:$D,3,0)","v":{"$error":"#N/A"}},null,null,null,null,null,null,null,{"$f":"VLOOKUP(L461,állásidő_kódok!$B:$D,3,0)","v":{"$error":"#N/A"}},null,null,null,null,null,null,null,{"$f":"VLOOKUP(T461,állásidő_kódok!$B:$D,3,0)","v":{"$error":"#N/A"}}]
[null,null,null,null,null,{"$f":"VLOOKUP(D462,állásidő_kódok!$B:$D,3,0)","v":{"$error":"#N/A"}},null,null,null,null,null,null,null,{"$f":"VLOOKUP(L462,állásidő_kódok!$B:$D,3,0)","v":{"$error":"#N/A"}},null,null,null,null,null,null,null,{"$f":"VLOOKUP(T462,állásidő_kódok!$B:$D,3,0)","v":{"$error":"#N/A"}}]
[null,null,null,null,"Állásidők nélküli teljesítés:",{"$f":"((SUM(E453:E462)/445))+E435/E437","v":{"$error":"#DIV/0!"}},null,null,null,null,null,null,"Állásidők nélküli teljesítés:",{"$f":"((SUM(M453:M462)/445))+M435/M437","v":{"$error":"#DIV/0!"}},null,null,null,null,null,null,"Állásidők nélküli teljesítés:",{"$f":"((SUM(U453:U462)/445))+U435/U437","v":{"$error":"#DIV/0!"}}]
[null,{"$f":"Alapadatok!C18","v":"Cella14"},null,null,null,null,null,null,null,{"$f":"B464","v":"Cella14"},null,null,null,null,null,null,null,{"$f":"B464","v":"Cella14"}]
[null,null,null,"Gyártott:",null,"db",null,null,null,null,null,"Gyártott:",null,"db",null,null,null,null,null,"Gyártott:",null,"db"]
[]
[null,null,null,"Elvárt darabszám:",0,"db",null,"Elvárt db/op:",0,null,null,"Elvárt darabszám:",0,"db",null,"Elvárt db/op:",0,null,null,"Elvárt darabszám:",0,"db",null,"Elvárt db/op:",0]
[null,null,null,"Szükséges létszám: ",0,"fő",null,null,null,null,null,"Szükséges létszám:",0,"fő",null,null,null,null,null,"Szükséges létszám:",0,"fő"]
[null,null,null,"Aktuális létszám:",0,"fő",null,"Aktuális db/op:",0,null,null,"Aktuális létszám:",0,"fő",null,"Aktuális db/op:",0,null,null,"Aktuális létszám:",0,"fő",null,"Aktuális db/op:",0]
[]
[null,null,null,"Operátor",null,"fő",null,null,null,null,null,"Operátor",null,"fő",null,null,null,null,null,"Operátor",null,"fő"]
[null,null,null,"Koordinátor",null,"fő",null,null,null,null,null,"Koordinátor",null,"fő",null,null,null,null,null,"Koordinátor",null,"fő"]
[null,null,null,"Beállító",null,"fő",null,null,null,null,null,"Beállító",null,"fő",null,null,null,null,null,"Beállító",null,"fő"]
[null,null,null,"QA, Service",null,"fő",null,null,null,null,null,"QA, Service",null,"fő",null,null,null,null,null,"QA, Service",null,"fő"]
[null,null,null,"Anyagszállító",null,"fő",null,null,null,null,null,"Anyagszállító",null,"fő",null,null,null,null,null,"Anyagszállító",null,"fő"]
[null,null,null,"Egyéb",null,"fő",null,null,null,null,null,"Egyéb",null,"fő",null,null,null,null,null,"Egyéb",null,"fő"]
[]
[null,null,null,"Backlog:",null,"sorok száma",null,null,null,null,null,"Backlog:",null,"sorok száma",null,null,null,null,null,"Backlog:",null,"sorok száma"]
[]
[null,null,null,"Backlog:",null,"összes darab",null,null,null,null,null,"Backlog:",null,"összes darab",null,null,null,null,null,"Backlog:",null,"összes darab"]
[]
[null,null,null,"Kód:","Időtartam","Állásidő megnevezése",null,null,null,null,null,"Kód:","Időtartam","Állásidő megnevezése",null,null,null,null,null,"Kód:","Időtartam","Állásidő megnevezése"]
[null,null,null,null,null,{"$f":"VLOOKUP(D483,állásidő_kódok!$B:$D,3,0)","v":{"$error":"#N/A"}},null,null,null,null,null,null,null,{"$f":"VLOOKUP(L483,állásidő_kódok!$B:$D,3,0)","v":{"$error":"#N/A"}},null,null,null,null,null,null,null,{"$f":"VLOOKUP(T483,állásidő_kódok!$B:$D,3,0)","v":{"$error":"#N/A"}}]
[null,null,null,null,null,{"$f":"VLOOKUP(D484,állásidő_kódok!$B:$D,3,0)","v":{"$error":"#N/A"}},null,null,null,null,null,null,null,{"$f":"VLOOKUP(L484,állásidő_kódok!$B:$D,3,0)","v":{"$error":"#N/A"}},null,null,null,null,null,null,null,{"$f":"VLOOKUP(T484,állásidő_kódok!$B:$D,3,0)","v":{"$error":"#N/A"}}]
[null,null,null,null,null,{"$f":"VLOOKUP(D485,állásidő_kódok!$B:$D,3,0)","v":{"$error":"#N/A"}},null,null,null,null,null,null,null,{"$f":"VLOOKUP(L485,állásidő_kódok!$B:$D,3,0)","v":{"$error":"#N/A"}},null,null,null,null,null,null,null,{"$f":"VLOOKUP(T485,állásidő_kódok!$B:$D,3,0)","v":{"$error":"#N/A"}}]
[null,null,null,null,null,{"$f":"VLOOKUP(D486,állásidő_kódok!$B:$D,3,0)","v":{"$error":"#N/A"}},null,null,null,null,null,null,null,{"$f":"VLOOKUP(L486,állásidő_kódok!$B:$D,3,0)","v":{"$error":"#N/A"}},null,null,null,null,null,null,null,{"$f":"VLOOKUP(T486,állásidő_kódok!$B:$D,3,0)","v":{"$error":"#N/A"}}]
[null,null,null,null,null,{"$f":"VLOOKUP(D487,állásidő_kódok!$B:$D,3,0)","v":{"$error":"#N/A"}},null,null,null,null,null,null,null,{"$f":"VLOOKUP(L487,állásidő_kódok!$B:$D,3,0)","v":{"$error":"#N/A"}},null,null,null,null,null,null,null,{"$f":"VLOOKUP(T487,állásidő_kódok!$B:$D,3,0)","v":{"$error":"#N/A"}}]
[null,null,null,null,null,{"$f":"VLOOKUP(D488,állásidő_kódok!$B:$D,3,0)","v":{"$error":"#N/A"}},null,null,null,null,null,null,null,{"$f":"VLOOKUP(L488,állásidő_kódok!$B:$D,3,0)","v":{"$error":"#N/A"}},null,null,null,null,null,null,null,{"$f":"VLOOKUP(T488,állásidő_kódok!$B:$D,3,0)","v":{"$error":"#N/A"}}]
[null,null,null,null,null,{"$f":"VLOOKUP(D489,állásidő_kódok!$B:$D,3,0)","v":{"$error":"#N/A"}},null,null,null,null,null,null,null,{"$f":"VLOOKUP(L489,állásidő_kódok!$B:$D,3,0)","v":{"$error":"#N/A"}},null,null,null,null,null,null,null,{"$f":"VLOOKUP(T489,állásidő_kódok!$B:$D,3,0)","v":{"$error":"#N/A"}}]
[null,null,null,null,null,{"$f":"VLOOKUP(D490,állásidő_kódok!$B:$D,3,0)","v":{"$error":"#N/A"}},null,null,null,null,null,null,null,{"$f":"VLOOKUP(L490,állásidő_kódok!$B:$D,3,0)","v":{"$error":"#N/A"}},null,null,null,null,null,null,null,{"$f":"VLOOKUP(T490,állásidő_kódok!$B:$D,3,0)","v":{"$error":"#N/A"}}]
[null,null,null,null,null,{"$f":"VLOOKUP(D491,állásidő_kódok!$B:$D,3,0)","v":{"$error":"#N/A"}},null,null,null,null,null,null,null,{"$f":"VLOOKUP(L491,állásidő_kódok!$B:$D,3,0)","v":{"$error":"#N/A"}},null,null,null,null,null,null,null,{"$f":"VLOOKUP(T491,állásidő_kódok!$B:$D,3,0)","v":{"$error":"#N/A"}}]
[null,null,null,null,null,{"$f":"VLOOKUP(D492,állásidő_kódok!$B:$D,3,0)","v":{"$error":"#N/A"}},null,null,null,null,null,null,null,{"$f":"VLOOKUP(L492,állásidő_kódok!$B:$D,3,0)","v":{"$error":"#N/A"}},null,null,null,null,null,null,null,{"$f":"VLOOKUP(T492,állásidő_kódok!$B:$D,3,0)","v":{"$error":"#N/A"}}]
[null,null,null,null,"Állásidők nélküli teljesítés:",{"$f":"((SUM(E483:E492)/445))+E465/E467","v":{"$error":"#DIV/0!"}},null,null,null,null,null,null,"Állásidők nélküli teljesítés:",{"$f":"((SUM(M483:M492)/445))+M465/M467","v":{"$error":"#DIV/0!"}},null,null,null,null,null,null,"Állásidők nélküli teljesítés:",{"$f":"((SUM(U483:U492)/445))+U465/U467","v":{"$error":"#DIV/0!"}}]
[null,{"$f":"Alapadatok!C19","v":"Cella15"},null,null,null,null,null,null,null,{"$f":"B494","v":"Cella15"},null,null,null,null,null,null,null,{"$f":"B494","v":"Cella15"}]
[null,null,null,"Gyártott:",null,"db",null,null,null,null,null,"Gyártott:",null,"db",null,null,null,null,null,"Gyártott:",null,"db"]
[]
[null,null,null,"Elvárt darabszám:",0,"db",null,"Elvárt db/op:",0,null,null,"Elvárt darabszám:",0,"db",null,"Elvárt db/op:",0,null,null,"Elvárt darabszám:",0,"db",null,"Elvárt db/op:",0]
[null,null,null,"Szükséges létszám: ",0,"fő",null,null,null,null,null,"Szükséges létszám:",0,"fő",null,null,null,null,null,"Szükséges létszám:",0,"fő"]
[null,null,null,"Aktuális létszám:",0,"fő",null,"Aktuális db/op:",0,null,null,"Aktuális létszám:",0,"fő",null,"Aktuális db/op:",0,null,null,"Aktuális létszám:",0,"fő",null,"Aktuális db/op:",0]
[]
[null,null,null,"Operátor",null,"fő",null,null,null,null,null,"Operátor",null,"fő",null,null,null,null,null,"Operátor",null,"fő"]
[null,null,null,"Koordinátor",null,"fő",null,null,null,null,null,"Koordinátor",null,"fő",null,null,null,null,null,"Koordinátor",null,"fő"]
[null,null,null,"Beállító",null,"fő",null,null,null,null,null,"Beállító",null,"fő",null,null,null,null,null,"Beállító",null,"fő"]
[null,null,null,"QA, Service",null,"fő",null,null,null,null,null,"QA, Service",null,"fő",null,null,null,null,null,"QA, Service",null,"fő"]
[null,null,null,"Anyagszállító",null,"fő",null,null,null,null,null,"Anyagszállító",null,"fő",null,null,null,null,null,"Anyagszállító",null,"fő"]
[null,null,null,"Egyéb",null,"fő",null,null,null,null,null,"Egyéb",null,"fő",null,null,null,null,null,"Egyéb",null,"fő"]
[]
[null,null,null,"Backlog:",null,"sorok száma",null,null,null,null,null,"Backlog:",null,"sorok száma",null,null,null,null,null,"Backlog:",null,"sorok száma"]
[]
[null,null,null,"Backlog:",null,"összes darab",null,null,null,null,null,"Backlog:",null,"összes darab",null,null,null,null,null,"Backlog:",null,"összes darab"]
[]
[null,null,null,"Kód:","Időtartam","Állásidő megnevezése",null,null,null,null,null,"Kód:","Időtartam","Állásidő megnevezése",null,null,null,null,null,"Kód:","Időtartam","Állásidő megnevezése"]
[null,null,null,null,null,{"$f":"VLOOKUP(D513,állásidő_kódok!$B:$D,3,0)","v":{"$error":"#N/A"}},null,null,null,null,null,null,null,{"$f":"VLOOKUP(L513,állásidő_kódok!$B:$D,3,0)","v":{"$error":"#N/A"}},null,null,null,null,null,null,null,{"$f":"VLOOKUP(T513,állásidő_kódok!$B:$D,3,0)","v":{"$error":"#N/A"}}]
[null,null,null,null,null,{"$f":"VLOOKUP(D514,állásidő_kódok!$B:$D,3,0)","v":{"$error":"#N/A"}},null,null,null,null,null,null,null,{"$f":"VLOOKUP(L514,állásidő_kódok!$B:$D,3,0)","v":{"$error":"#N/A"}},null,null,null,null,null,null,null,{"$f":"VLOOKUP(T514,állásidő_kódok!$B:$D,3,0)","v":{"$error":"#N/A"}}]
[null,null,null,null,null,{"$f":"VLOOKUP(D515,állásidő_kódok!$B:$D,3,0)","v":{"$error":"#N/A"}},null,null,null,null,null,null,null,{"$f":"VLOOKUP(L515,állásidő_kódok!$B:$D,3,0)","v":{"$error":"#N/A"}},null,null,null,null,null,null,null,{"$f":"VLOOKUP(T515,állásidő_kódok!$B:$D,3,0)","v":{"$error":"#N/A"}}]
[null,null,null,null,null,{"$f":"VLOOKUP(D516,állásidő_kódok!$B:$D,3,0)","v":{"$error":"#N/A"}},null,null,null,null,null,null,null,{"$f":"VLOOKUP(L516,állásidő_kódok!$B:$D,3,0)","v":{"$error":"#N/A"}},null,null,null,null,null,null,null,{"$f":"VLOOKUP(T516,állásidő_kódok!$B:$D,3,0)","v":{"$error":"#N/A"}}]
[null,null,null,null,null,{"$f":"VLOOKUP(D517,állásidő_kódok!$B:$D,3,0)","v":{"$error":"#N/A"}},null,null,null,null,null,null,null,{"$f":"VLOOKUP(L517,állásidő_kódok!$B:$D,3,0)","v":{"$error":"#N/A"}},null,null,null,null,null,null,null,{"$f":"VLOOKUP(T517,állásidő_kódok!$B:$D,3,0)","v":{"$error":"#N/A"}}]
[null,null,null,null,null,{"$f":"VLOOKUP(D518,állásidő_kódok!$B:$D,3,0)","v":{"$error":"#N/A"}},null,null,null,null,null,null,null,{"$f":"VLOOKUP(L518,állásidő_kódok!$B:$D,3,0)","v":{"$error":"#N/A"}},null,null,null,null,null,null,null,{"$f":"VLOOKUP(T518,állásidő_kódok!$B:$D,3,0)","v":{"$error":"#N/A"}}]
[null,null,null,null,null,{"$f":"VLOOKUP(D519,állásidő_kódok!$B:$D,3,0)","v":{"$error":"#N/A"}},null,null,null,null,null,null,null,{"$f":"VLOOKUP(L519,állásidő_kódok!$B:$D,3,0)","v":{"$error":"#N/A"}},null,null,null,null,null,null,null,{"$f":"VLOOKUP(T519,állásidő_kódok!$B:$D,3,0)","v":{"$error":"#N/A"}}]
[null,null,null,null,null,{"$f":"VLOOKUP(D520,állásidő_kódok!$B:$D,3,0)","v":{"$error":"#N/A"}},null,null,null,null,null,null,null,{"$f":"VLOOKUP(L520,állásidő_kódok!$B:$D,3,0)","v":{"$error":"#N/A"}},null,null,null,null,null,null,null,{"$f":"VLOOKUP(T520,állásidő_kódok!$B:$D,3,0)","v":{"$error":"#N/A"}}]
[null,null,null,null,null,{"$f":"VLOOKUP(D521,állásidő_kódok!$B:$D,3,0)","v":{"$error":"#N/A"}},null,null,null,null,null,null,null,{"$f":"VLOOKUP(L521,állásidő_kódok!$B:$D,3,0)","v":{"$error":"#N/A"}},null,null,null,null,null,null,null,{"$f":"VLOOKUP(T521,állásidő_kódok!$B:$D,3,0)","v":{"$error":"#N/A"}}]
[null,null,null,null,null,{"$f":"VLOOKUP(D522,állásidő_kódok!$B:$D,3,0)","v":{"$error":"#N/A"}},null,null,null,null,null,null,null,{"$f":"VLOOKUP(L522,állásidő_kódok!$B:$D,3,0)","v":{"$error":"#N/A"}},null,null,null,null,null,null,null,{"$f":"VLOOKUP(T522,állásidő_kódok!$B:$D,3,0)","v":{"$error":"#N/A"}}]
[null,null,null,null,"Állásidők nélküli teljesítés:",{"$f":"((SUM(E513:E522)/445))+E495/E497","v":{"$error":"#DIV/0!"}},null,null,null,null,null,null,"Állásidők nélküli teljesítés:",{"$f":"((SUM(M513:M522)/445))+M495/M497","v":{"$error":"#DIV/0!"}},null,null,null,null,null,null,"Állásidők nélküli teljesítés:",{"$f":"((SUM(U513:U522)/445))+U495/U497","v":{"$error":"#DIV/0!"}}]

{"sheet":"wk_45_3","index":6,"n_rows":523,"n_cols":43,"rows_kept":523,"cut":false,"hidden":false,"merged":[[1,17,1,18],[1,19,1,22],[1,23,1,40],[2,1,3,5],[2,6,3,7],[2,8,3,8],[2,9,3,13],[2,14,3,15],[2,16,3,16],[2,17,3,21],[2,22,3,23],[2,24,3,24],[2,25,3,40],[2,42,2,43],[3,42,3,43],[4,2,4,4],[4,6,4,8],[4,10,4,12],[4,14,4,16],[4,18,4,20],[4,22,4,24],[4,26,4,31],[4,34,4,39],[8,27,8,28],[8,35,8,36],[10,2,10,4],[10,6,10,8],[10,10,10,12],[10,14,10,16],[10,18,10,20],[10,22,10,24],[10,26,10,31],[10,34,10,39],[14,27,14,28],[14,35,14,36],[16,2,16,4],[16,6,16,8],[16,10,16,12],[16,14,16,16],[16,18,16,20],[16,22,16,24],[16,26,16,31],[16,34,16,39],[20,27,20,28],[20,35,20,36],[22,2,22,4],[22,6,22,8],[22,10,22,12],[22,14,22,16],[22,18,22,20],[22,22,22,24],[22,26,22,31],[22,34,22,39],[28,2,28,4],[28,6,28,8],[28,10,28,12],[28,14,28,16],[28,18,28,20],[28,22,28,24],[28,26,28,31],[28,34,28,39],[34,2,34,4],[34,6,34,8],[34,10,34,12],[34,14,34,16],[34,18,34,20],[34,22,34,24],[34,26,34,31],[34,34,34,39],[40,26,40,31],[40,34,40,39],[46,2,46,4],[46,6,46,8],[46,10,46,12],[46,14,46,16],[46,18,46,20],[46,22,46,24],[46,26,46,31],[40,2,40,4],[40,6,40,8],[40,10,40,12],[40,14,40,16],[40,18,40,20],[40,22,40,24],[54,1,55,2],[54,3,54,7],[54,9,55,10],[54,11,54,15],[54,17,55,18],[54,19,54,23],[55,3,55,7],[55,11,55,15],[55,19,55,23],[56,1,57,2],[56,3,56,7],[56,9,57,10],[56,11,56,15],[56,17,57,18],[56,19,56,23],[57,3,57,7],[57,11,57,15],[57,19,57,23],[58,1,59,2],[58,3,58,7],[58,9,59,10],[58,11,58,15],[58,17,59,18],[58,19,58,23],[59,3,59,7],[59,11,59,15],[59,19,59,23],[60,1,61,2],[60,3,60,7],[60,9,61,10],[60,11,60,15],[60,17,61,18],[60,19,60,23],[61,3,61,7],[61,11,61,15],[61,19,61,23],[62,1,63,2],[62,3,62,7],[62,9,63,10],[62,11,62,15],[62,17,63,18],[62,19,62,23],[63,3,63,7],[63,11,63,15],[63,19,63,23],[64,1,65,2],[64,3,64,7],[64,9,65,10],[64,11,64,15],[64,17,65,18],[64,19,64,23],[65,3,65,7],[65,11,65,15],[65,19,65,23],[68,1,69,2],[68,3,68,7],[68,9,69,10],[68,17,69,18],[68,19,68,23],[69,3,69,7],[69,11,69,15],[69,19,69,23],[66,1,67,2],[66,3,66,7],[66,9,67,10],[66,11,66,15],[66,17,67,18],[66,19,66,23],[67,3,67,7],[67,11,67,15],[67,19,67,23],[74,6,74,8],[74,14,74,16],[74,22,74,24],[102,5,102,6],[102,13,102,14],[102,21,102,22],[70,1,71,2],[70,3,70,7],[70,9,71,10],[70,11,70,15],[70,17,71,18],[70,19,70,23],[71,3,71,7],[71,11,71,15],[71,19,71,23],[134,6,134,8],[134,14,134,16],[134,22,134,24],[162,5,162,6],[162,13,162,14],[162,21,162,22],[104,6,104,8],[104,14,104,16],[104,22,104,24],[132,5,132,6],[132,13,132,14],[132,21,132,22],[194,6,194,8],[194,14,194,16],[194,22,194,24],[222,5,222,6],[222,13,222,14],[222,21,222,22],[164,6,164,8],[164,14,164,16],[164,22,164,24],[192,5,192,6],[192,13,192,14],[192,21,192,22],[254,6,254,8],[254,14,254,16],[254,22,254,24],[282,5,282,6],[282,13,282,14],[282,21,282,22],[224,6,224,8],[224,14,224,16],[224,22,224,24],[252,5,252,6],[252,13,252,14],[252,21,252,22],[314,6,314,8],[314,14,314,16],[314,22,314,24],[342,5,342,6],[342,13,342,14],[342,21,342,22],[284,6,284,8],[284,14,284,16],[284,22,284,24],[312,5,312,6],[312,13,312,14],[312,21,312,22],[374,6,374,8],[374,14,374,16],[374,22,374,24],[402,5,402,6],[402,13,402,14],[402,21,402,22],[344,6,344,8],[344,14,344,16],[344,22,344,24],[372,5,372,6],[372,13,372,14],[372,21,372,22],[434,6,434,8],[434,14,434,16],[434,22,434,24],[462,5,462,6],[462,13,462,14],[462,21,462,22],[404,6,404,8],[404,14,404,16],[404,22,404,24],[432,5,432,6],[432,13,432,14],[432,21,432,22],[494,6,494,8],[494,14,494,16],[494,22,494,24],[522,5,522,6],[522,13,522,14],[522,21,522,22],[464,6,464,8],[464,14,464,16],[464,22,464,24],[492,5,492,6],[492,13,492,14],[492,21,492,22]]}
[]
[null,null,null,null,null,null,null,null,null,{"$f":"Alapadatok!C2","v":"MG 160/180"},null,null,null,null,null,null,null,"Dátum:",null,"2018-11-07",null,null,null,"Töltsd ki a kereten belüli fehér mezőket!"]
[null,"Éjszaka",null,null,null,null,"Műszak",null,null,"Délelőtt",null,null,null,null,"Műszak",null,null,"Délután",null,null,null,null,"Műszak",null,null,"Napi összesítő",null,null,null,null,null,null,null,null,null,null,null,null,null,null,null,null,"Levél küldéséhez "]
[null,null,null,null,null,null,null,null,null,null,null,null,null,null,null,null,null,null,null,null,null,null,null,null,null,null,null,null,null,null,null,null,null,null,null,null,null,null,null,null,null,null," kattins az ikonra!"]
[null,null,{"$f":"B74","v":"Motor sor"},null,null,null,{"$f":"B104","v":"2p Sztátor sor"},null,null,null,{"$f":"J74","v":"Motor sor"},null,null,null,{"$f":"J104","v":"2p Sztátor sor"},null,null,null,{"$f":"R74","v":"Motor sor"},null,null,null,{"$f":"R104","v":"2p Sztátor sor"},null,null,null,{"$f":"C5","v":"Motor sor"},null,null,null,null,null,null,null,{"$f":"O5","v":"2p Sztátor sor"}]
[null,null,"Gyártott db",{"$f":"E75","v":52},"db",null,"Gyártott db",{"$f":"E105","v":45},"db",null,"Gyártott db",{"$f":"M75","v":55},"db",null,"Gyártott db",{"$f":"M105","v":52},"db",null,"Gyártott db",{"$f":"U75","v":54},"db",null,"Gyártott db",{"$f":"U105","v":33},"db",null,null,"Aktuális","Elvárt",null,"Éj",{"$f":"IF(D8=0,0,D6/D8)","v":6.5},"db/fő",null,null,"Aktuális","Elvárt",null,"Éj",{"$f":"IF(H8=0,0,H6/H8)","v":6.4285714285714288},"db/fő"]
[null,null,"Elvárt db",{"$f":"E77","v":52},"db",null,"Elvárt db",{"$f":"E107","v":50},"db",null,"Elvárt db",{"$f":"M77","v":54},"db",null,"Elvárt db",{"$f":"M107","v":52},"db",null,"Elvárt db",{"$f":"U77","v":54},"db",null,"Elvárt db",{"$f":"U107","v":45},"db",null,"Darabszám",{"$f":"SUM(D6,L6,T6)","v":161},{"$f":"SUM(D7,L7,T7)","v":160},"db","De",{"$f":"IF(L8=0,0,L6/L8)","v":0},"db/fő",null,"Darabszám",{"$f":"SUM(H6,P6,X6)","v":130},{"$f":"SUM(H7,P7,X7)","v":147},"db","De",{"$f":"IF(P8=0,0,P6/P8)","v":0},"db/fő"]
[null,null,"Akt. létszám",{"$f":"E79","v":8},"fő",null,"Akt. létszám",{"$f":"E109","v":7},"fő",null,"Akt. létszám",{"$f":"M79","v":0},"fő",null,"Akt. létszám",{"$f":"M109","v":0},"fő",null,"Akt. létszám",{"$f":"U79","v":0},"fő",null,"Akt. létszám",{"$f":"U109","v":0},"fő",null,"Létszám",{"$f":"SUM(D8,L8,T8)","v":8},{"$f":"SUM(D9,L9,T9)","v":23},"fő","Du",{"$f":"IF(T8=0,0,T6/T8)","v":0},"db/fő",null,"Létszám",{"$f":"SUM(H8,P8,X8)","v":7},{"$f":"SUM(H9,P9,X9)","v":17},"fő","Du",{"$f":"IF(X8=0,0,X6/X8)","v":0},"db/fő"]
[null,null,"MPS létszám",{"$f":"E78","v":7},"fő",null,"MPS létszám",{"$f":"E108","v":6},"fő",null,"MPS létszám",{"$f":"M78","v":8},"fő",null,"MPS létszám",{"$f":"M108","v":6},"fő",null,"MPS létszám",{"$f":"U78","v":8},"fő",null,"MPS létszám",{"$f":"U108","v":5},"fő",null,"Össz állásidő",{"$f":"SUM(D10,L10,T10)","v":1480},null,"perc","Napi",{"$f":"IF(AB8=0,0,AB7/AB8)","v":20.125},"db/fő",null,"Össz állásidő",{"$f":"SUM(H10,P10,X10)","v":60},null,"perc","Napi",{"$f":"IF(AJ8=0,0,AJ7/AJ8)","v":18.571428571428573},"db/fő"]
[null,null,"Össz állásidő",{"$f":"SUM(E93:E102)","v":880},"perc",null,"Össz állásidő",{"$f":"SUM(E123:E132)","v":0},"perc",null,"Össz állásidő",{"$f":"SUM(M93:M102)","v":300},"perc",null,"Össz állásidő",{"$f":"SUM(M123:M132)","v":0},"perc",null,"Össz állásidő",{"$f":"SUM(U93:U102)","v":300},"perc",null,"Össz állásidő",{"$f":"SUM(U123:U132)","v":60},"perc",null,"Backlog sor/db",{"$f":"E88+M88+U88","v":0},{"$f":"E90+M90+U90","v":0},"db","Elvárt",{"$f":"IF(AC8=0,0,AC7/AC8)","v":6.9565217391304346},"db/fő",null,"Backlog sor/db",{"$f":"E118+M118+U118","v":0},{"$f":"E120+M120+U120","v":0},"db","Elvárt",{"$f":"IF(AK8=0,0,AK7/AK8)","v":8.6470588235294112},"db/fő"]
[null,null,{"$f":"B134","v":"4p sztátor sor"},null,null,null,{"$f":"B164","v":"DE cella"},null,null,null,{"$f":"J134","v":"4p sztátor sor"},null,null,null,{"$f":"J164","v":"DE cella"},null,null," ",{"$f":"R134","v":"4p sztátor sor"},null,null,null,{"$f":"R164","v":"DE cella"},null,null,null,{"$f":"C11","v":"4p sztátor sor"},null,null,null,null,null,null,null,{"$f":"O11","v":"DE cella"}]
[null,null,"Gyártott db",{"$f":"E135","v":0},"db",null,"Gyártott db",{"$f":"E165","v":54},"db",null,"Gyártott db",{"$f":"M135","v":20},"db",null,"Gyártott db",{"$f":"M165","v":56},"db",null,"Gyártott db",{"$f":"U135","v":0},"db",null,"Gyártott db",{"$f":"U165","v":52},"db",null,null,"Aktuális","Elvárt",null,"Éj",{"$f":"IF(D14=0,0,D12/D14)","v":0},"db/fő",null,null,"Aktuális","Elvárt",null,"Éj",{"$f":"IF(H14=0,0,H12/H14)","v":27},"db/fő"]
[null,null,"Elvárt db",{"$f":"E137","v":0},"db",null,"Elvárt db",{"$f":"E167","v":52},"db",null,"Elvárt db",{"$f":"M137","v":20},"db",null,"Elvárt db",{"$f":"M167","v":52},"db",null,"Elvárt db",{"$f":"U137","v":0},"db",null,"Elvárt db",{"$f":"U167","v":52},"db",null,"Darabszám",{"$f":"SUM(D12,L12,T12)","v":20},{"$f":"SUM(D13,L13,T13)","v":20},"db","De",{"$f":"IF(L14=0,0,L12/L14)","v":0},"db/fő",null,"Darabszám",{"$f":"SUM(H12,P12,X12)","v":162},{"$f":"SUM(H13,P13,X13)","v":156},"db","De",{"$f":"IF(P14=0,0,P12/P14)","v":0},"db/fő"]
[null,null,"Akt. létszám",{"$f":"E139","v":0},"fő",null,"Akt. létszám",{"$f":"E169","v":2},"fő",null,"Akt. létszám",{"$f":"M139","v":0},"fő",null,"Akt. létszám",{"$f":"M169","v":0},"fő",null,"Akt. létszám",{"$f":"U139","v":0},"fő",null,"Akt. létszám",{"$f":"U169","v":0},"fő",null,"Létszám",{"$f":"SUM(D14,L14,T14)","v":0},{"$f":"SUM(D15,L15,T15)","v":4},"fő","Du",{"$f":"IF(T14=0,0,T12/T14)","v":0},"db/fő",null,"Létszám",{"$f":"SUM(H14,P14,X14)","v":2},{"$f":"SUM(H15,P15,X15)","v":6},"fő","Du",{"$f":"IF(X14=0,0,X12/X14)","v":0},"db/fő"]
[null,null,"MPS létszám",{"$f":"E138","v":0},"fő",null,"MPS létszám",{"$f":"E168","v":2},"fő",null,"MPS létszám",{"$f":"M138","v":4},"fő",null,"MPS létszám",{"$f":"M168","v":2},"fő",null,"MPS létszám",{"$f":"U138","v":0},"fő",null,"MPS létszám",{"$f":"U168","v":2},"fő",null,"Össz állásidő",{"$f":"SUM(D16,L16,T16)","v":0},null,"perc","Napi",{"$f":"IF(AB14=0,0,AB13/AB14)","v":0},"db/fő",null,"Össz állásidő",{"$f":"SUM(H16,P16,X16)","v":0},null,"perc","Napi",{"$f":"IF(AJ14=0,0,AJ13/AJ14)","v":81},"db/fő"]
[null,null,"Össz állásidő",{"$f":"SUM(E153:E162)","v":0},"perc",null,"Össz állásidő",{"$f":"SUM(E183:E192)","v":0},"perc",null,"Össz állásidő",{"$f":"SUM(M153:M162)","v":0},"perc",null,"Össz állásidő",{"$f":"SUM(M183:M192)","v":0},"perc",null,"Össz állásidő",{"$f":"SUM(U153:U162)","v":0},"perc",null,"Össz állásidő",{"$f":"SUM(U183:U192)","v":0},"perc",null,"Backlog sor/db",{"$f":"SUM(E148,M148,U148)","v":0},{"$f":"SUM(E150,M150,U150)","v":0},"db","Elvárt",{"$f":"IF(AC14=0,0,AC13/AC14)","v":5},"db/fő",null,"Backlog sor/db",{"$f":"SUM(E178,M178,U178)","v":0},{"$f":"SUM(E180,M180,U180)","v":0},"db","Elvárt",{"$f":"IF(AK14=0,0,AK13/AK14)","v":26},"db/fő"]
[null,null,{"$f":"B194","v":"NDE cella"},null,null,null,{"$f":"B224","v":"T+R"},null,null,null,{"$f":"J194","v":"NDE cella"},null,null,null,{"$f":"J224","v":"T+R"},null,null,null,{"$f":"R194","v":"NDE cella"},null,null,null,{"$f":"R224","v":"T+R"},null,null,null,{"$f":"C17","v":"NDE cella"},null,null,null,null,null,null,null,{"$f":"O17","v":"T+R"}]
[null,null,"Gyártott db",{"$f":"E195","v":0},"db",null,"Gyártott db",{"$f":"E225","v":54},"db",null,"Gyártott db",{"$f":"M195","v":90},"db",null,"Gyártott db",{"$f":"M225","v":57},"db",null,"Gyártott db",{"$f":"U195","v":95},"db",null,"Gyártott db",{"$f":"U225","v":54},"db",null,null,"Aktuális","Elvárt",null,"Éj",{"$f":"IF(D20=0,0,D18/D20)","v":0},"db/fő",null,null,"Aktuális","Elvárt",null,"Éj",{"$f":"IF(H20=0,0,H18/H20)","v":18},"db/fő"]
[null,null,"Elvárt db",{"$f":"E197","v":95},"db",null,"Elvárt db",{"$f":"E227","v":54},"db",null,"Elvárt db",{"$f":"M197","v":95},"db",null,"Elvárt db",{"$f":"M227","v":54},"db",null,"Elvárt db",{"$f":"U197","v":95},"db",null,"Elvárt db",{"$f":"U227","v":54},"db",null,"Darabszám",{"$f":"SUM(D18,L18,T18)","v":185},{"$f":"SUM(D19,L19,T19)","v":285},"db","De",{"$f":"IF(L20=0,0,L18/L20)","v":0},"db/fő",null,"Darabszám",{"$f":"SUM(H18,P18,X18)","v":165},{"$f":"SUM(H19,P19,X19)","v":162},"db","De",{"$f":"IF(P20=0,0,P18/P20)","v":0},"db/fő"]
[null,null,"Akt. létszám",{"$f":"E199","v":0},"fő",null,"Akt. létszám",{"$f":"E229","v":3},"fő",null,"Akt. létszám",{"$f":"M199","v":0},"fő",null,"Akt. létszám",{"$f":"M229","v":0},"fő",null,"Akt. létszám",{"$f":"U199","v":0},"fő",null,"Akt. létszám",{"$f":"U229","v":0},"fő",null,"Létszám",{"$f":"SUM(D20,L20,T20)","v":0},{"$f":"SUM(D21,L21,T21)","v":3},"fő","Du",{"$f":"IF(T20=0,0,T18/T20)","v":0},"db/fő",null,"Létszám",{"$f":"SUM(H20,P20,X20)","v":3},{"$f":"SUM(H21,P21,X21)","v":9},"fő","Du",{"$f":"IF(X20=0,0,X18/X20)","v":0},"db/fő"]
[null,null,"MPS létszám",{"$f":"E198","v":1},"fő",null,"MPS létszám",{"$f":"E228","v":3},"fő",null,"MPS létszám",{"$f":"M198","v":1},"fő",null,"MPS létszám",{"$f":"M228","v":3},"fő",null,"MPS létszám",{"$f":"U198","v":1},"fő",null,"MPS létszám",{"$f":"U228","v":3},"fő",null,"Össz állásidő",{"$f":"SUM(D22,L22,T22)","v":510},null,"perc","Napi",{"$f":"IF(AB20=0,0,AB19/AB20)","v":0},"db/fő",null,"Össz állásidő",{"$f":"SUM(H22,P22,X22)","v":20},null,"perc","Napi",{"$f":"IF(AJ20=0,0,AJ19/AJ20)","v":55},"db/fő"]
[null,null,"Össz állásidő",{"$f":"SUM(E213:E222)","v":480},"perc",null,"Össz állásidő",{"$f":"SUM(E243:E252)","v":0},"perc",null,"Össz állásidő",{"$f":"SUM(M213:M222)","v":30},"perc",null,"Össz állásidő",{"$f":"SUM(M243:M252)","v":20},"perc",null,"Össz állásidő",{"$f":"SUM(U213:U222)","v":0},"perc",null,"Össz állásidő",{"$f":"SUM(U243:U252)","v":0},"perc",null,"Backlog sor/db",{"$f":"SUM(E208,M208,U208)","v":0},{"$f":"SUM(E210,M210,U210)","v":0},"db","Elvárt",{"$f":"IF(AC20=0,0,AC19/AC20)","v":95},"db/fő",null,"Backlog sor/db",{"$f":"SUM(E238,M238,U238)","v":0},{"$f":"SUM(E240,M240,U240)","v":0},"db","Elvárt",{"$f":"IF(AK20=0,0,AK19/AK20)","v":18},"db/fő"]
[null,null,{"$f":"B254","v":"Cella7"},null,null,null,{"$f":"B284","v":"Cella8"},null,null,null,{"$f":"J254","v":"Cella7"},null,null,null,{"$f":"J284","v":"Cella8"},null,null,null,{"$f":"R254","v":"Cella7"},null,null,null,{"$f":"R284","v":"Cella8"},null,null,null,{"$f":"C23","v":"Cella7"},null,null,null,null,null,null,null,{"$f":"O23","v":"Cella8"}]
[null,null,"Gyártott db",{"$f":"E255","v":0},"db",null,"Gyártott db",{"$f":"E285","v":0},"db",null,"Gyártott db",{"$f":"M255","v":0},"db",null,"Gyártott db",{"$f":"M285","v":0},"db",null,"Gyártott db",{"$f":"U255","v":0},"db",null,"Gyártott db",{"$f":"U285","v":0},"db",null,null,"Aktuális","Elvárt",null,"Éj",{"$f":"IF(D26=0,0,D24/D26)","v":0},"db/fő",null,null,"Aktuális","Elvárt",null,"Éj",{"$f":"IF(H26=0,0,H24/H26)","v":0},"db/fő"]
[null,null,"Elvárt db",{"$f":"E257","v":0},"db",null,"Elvárt db",{"$f":"E287","v":0},"db",null,"Elvárt db",{"$f":"M257","v":0},"db",null,"Elvárt db",{"$f":"M287","v":0},"db",null,"Elvárt db",{"$f":"U257","v":0},"db",null,"Elvárt db",{"$f":"U287","v":0},"db",null,"Darabszám",{"$f":"SUM(D24,L24,T24)","v":0},{"$f":"SUM(D25,L25,T25)","v":0},"db","De",{"$f":"IF(L26=0,0,L24/L26)","v":0},"db/fő",null,"Darabszám",{"$f":"SUM(H24,P24,X24)","v":0},{"$f":"SUM(H25,P25,X25)","v":0},"db","De",{"$f":"IF(P26=0,0,P24/P26)","v":0},"db/fő"]
[null,null,"Akt. létszám",{"$f":"E259","v":0},"fő",null,"Akt. létszám",{"$f":"E289","v":0},"fő",null,"Akt. létszám",{"$f":"M259","v":0},"fő",null,"Akt. létszám",{"$f":"M289","v":0},"fő",null,"Akt. létszám",{"$f":"U259","v":0},"fő",null,"Akt. létszám",{"$f":"U289","v":0},"fő",null,"Létszám",{"$f":"SUM(D26,L26,T26)","v":0},{"$f":"SUM(D27,L27,T27)","v":0},"fő","Du",{"$f":"IF(T26=0,0,T24/T26)","v":0},"db/fő",null,"Létszám",{"$f":"SUM(H26,P26,X26)","v":0},{"$f":"SUM(H27,P27,X27)","v":0},"fő","Du",{"$f":"IF(X26=0,0,X24/X26)","v":0},"db/fő"]
[null,null,"MPS létszám",{"$f":"E258","v":0},"fő",null,"MPS létszám",{"$f":"E288","v":0},"fő",null,"MPS létszám",{"$f":"M258","v":0},"fő",null,"MPS létszám",{"$f":"M288","v":0},"fő",null,"MPS létszám",{"$f":"U258","v":0},"fő",null,"MPS létszám",{"$f":"U288","v":0},"fő",null,"Össz állásidő",{"$f":"SUM(D28,L28,T28)","v":0},null,"perc","Napi",{"$f":"IF(AB26=0,0,AB25/AB26)","v":0},"db/fő",null,"Össz állásidő",{"$f":"SUM(H28,P28,X28)","v":0},null,"perc","Napi",{"$f":"IF(AJ26=0,0,AJ25/AJ26)","v":0},"db/fő"]
[null,null,"Össz állásidő",{"$f":"SUM(E273:E282)","v":0},"perc",null,"Össz állásidő",{"$f":"SUM(E303:E312)","v":0},"perc",null,"Össz állásidő",{"$f":"SUM(M273:M282)","v":0},"perc",null,"Össz állásidő",{"$f":"SUM(M303:M312)","v":0},"perc",null,"Össz állásidő",{"$f":"SUM(U273:U282)","v":0},"perc",null,"Össz állásidő",{"$f":"SUM(U303:U312)","v":0},"perc",null,"Backlog sor/db",{"$f":"SUM(E160,M160,U160)","v":0},{"$f":"SUM(E162,M162,U162)","v":0},"db","Elvárt",{"$f":"IF(AC26=0,0,AC25/AC26)","v":0},"db/fő",null,"Backlog sor/db",{"$f":"SUM(E160,M160,U160)","v":0},{"$f":"SUM(E162,M162,U162)","v":0},"db","Elvárt",{"$f":"IF(AK26=0,0,AK25/AK26)","v":0},"db/fő"]
[null,null,{"$f":"B314","v":"Cella9"},null,null,null,{"$f":"B344","v":"Cella10"},null,null,null,{"$f":"J314","v":"Cella9"},null,null,null,{"$f":"J344","v":"Cella10"},null,null,null,{"$f":"R314","v":"Cella9"},null,null,null,{"$f":"R344","v":"Cella10"},null,null,null,{"$f":"C29","v":"Cella9"},null,null,null,null,null,null,null,{"$f":"G29","v":"Cella10"}]
[null,null,"Gyártott db",{"$f":"E315","v":0},"db",null,"Gyártott db",{"$f":"E345","v":0},"db",null,"Gyártott db",{"$f":"M315","v":0},"db",null,"Gyártott db",{"$f":"M345","v":0},"db",null,"Gyártott db",{"$f":"U315","v":0},"db",null,"Gyártott db",{"$f":"U345","v":0},"db",null,null,"Aktuális","Elvárt",null,"Éj",{"$f":"IF(D32=0,0,D30/D32)","v":0},"db/fő",null,null,"Aktuális","Elvárt",null,"Éj",{"$f":"IF(D32=0,0,D30/D32)","v":0},"db/fő"]
[null,null,"Elvárt db",{"$f":"E317","v":0},"db",null,"Elvárt db",{"$f":"E347","v":0},"db",null,"Elvárt db",{"$f":"M317","v":0},"db",null,"Elvárt db",{"$f":"M347","v":0},"db",null,"Elvárt db",{"$f":"U317","v":0},"db",null,"Elvárt db",{"$f":"U347","v":0},"db",null,"Darabszám",{"$f":"SUM(D30,L30,T30)","v":0},{"$f":"SUM(D31,L31,T31)","v":0},"db","De",{"$f":"IF(L32=0,0,L30/L32)","v":0},"db/fő",null,"Darabszám",{"$f":"SUM(H30,P30,X30)","v":0},{"$f":"SUM(H31,P31,X31)","v":0},"db","De",{"$f":"IF(L32=0,0,L30/L32)","v":0},"db/fő"]
[null,null,"Akt. létszám",{"$f":"E319","v":0},"fő",null,"Akt. létszám",{"$f":"E349","v":0},"fő",null,"Akt. létszám",{"$f":"M319","v":0},"fő",null,"Akt. létszám",{"$f":"M349","v":0},"fő",null,"Akt. létszám",{"$f":"U319","v":0},"fő",null,"Akt. létszám",{"$f":"U349","v":0},"fő",null,"Létszám",{"$f":"SUM(D32,L32,T32)","v":0},{"$f":"SUM(D33,L33,T33)","v":0},"fő","Du",{"$f":"IF(T32=0,0,T30/T32)","v":0},"db/fő",null,"Létszám",{"$f":"SUM(H32,P32,X32)","v":0},{"$f":"SUM(H33,P33,X33)","v":0},"fő","Du",{"$f":"IF(T32=0,0,T30/T32)","v":0},"db/fő"]
[null,null,"MPS létszám",{"$f":"E318","v":0},"fő",null,"MPS létszám",{"$f":"E348","v":0},"fő",null,"MPS létszám",{"$f":"M318","v":0},"fő",null,"MPS létszám",{"$f":"M348","v":0},"fő",null,"MPS létszám",{"$f":"U318","v":0},"fő",null,"MPS létszám",{"$f":"U348","v":0},"fő",null,"Össz állásidő",{"$f":"SUM(D34,L34,T34)","v":0},null,"perc","Napi",{"$f":"IF(AB32=0,0,AB31/AB32)","v":0},"db/fő",null,"Össz állásidő",{"$f":"SUM(H34,P34,X34)","v":0},null,"perc","Napi",{"$f":"IF(AJ32=0,0,AJ31/AJ32)","v":0},"db/fő"]
[null,null,"Össz állásidő",{"$f":"SUM(E333:E342)","v":0},"perc",null,"Össz állásidő",{"$f":"SUM(E363:E372)","v":0},"perc",null,"Össz állásidő",{"$f":"SUM(M333:M342)","v":0},"perc",null,"Össz állásidő",{"$f":"SUM(M363:M372)","v":0},"perc",null,"Össz állásidő",{"$f":"SUM(U333:U342)","v":0},"perc",null,"Össz állásidő",{"$f":"SUM(U363:U372)","v":0},"perc",null,"Backlog sor/db",{"$f":"SUM(E166,M166,U166)","v":0},{"$f":"SUM(E168,M168,U168)","v":6},"db","Elvárt",{"$f":"IF(AC32=0,0,AC31/AC32)","v":0},"db/fő",null,"Backlog sor/db",{"$f":"SUM(E172,M172,U172)","v":0},{"$f":"SUM(E174,M174,U174)","v":0},"db","Elvárt",{"$f":"IF(AK32=0,0,AK31/AK32)","v":0},"db/fő"]
[null,null,{"$f":"B374","v":"Cella11"},null,null,null,{"$f":"B404","v":"Cella12"},null,null,null,{"$f":"J374","v":"Cella11"},null,null,null,{"$f":"J404","v":"Cella12"},null,null,null,{"$f":"R374","v":"Cella11"},null,null,null,{"$f":"R404","v":"Cella12"},null,null,null,{"$f":"C35","v":"Cella11"},null,null,null,null,null,null,null,{"$f":"G35","v":"Cella12"}]
[null,null,"Gyártott db",{"$f":"E375","v":0},"db",null,"Gyártott db",{"$f":"E405","v":0},"db",null,"Gyártott db",{"$f":"M375","v":0},"db",null,"Gyártott db",{"$f":"M405","v":0},"db",null,"Gyártott db",{"$f":"U375","v":0},"db",null,"Gyártott db",{"$f":"U405","v":0},"db",null,null,"Aktuális","Elvárt",null,"Éj",{"$f":"IF(D38=0,0,D36/D38)","v":0},"db/fő",null,null,"Aktuális","Elvárt",null,"Éj",{"$f":"IF(H38=0,0,H36/H38)","v":0},"db/fő"]
[null,null,"Elvárt db",{"$f":"E377","v":0},"db",null,"Elvárt db",{"$f":"E407","v":0},"db",null,"Elvárt db",{"$f":"M377","v":0},"db",null,"Elvárt db",{"$f":"M407","v":0},"db",null,"Elvárt db",{"$f":"U377","v":0},"db",null,"Elvárt db",{"$f":"U407","v":0},"db",null,"Darabszám",{"$f":"SUM(D36,L36,T36)","v":0},{"$f":"SUM(D37,L37,T37)","v":0},"db","De",{"$f":"IF(L38=0,0,L36/L38)","v":0},"db/fő",null,"Darabszám",{"$f":"SUM(H36,LX36,X36)","v":0},{"$f":"SUM(H37,P37,X37)","v":0},"db","De",{"$f":"IF(P38=0,0,P36/P38)","v":0},"db/fő"]
[null,null,"Akt. létszám",{"$f":"E379","v":0},"fő",null,"Akt. létszám",{"$f":"E409","v":0},"fő",null,"Akt. létszám",{"$f":"M379","v":0},"fő",null,"Akt. létszám",{"$f":"M409","v":0},"fő",null,"Akt. létszám",{"$f":"U379","v":0},"fő",null,"Akt. létszám",{"$f":"U409","v":0},"fő",null,"Létszám",{"$f":"SUM(D38,L38,T38)","v":0},{"$f":"SUM(D39,L39,T39)","v":0},"fő","Du",{"$f":"IF(T38=0,0,T36/T38)","v":0},"db/fő",null,"Létszám",{"$f":"SUM(H38,P38,X38)","v":0},{"$f":"SUM(H39,P39,X39)","v":0},"fő","Du",{"$f":"IF(X38=0,0,X37/X38)","v":0},"db/fő"]
[null,null,"MPS létszám",{"$f":"E378","v":0},"fő",null,"MPS létszám",{"$f":"E408","v":0},"fő",null,"MPS létszám",{"$f":"M378","v":0},"fő",null,"MPS létszám",{"$f":"M408","v":0},"fő",null,"MPS létszám",{"$f":"U378","v":0},"fő",null,"MPS létszám",{"$f":"U408","v":0},"fő",null,"Össz állásidő",{"$f":"SUM(D40,L40,T40)","v":0},null,"perc","Napi",{"$f":"IF(AB38=0,0,AB37/AB38)","v":0},"db/fő",null,"Össz állásidő",{"$f":"SUM(H40,P40,X40)","v":0},null,"perc","Napi",{"$f":"IF(AJ38=0,0,AJ37/AJ38)","v":0},"db/fő"]
[null,null,"Össz állásidő",{"$f":"SUM(E393:E402)","v":0},"perc",null,"Össz állásidő",{"$f":"SUM(E423:E432)","v":0},"perc",null,"Össz állásidő",{"$f":"SUM(M393:M402)","v":0},"perc",null,"Össz állásidő",{"$f":"SUM(M423:M432)","v":0},"perc",null,"Össz állásidő",{"$f":"SUM(U393:U402)","v":0},"perc",null,"Össz állásidő",{"$f":"SUM(U423:U432)","v":0},"perc",null,"Backlog sor/db",{"$f":"SUM(E172,M172,U172)","v":0},{"$f":"SUM(E174,M174,U174)","v":0},"db","Elvárt",{"$f":"IF(AC38=0,0,AC37/AC38)","v":0},"db/fő",null,"Backlog sor/db",{"$f":"SUM(E178,M178,U178)","v":0},{"$f":"SUM(E180,M180,U180)","v":0},"db","Elvárt",{"$f":"IF(AK38=0,0,AK37/AK38)","v":0},"db/fő"]
[null,null,{"$f":"B434","v":"Cella13"},null,null,null,{"$f":"B464","v":"Cella14"},null,null,null,{"$f":"J434","v":"Cella13"},null,null,null,{"$f":"J464","v":"Cella14"},null,null,null,{"$f":"R434","v":"Cella13"},null,null,null,{"$f":"R464","v":"Cella14"},null,null,null,{"$f":"C41","v":"Cella13"},null,null,null,null,null,null,null,{"$f":"G41","v":"Cella14"}]
[null,null,"Gyártott db",{"$f":"E435","v":0},"db",null,"Gyártott db",{"$f":"E465","v":0},"db",null,"Gyártott db",{"$f":"M435","v":0},"db",null,"Gyártott db",{"$f":"M465","v":0},"db",null,"Gyártott db",{"$f":"U435","v":0},"db",null,"Gyártott db",{"$f":"U465","v":0},"db",null,null,"Aktuális","Elvárt",null,"Éj",{"$f":"IF(D44=0,0,D42/D44)","v":0},"db/fő",null,null,"Aktuális","Elvárt",null,"Éj",{"$f":"IF(H44=0,0,H42/H44)","v":0},"db/fő"]
[null,null,"Elvárt db",{"$f":"E437","v":0},"db",null,"Elvárt db",{"$f":"E467","v":0},"db",null,"Elvárt db",{"$f":"M437","v":0},"db",null,"Elvárt db",{"$f":"M467","v":0},"db",null,"Elvárt db",{"$f":"U437","v":0},"db",null,"Elvárt db",{"$f":"U467","v":0},"db",null,"Darabszám",{"$f":"SUM(D42,L42,T42)","v":0},{"$f":"SUM(D43,L43,T43)","v":0},"db","De",{"$f":"IF(L44=0,0,L42/L44)","v":0},"db/fő",null,"Darabszám",{"$f":"SUM(H42,P42,X42)","v":0},{"$f":"SUM(H43,P43,X43)","v":0},"db","De",{"$f":"IF(P44=0,0,P42/P44)","v":0},"db/fő"]
[null,null,"Akt. létszám",{"$f":"E439","v":0},"fő",null,"Akt. létszám",{"$f":"E469","v":0},"fő",null,"Akt. létszám",{"$f":"M439","v":0},"fő",null,"Akt. létszám",{"$f":"M469","v":0},"fő",null,"Akt. létszám",{"$f":"U439","v":0},"fő",null,"Akt. létszám",{"$f":"U469","v":0},"fő",null,"Létszám",{"$f":"SUM(D44,L44,T44)","v":0},{"$f":"SUM(D45,L45,T45)","v":0},"fő","Du",{"$f":"IF(T44=0,0,T42/T44)","v":0},"db/fő",null,"Létszám",{"$f":"SUM(D56,L56,T56)","v":0},{"$f":"SUM(D57,L57,T57)","v":0},"fő","Du",{"$f":"IF(X44=0,0,X42/X44)","v":0},"db/fő"]
[null,null,"MPS létszám",{"$f":"E438","v":0},"fő",null,"MPS létszám",{"$f":"E468","v":0},"fő",null,"MPS létszám",{"$f":"M438","v":0},"fő",null,"MPS létszám",{"$f":"M468","v":0},"fő",null,"MPS létszám",{"$f":"U438","v":0},"fő",null,"MPS létszám",{"$f":"U468","v":0},"fő",null,"Össz állásidő",{"$f":"SUM(D46,L46,T46)","v":0},null,"perc","Napi",{"$f":"IF(AB44=0,0,AB43/AB44)","v":0},"db/fő",null,"Össz állásidő",{"$f":"SUM(D58,L58,T58)","v":0},null,"perc","Napi",{"$f":"IF(AJ44=0,0,AJ43/AJ44)","v":0},"db/fő"]
[null,null,"Össz állásidő",{"$f":"SUM(E453:E462)","v":0},"perc",null,"Össz állásidő",{"$f":"SUM(E483:E492)","v":0},"perc",null,"Össz állásidő",{"$f":"SUM(M453:M462)","v":0},"perc",null,"Össz állásidő",{"$f":"SUM(M483:M492)","v":0},"perc",null,"Össz állásidő",{"$f":"SUM(U453:U462)","v":0},"perc",null,"Össz állásidő",{"$f":"SUM(U483:U492)","v":0},"perc",null,"Backlog sor/db",{"$f":"SUM(E178,M178,U178)","v":0},{"$f":"SUM(E180,M180,U180)","v":0},"db","Elvárt",{"$f":"IF(AC44=0,0,AC43/AC44)","v":0},"db/fő",null,"Backlog sor/db",{"$f":"SUM(E190,M190,U190)","v":0},{"$f":"SUM(E192,M192,U192)","v":0},"db","Elvárt",{"$f":"IF(AK44=0,0,AK43/AK44)","v":0},"db/fő"]
[null,null,{"$f":"B494","v":"Cella15"},null,null,null,null,null,null,null,{"$f":"J494","v":"Cella15"},null,null,null,null,null,null,null,{"$f":"R494","v":"Cella15"},null,null,null,null,null,null,null,{"$f":"C47","v":"Cella15"}]
[null,null,"Gyártott db",{"$f":"E495","v":0},"db",null,null,null,null,null,"Gyártott db",{"$f":"M495","v":0},"db",null,null,null,null,null,"Gyártott db",{"$f":"U495","v":0},"db",null,null,null,null,null,null,"Aktuális","Elvárt",null,"Éj",{"$f":"IF(D50=0,0,D48/D50)","v":0},"db/fő"]
[null,null,"Elvárt db",{"$f":"E497","v":0},"db",null,null,null,null,null,"Elvárt db",{"$f":"M497","v":0},"db",null,null,null,null,null,"Elvárt db",{"$f":"U497","v":0},"db",null,null,null,null,null,"Darabszám",{"$f":"SUM(D48,L48,T48)","v":0},{"$f":"SUM(D49,L49,T49)","v":0},"db","De",{"$f":"IF(L50=0,0,L48/L50)","v":0},"db/fő"]
[null,null,"Akt. létszám",{"$f":"E499","v":0},"fő",null,null,null,null,null,"Akt. létszám",{"$f":"M499","v":0},"fő",null,null,null,null,null,"Akt. létszám",{"$f":"U499","v":0},"fő",null,null,null,null,null,"Létszám",{"$f":"SUM(D50,L50,T50)","v":0},{"$f":"SUM(D51,L51,T51)","v":0},"fő","Du",{"$f":"IF(T50=0,0,T48/T50)","v":0},"db/fő"]
[null,null,"MPS létszám",{"$f":"E498","v":0},"fő",null,null,null,null,null,"MPS létszám",{"$f":"M498","v":0},"fő",null,null,null,null,null,"MPS létszám",{"$f":"U498","v":0},"fő",null,null,null,null,null,"Össz állásidő",{"$f":"SUM(D52,L52,T52)","v":0},null,"perc","Napi",{"$f":"IF(AB50=0,0,AB49/AB50)","v":0},"db/fő"]
[null,null,"Össz állásidő",{"$f":"SUM(E513:E522)","v":0},"perc",null,null,null,null,null,"Össz állásidő",{"$f":"SUM(M513:M522)","v":0},"perc",null,null,null,null,null,"Össz állásidő",{"$f":"SUM(U513:U522)","v":0},"perc",null,null,null,null,null,"Backlog sor/db",{"$f":"SUM(E194,M194,U194)","v":0},{"$f":"SUM(E196,M196,U196)","v":0},"db","Elvárt",{"$f":"IF(AC50=0,0,AC49/AC50)","v":0},"db/fő"]
[]
[null,"Megjegyzés/egyéb fontos információ:",null,null,null,null,null,null,"Megoldva?","Megjegyzés/egyéb fontos információ:",null,null,null,null,null,null,"Megoldva?","Megjegyzés/egyéb fontos információ:",null,null,null,null,null,null,"Megoldva?"]
[null,"Biztonság",null,null,null,null,null,null,null,"Biztonság",null,null,null,null,null,null,null,"Biztonság"]
[null,null,null,null,null,null,null,null,null,null,null,null,null,null,null,null,null,null,null," "]
[null,"Minőség",null,null,null,null,null,null,null,"Minőség",null,null,null,null,null,null,null,"Minőség"]
[]
[null,"Termelés",null,"Besütő: 54  db   E-tower: 54  db",null,null,null,null,null,"Termelés",null,"Besütő:25db, E- tower:35db,",null,null,null,null,null,"Termelés",null,"BESÜTŐ:  62db, E-TOWER:  54db ."]
[null,null,null,"BWS: 41 db   lakkozó:62",null,null,null,null,null,null,null,"BWS:52db Alliance:62db Fornax:6db ",null,null,null,null,null,null,null,"BWS:34db        Alliance:51db"]
[null,"Dolgozók",null,"Szabi: 1fő   Beteg.",null,null,null,null,null,"Dolgozók",null,"Szabi:3fő  Beteg:2fő  ",null,null,null,null,null,"Dolgozók",null,"1 fő CNC- s a motorsoron."]
[null,null,null,"112 Qtn: 1fő",null,null,null,null,null,null,null,null,null,null,null,null,null,null,null,"Szabi:1fő  Beteg:3fő"]
[null,"Támogatók",null,"megrendelő:7 HM.7db",null,null,null,null,null,"Támogatók",null,"megrendelő 11:db HM12:db",null,null,null,null,null,"Támogatók",null,"megrendelő:12db        HM:14db"]
[]
[null,"5S",null,null,null,null,null,null,null,"5S",null,null,null,null,null,null,null,"5S"]
[]
[null,"Karbantartás",null,"Lakkozó jobb oldali szívattyú 6909742  10 perc",null,null,null,null,"ok","Karbantartás",null,null,null,null,null,null,null,"Karbantartás"]
[]
[]
[]
[null,null,null,"Szt. backlog:"]
[null,null,null,"Motor backlog:2/2"]
[]
[null,{"$f":"Alapadatok!C5","v":"Motor sor"},null,null,null,null,null,null,null,{"$f":"B74","v":"Motor sor"},null,null,null,null,null,null,null,{"$f":"B74","v":"Motor sor"}]
[null,null,null,"Gyártott:",52,"db",null,null,null,null,null,"Gyártott:",55,"db",null,null,null,null,null,"Gyártott:",54,"db"]
[]
[null,null,null,"Elvárt darabszám:",52,"db",null,"Elvárt db/op:",7.43,null,null,"Elvárt darabszám:",54,"db",null,"Elvárt db/op:",6.75,null,null,"Elvárt darabszám:",54,"db",null,"Elvárt db/op:",6.75]
[null,null,null,"Szükséges létszám: ",7,"fő",null,null,null,null,null,"Szükséges létszám:",8,"fő",null,null,null,null,null,"Szükséges létszám:",8,"fő"]
[null,null,null,"Aktuális létszám:",8,"fő",null,"Aktuális db/op:",6.5,null,null,"Aktuális létszám:",0,"fő",null,"Aktuális db/op:",0,null,null,"Aktuális létszám:",0,"fő",null,"Aktuális db/op:",0]
[]
[null,null,null,"Operátor",7,"fő",null,null,null,null,null,"Operátor",6,"fő",null,null,null,null,null,"Operátor",8,"fő"]
[null,null,null,"Koordinátor",1,"fő",null,null,null,null,null,"Koordinátor",1,"fő",null,null,null,null,null,"Koordinátor",null,"fő"]
[null,null,null,"Beállító",null,"fő",null,null,null,null,null,"Beállító",null,"fő",null,null,null,null,null,"Beállító",null,"fő"]
[null,null,null,"QA, Service",null,"fő",null,null,null,null,null,"QA, Service",null,"fő",null,null,null,null,null,"QA, Service",null,"fő"]
[null,null,null,"Anyagszállító",null,"fő",null,null,null,null,null,"Anyagszállító",null,"fő",null,null,null,null,null,"Anyagszállító",null,"fő"]
[null,null,null,"Egyéb",null,"fő",null,null,null,null,null,"Egyéb",null,"fő",null,null,null,null,null,"Egyéb",null,"fő"]
[]
[null,null,null,"Backlog:",null,"sorok száma",null,null,null,null,null,"Backlog:",null,"sorok száma",null,null,null,null,null,"Backlog:",null,"sorok száma"]
[]
[null,null,null,"Backlog:",null,"összes darab",null,null,null,null,null,"Backlog:",null,"összes darab",null,null,null,null,null,"Backlog:",null,"összes darab"]
[]
[null,null,null,"Kód:","Időtartam","Állásidő megnevezése",null,null,null,null,null,"Kód:","Időtartam","Állásidő megnevezése",null,null,null,null,null,"Kód:","Időtartam","Állásidő megnevezése"]
[null,null,null,300,480,{"$f":"VLOOKUP(D93,állásidő_kódok!$B:$D,3,0)","v":"G - Gyártósor meghibásodása"},null,null,null,null,null,300,200,{"$f":"VLOOKUP(L93,állásidő_kódok!$B:$D,3,0)","v":"G - Gyártósor meghibásodása"},null,null,null,null,null,300,100,{"$f":"VLOOKUP(T93,állásidő_kódok!$B:$D,3,0)","v":"G - Gyártósor meghibásodása"}]
[null,null,null,null,null,{"$f":"VLOOKUP(D94,állásidő_kódok!$B:$D,3,0)","v":{"$error":"#N/A"}},null,null,null,null,null,null,null,{"$f":"VLOOKUP(L94,állásidő_kódok!$B:$D,3,0)","v":{"$error":"#N/A"}},null,null,null,null,null,null,null,{"$f":"VLOOKUP(T94,állásidő_kódok!$B:$D,3,0)","v":{"$error":"#N/A"}}]
[null,null,null,null,null,{"$f":"VLOOKUP(D95,állásidő_kódok!$B:$D,3,0)","v":{"$error":"#N/A"}},null,null,null,null,null,null,null,{"$f":"VLOOKUP(L95,állásidő_kódok!$B:$D,3,0)","v":{"$error":"#N/A"}},null,null,null,null,null,null,null,{"$f":"VLOOKUP(T95,állásidő_kódok!$B:$D,3,0)","v":{"$error":"#N/A"}}]
[null,null,null,null,null,{"$f":"VLOOKUP(D96,állásidő_kódok!$B:$D,3,0)","v":{"$error":"#N/A"}},null,null,null,null,null,null,null,{"$f":"VLOOKUP(L96,állásidő_kódok!$B:$D,3,0)","v":{"$error":"#N/A"}},null,null,null,null,null,null,null,{"$f":"VLOOKUP(T96,állásidő_kódok!$B:$D,3,0)","v":{"$error":"#N/A"}}]
[null,null,null,null,null,{"$f":"VLOOKUP(D97,állásidő_kódok!$B:$D,3,0)","v":{"$error":"#N/A"}},null,null,null,null,null,null,null,{"$f":"VLOOKUP(L97,állásidő_kódok!$B:$D,3,0)","v":{"$error":"#N/A"}},null,null,null,null,null,null,null,{"$f":"VLOOKUP(T97,állásidő_kódok!$B:$D,3,0)","v":{"$error":"#N/A"}}]
[null,null,null,null,null,{"$f":"VLOOKUP(D98,állásidő_kódok!$B:$D,3,0)","v":{"$error":"#N/A"}},null,null,null,null,null,null,null,{"$f":"VLOOKUP(L98,állásidő_kódok!$B:$D,3,0)","v":{"$error":"#N/A"}},null,null,null,null,null,null,null,{"$f":"VLOOKUP(T98,állásidő_kódok!$B:$D,3,0)","v":{"$error":"#N/A"}}]
[null,null,null,null,null,{"$f":"VLOOKUP(D99,állásidő_kódok!$B:$D,3,0)","v":{"$error":"#N/A"}},null,null,null,null,null,null,null,{"$f":"VLOOKUP(L99,állásidő_kódok!$B:$D,3,0)","v":{"$error":"#N/A"}},null,null,null,null,null,null,null,{"$f":"VLOOKUP(T99,állásidő_kódok!$B:$D,3,0)","v":{"$error":"#N/A"}}]
[null,null,null,null,null,{"$f":"VLOOKUP(D100,állásidő_kódok!$B:$D,3,0)","v":{"$error":"#N/A"}},null,null,null,null,null,null,null,{"$f":"VLOOKUP(L100,állásidő_kódok!$B:$D,3,0)","v":{"$error":"#N/A"}},null,null,null,null,null,null,null,{"$f":"VLOOKUP(T100,állásidő_kódok!$B:$D,3,0)","v":{"$error":"#N/A"}}]
[null,null,null,null,null,{"$f":"VLOOKUP(D101,állásidő_kódok!$B:$D,3,0)","v":{"$error":"#N/A"}},null,null,null,null,null,null,null,{"$f":"VLOOKUP(L101,állásidő_kódok!$B:$D,3,0)","v":{"$error":"#N/A"}},null,null,null,null,null,null,null,{"$f":"VLOOKUP(T101,állásidő_kódok!$B:$D,3,0)","v":{"$error":"#N/A"}}]
[null,null,null,205,400,{"$f":"VLOOKUP(D102,állásidő_kódok!$B:$D,3,0)","v":"AE - Csomagolóanyag hiány"},null,null,null,null,null,1,100,{"$f":"VLOOKUP(L102,állásidő_kódok!$B:$D,3,0)","v":"E-I. - Emberi erőforrás hiány"},null,null,null,null,null,5,200,{"$f":"VLOOKUP(T102,állásidő_kódok!$B:$D,3,0)","v":"E-I. - 5%-os emberi erőforrás hiány"}]
[null,null,null,null,"Állásidők nélküli teljesítés:",{"$f":"((SUM(E93:E102)/445))+E75/E77","v":2.9775280898876404},null,null,null,null,null,null,"Állásidők nélküli teljesítés:",{"$f":"((SUM(M93:M102)/445))+M75/M77","v":1.692675821889305},null,null,null,null,null,null,"Állásidők nélküli teljesítés:",{"$f":"((SUM(U93:U102)/445))+U75/U77","v":1.6741573033707864}]
[null,{"$f":"Alapadatok!C6","v":"2p Sztátor sor"},null,null,null,null,null,null,null,{"$f":"B104","v":"2p Sztátor sor"},null,null,null,null,null,null,null,{"$f":"B104","v":"2p Sztátor sor"}]
[null,null,null,"Gyártott:",45,"db",null,null,null,null,null,"Gyártott:",52,"db",null,null,null,null,null,"Gyártott:",33,"db"]
[]
[null,null,null,"Elvárt darabszám:",50,"db",null,"Elvárt db/op:",8.33,null,null,"Elvárt darabszám:",52,"db",null,"Elvárt db/op:",8.67,null,null,"Elvárt darabszám:",45,"db",null,"Elvárt db/op:",9]
[null,null,null,"Szükséges létszám: ",6,"fő",null,null,null,null,null,"Szükséges létszám:",6,"fő",null,null,null,null,null,"Szükséges létszám:",5,"fő"]
[null,null,null,"Aktuális létszám:",7,"fő",null,"Aktuális db/op:",6.4285714285714288,null,null,"Aktuális létszám:",0,"fő",null,"Aktuális db/op:",0,null,null,"Aktuális létszám:",0,"fő",null,"Aktuális db/op:",0]
[]
[null,null,null,"Operátor",5,"fő",null,null,null,null,null,"Operátor",5,"fő",null,null,null,null,null,"Operátor",5,"fő"]
[null,null,null,"Koordinátor",1,"fő",null,null,null,null,null,"Koordinátor",1,"fő",null,null,null,null,null,"Koordinátor",1,"fő"]
[null,null,null,"Beállító",1,"fő",null,null,null,null,null,"Beállító",1,"fő",null,null,null,null,null,"Beállító",1,"fő"]
[null,null,null,"QA, Service",null,"fő",null,null,null,null,null,"QA, Service",null,"fő",null,null,null,null,null,"QA, Service",null,"fő"]
[null,null,null,"Anyagszállító",null,"fő",null,null,null,null,null,"Anyagszállító",null,"fő",null,null,null,null,null,"Anyagszállító",null,"fő"]
[null,null,null,"Egyéb",null,"fő",null,null,null,null,null,"Egyéb",null,"fő",null,null,null,null,null,"Egyéb",null,"fő"]
[]
[null,null,null,"Backlog:",null,"sorok száma",null,null,null,null,null,"Backlog:",null,"sorok száma",null,null,null,null,null,"Backlog:",null,"sorok száma"]
[]
[null,null,null,"Backlog:",null,"összes darab",null,null,null,null,null,"Backlog:",null,"összes darab",null,null,null,null,null,"Backlog:",null,"összes darab"]
[]
[null,null,null,"Kód:","Időtartam","Állásidő megnevezése",null,null,null,null,null,"Kód:","Időtartam","Állásidő megnevezése",null,null,null,null,null,"Kód:","Időtartam","Állásidő megnevezése"]
[null,null,null,null,null,{"$f":"VLOOKUP(D123,állásidő_kódok!$B:$D,3,0)","v":{"$error":"#N/A"}},null,null,null,null,null,null,null,{"$f":"VLOOKUP(L123,állásidő_kódok!$B:$D,3,0)","v":{"$error":"#N/A"}},null,null,null,null,null,100,60,{"$f":"VLOOKUP(T123,állásidő_kódok!$B:$D,3,0)","v":"E-II. - Betanulás-betanítás"}]
[null,null,null,null,null,{"$f":"VLOOKUP(D124,állásidő_kódok!$B:$D,3,0)","v":{"$error":"#N/A"}},null,null,null,null,null,null,null,{"$f":"VLOOKUP(L124,állásidő_kódok!$B:$D,3,0)","v":{"$error":"#N/A"}},null,null,null,null,null,null,null,{"$f":"VLOOKUP(T124,állásidő_kódok!$B:$D,3,0)","v":{"$error":"#N/A"}}]
[null,null,null,null,null,{"$f":"VLOOKUP(D125,állásidő_kódok!$B:$D,3,0)","v":{"$error":"#N/A"}},null,null,null,null,null,null,null,{"$f":"VLOOKUP(L125,állásidő_kódok!$B:$D,3,0)","v":{"$error":"#N/A"}},null,null,null,null,null,null,null,{"$f":"VLOOKUP(T125,állásidő_kódok!$B:$D,3,0)","v":{"$error":"#N/A"}}]
[null,null,null,null,null,{"$f":"VLOOKUP(D126,állásidő_kódok!$B:$D,3,0)","v":{"$error":"#N/A"}},null,null,null,null,null,null,null,{"$f":"VLOOKUP(L126,állásidő_kódok!$B:$D,3,0)","v":{"$error":"#N/A"}},null,null,null,null,null,null,null,{"$f":"VLOOKUP(T126,állásidő_kódok!$B:$D,3,0)","v":{"$error":"#N/A"}}]
[null,null,null,null,null,{"$f":"VLOOKUP(D127,állásidő_kódok!$B:$D,3,0)","v":{"$error":"#N/A"}},null,null,null,null,null,null,null,{"$f":"VLOOKUP(L127,állásidő_kódok!$B:$D,3,0)","v":{"$error":"#N/A"}},null,null,null,null,null,null,null,{"$f":"VLOOKUP(T127,állásidő_kódok!$B:$D,3,0)","v":{"$error":"#N/A"}}]
[null,null,null,null,null,{"$f":"VLOOKUP(D128,állásidő_kódok!$B:$D,3,0)","v":{"$error":"#N/A"}},null,null,null,null,null,null,null,{"$f":"VLOOKUP(L128,állásidő_kódok!$B:$D,3,0)","v":{"$error":"#N/A"}},null,null,null,null,null,null,null,{"$f":"VLOOKUP(T128,állásidő_kódok!$B:$D,3,0)","v":{"$error":"#N/A"}}]
[null,null,null,null,null,{"$f":"VLOOKUP(D129,állásidő_kódok!$B:$D,3,0)","v":{"$error":"#N/A"}},null,null,null,null,null,null,null,{"$f":"VLOOKUP(L129,állásidő_kódok!$B:$D,3,0)","v":{"$error":"#N/A"}},null,null,null,null,null,null,null,{"$f":"VLOOKUP(T129,állásidő_kódok!$B:$D,3,0)","v":{"$error":"#N/A"}}]
[null,null,null,null,null,{"$f":"VLOOKUP(D130,állásidő_kódok!$B:$D,3,0)","v":{"$error":"#N/A"}},null,null,null,null,null,null,null,{"$f":"VLOOKUP(L130,állásidő_kódok!$B:$D,3,0)","v":{"$error":"#N/A"}},null,null,null,null,null,null,null,{"$f":"VLOOKUP(T130,állásidő_kódok!$B:$D,3,0)","v":{"$error":"#N/A"}}]
[null,null,null,null,null,{"$f":"VLOOKUP(D131,állásidő_kódok!$B:$D,3,0)","v":{"$error":"#N/A"}},null,null,null,null,null,null,null,{"$f":"VLOOKUP(L131,állásidő_kódok!$B:$D,3,0)","v":{"$error":"#N/A"}},null,null,null,null,null,null,null,{"$f":"VLOOKUP(T131,állásidő_kódok!$B:$D,3,0)","v":{"$error":"#N/A"}}]
[null,null,null,null,null,{"$f":"VLOOKUP(D132,állásidő_kódok!$B:$D,3,0)","v":{"$error":"#N/A"}},null,null,null,null,null,null,null,{"$f":"VLOOKUP(L132,állásidő_kódok!$B:$D,3,0)","v":{"$error":"#N/A"}},null,null,null,null,null,null,null,{"$f":"VLOOKUP(T132,állásidő_kódok!$B:$D,3,0)","v":{"$error":"#N/A"}}]
[null,null,null,null,"Állásidők nélküli teljesítés:",{"$f":"((SUM(E123:E132)/445))+E105/E107","v":0.9},null,null,null,null,null,null,"Állásidők nélküli teljesítés:",{"$f":"((SUM(M123:M132)/445))+M105/M107","v":1},null,null,null,null,null,null,"Állásidők nélküli teljesítés:",{"$f":"((SUM(U123:U132)/445))+U105/U107","v":0.86816479400749058}]
[null,{"$f":"Alapadatok!C7","v":"4p sztátor sor"},null,null,null,null,null,null,null,{"$f":"B134","v":"4p sztátor sor"},null,null,null,null,null,null,null,{"$f":"B134","v":"4p sztátor sor"}]
[null,null,null,"Gyártott:",null,"db",null,null,null,null,null,"Gyártott:",20,"db",null,null,null,null,null,"Gyártott:",null,"db"]
[]
[null,null,null,"Elvárt darabszám:",0,"db",null,"Elvárt db/op:",0,null,null,"Elvárt darabszám:",20,"db",null,"Elvárt db/op:",5,null,null,"Elvárt darabszám:",0,"db",null,"Elvárt db/op:",0]
[null,null,null,"Szükséges létszám: ",0,"fő",null,null,null,null,null,"Szükséges létszám:",4,"fő",null,null,null,null,null,"Szükséges létszám:",0,"fő"]
[null,null,null,"Aktuális létszám:",0,"fő",null,"Aktuális db/op:",0,null,null,"Aktuális létszám:",0,"fő",null,"Aktuális db/op:",0,null,null,"Aktuális létszám:",0,"fő",null,"Aktuális db/op:",0]
[]
[null,null,null,"Operátor",null,"fő",null,null,null,null,null,"Operátor",4,"fő",null,null,null,null,null,"Operátor",null,"fő"]
[null,null,null,"Koordinátor",null,"fő",null,null,null,null,null,"Koordinátor",null,"fő",null,null,null,null,null,"Koordinátor",null,"fő"]
[null,null,null,"Beállító",null,"fő",null,null,null,null,null,"Beállító",null,"fő",null,null,null,null,null,"Beállító",null,"fő"]
[null,null,null,"QA, Service",null,"fő",null,null,null,null,null,"QA, Service",null,"fő",null,null,null,null,null,"QA, Service",null,"fő"]
[null,null,null,"Anyagszállító",null,"fő",null,null,null,null,null,"Anyagszállító",null,"fő",null,null,null,null,null,"Anyagszállító",null,"fő"]
[null,null,null,"Egyéb",null,"fő",null,null,null,null,null,"Egyéb",null,"fő",null,null,null,null,null,"Egyéb",null,"fő"]
[]
[null,null,null,"Backlog:",null,"sorok száma",null,null,null,null,null,"Backlog:",null,"sorok száma",null,null,null,null,null,"Backlog:",null,"sorok száma"]
[]
[null,null,null,"Backlog:",null,"összes darab",null,null,null,null,null,"Backlog:",null,"összes darab",null,null,null,null,null,"Backlog:",null,"összes darab"]
[]
[null,null,null,"Kód:","Időtartam","Állásidő megnevezése",null,null,null,null,null,"Kód:","Időtartam","Állásidő megnevezése",null,null,null,null,null,"Kód:","Időtartam","Állásidő megnevezése"]
[null,null,null,null,null,{"$f":"VLOOKUP(D153,állásidő_kódok!$B:$D,3,0)","v":{"$error":"#N/A"}},null,null,null,null,null,null,null,{"$f":"VLOOKUP(L153,állásidő_kódok!$B:$D,3,0)","v":{"$error":"#N/A"}},null,null,null,null,null,null,null,{"$f":"VLOOKUP(T153,állásidő_kódok!$B:$D,3,0)","v":{"$error":"#N/A"}}]
[null,null,null,null,null,{"$f":"VLOOKUP(D154,állásidő_kódok!$B:$D,3,0)","v":{"$error":"#N/A"}},null,null,null,null,null,null,null,{"$f":"VLOOKUP(L154,állásidő_kódok!$B:$D,3,0)","v":{"$error":"#N/A"}},null,null,null,null,null,null,null,{"$f":"VLOOKUP(T154,állásidő_kódok!$B:$D,3,0)","v":{"$error":"#N/A"}}]
[null,null,null,null,null,{"$f":"VLOOKUP(D155,állásidő_kódok!$B:$D,3,0)","v":{"$error":"#N/A"}},null,null,null,null,null,null,null,{"$f":"VLOOKUP(L155,állásidő_kódok!$B:$D,3,0)","v":{"$error":"#N/A"}},null,null,null,null,null,null,null,{"$f":"VLOOKUP(T155,állásidő_kódok!$B:$D,3,0)","v":{"$error":"#N/A"}}]
[null,null,null,null,null,{"$f":"VLOOKUP(D156,állásidő_kódok!$B:$D,3,0)","v":{"$error":"#N/A"}},null,null,null,null,null,null,null,{"$f":"VLOOKUP(L156,állásidő_kódok!$B:$D,3,0)","v":{"$error":"#N/A"}},null,null,null,null,null,null,null,{"$f":"VLOOKUP(T156,állásidő_kódok!$B:$D,3,0)","v":{"$error":"#N/A"}}]
[null,null,null,null,null,{"$f":"VLOOKUP(D157,állásidő_kódok!$B:$D,3,0)","v":{"$error":"#N/A"}},null,null,null,null,null,null,null,{"$f":"VLOOKUP(L157,állásidő_kódok!$B:$D,3,0)","v":{"$error":"#N/A"}},null,null,null,null,null,null,null,{"$f":"VLOOKUP(T157,állásidő_kódok!$B:$D,3,0)","v":{"$error":"#N/A"}}]
[null,null,null,null,null,{"$f":"VLOOKUP(D158,állásidő_kódok!$B:$D,3,0)","v":{"$error":"#N/A"}},null,null,null,null,null,null,null,{"$f":"VLOOKUP(L158,állásidő_kódok!$B:$D,3,0)","v":{"$error":"#N/A"}},null,null,null,null,null,null,null,{"$f":"VLOOKUP(T158,állásidő_kódok!$B:$D,3,0)","v":{"$error":"#N/A"}}]
[null,null,null,null,null,{"$f":"VLOOKUP(D159,állásidő_kódok!$B:$D,3,0)","v":{"$error":"#N/A"}},null,null,null,null,null,null,null,{"$f":"VLOOKUP(L159,állásidő_kódok!$B:$D,3,0)","v":{"$error":"#N/A"}},null,null,null,null,null,null,null,{"$f":"VLOOKUP(T159,állásidő_kódok!$B:$D,3,0)","v":{"$error":"#N/A"}}]
[null,null,null,null,null,{"$f":"VLOOKUP(D160,állásidő_kódok!$B:$D,3,0)","v":{"$error":"#N/A"}},null,null,null,null,null,null,null,{"$f":"VLOOKUP(L160,állásidő_kódok!$B:$D,3,0)","v":{"$error":"#N/A"}},null,null,null,null,null,null,null,{"$f":"VLOOKUP(T160,állásidő_kódok!$B:$D,3,0)","v":{"$error":"#N/A"}}]
[null,null,null,null,null,{"$f":"VLOOKUP(D161,állásidő_kódok!$B:$D,3,0)","v":{"$error":"#N/A"}},null,null,null,null,null,null,null,{"$f":"VLOOKUP(L161,állásidő_kódok!$B:$D,3,0)","v":{"$error":"#N/A"}},null,null,null,null,null,null,null,{"$f":"VLOOKUP(T161,állásidő_kódok!$B:$D,3,0)","v":{"$error":"#N/A"}}]
[null,null,null,null,null,{"$f":"VLOOKUP(D162,állásidő_kódok!$B:$D,3,0)","v":{"$error":"#N/A"}},null,null,null,null,null,null,null,{"$f":"VLOOKUP(L162,állásidő_kódok!$B:$D,3,0)","v":{"$error":"#N/A"}},null,null,null,null,null,null,null,{"$f":"VLOOKUP(T162,állásidő_kódok!$B:$D,3,0)","v":{"$error":"#N/A"}}]
[null,null,null,null,"Állásidők nélküli teljesítés:",{"$f":"((SUM(E153:E162)/445))+E135/E137","v":{"$error":"#DIV/0!"}},null,null,null,null,null,null,"Állásidők nélküli teljesítés:",{"$f":"((SUM(M153:M162)/445))+M135/M137","v":1},null,null,null,null,null,null,"Állásidők nélküli teljesítés:",{"$f":"((SUM(U153:U162)/445))+U135/U137","v":{"$error":"#DIV/0!"}}]
[null,{"$f":"Alapadatok!C8","v":"DE cella"},null,null,null,null,null,null,null,{"$f":"B164","v":"DE cella"},null,null,null,null,null,null,null,{"$f":"B164","v":"DE cella"}]
[null,null,null,"Gyártott:",54,"db",null,null,null,null,null,"Gyártott:",56,"db",null,null,null,null,null,"Gyártott:",52,"db"]
[]
[null,null,null,"Elvárt darabszám:",52,"db",null,"Elvárt db/op:",26,null,null,"Elvárt darabszám:",52,"db",null,"Elvárt db/op:",26,null,null,"Elvárt darabszám:",52,"db",null,"Elvárt db/op:",26]
[null,null,null,"Szükséges létszám: ",2,"fő",null,null,null,null,null,"Szükséges létszám:",2,"fő",null,null,null,null,null,"Szükséges létszám:",2,"fő"]
[null,null,null,"Aktuális létszám:",2,"fő",null,"Aktuális db/op:",27,null,null,"Aktuális létszám:",0,"fő",null,"Aktuális db/op:",0,null,null,"Aktuális létszám:",0,"fő",null,"Aktuális db/op:",0]
[]
[null,null,null,"Operátor",2,"fő",null,null,null,null,null,"Operátor",1,"fő",null,null,null,null,null,"Operátor",1,"fő"]
[null,null,null,"Koordinátor",null,"fő",null,null,null,null,null,"Koordinátor",null,"fő",null,null,null,null,null,"Koordinátor",null,"fő"]
[null,null,null,"Beállító",null,"fő",null,null,null,null,null,"Beállító",null,"fő",null,null,null,null,null,"Beállító",null,"fő"]
[null,null,null,"QA, Service",null,"fő",null,null,null,null,null,"QA, Service",null,"fő",null,null,null,null,null,"QA, Service",null,"fő"]
[null,null,null,"Anyagszállító",null,"fő",null,null,null,null,null,"Anyagszállító",null,"fő",null,null,null,null,null,"Anyagszállító",null,"fő"]
[null,null,null,"Egyéb",null,"fő",null,null,null,null,null,"Egyéb",null,"fő",null,null,null,null,null,"Egyéb",null,"fő"]
[]
[null,null,null,"Backlog:",null,"sorok száma",null,null,null,null,null,"Backlog:",null,"sorok száma",null,null,null,null,null,"Backlog:",null,"sorok száma"]
[]
[null,null,null,"Backlog:",null,"összes darab",null,null,null,null,null,"Backlog:",null,"összes darab",null,null,null,null,null,"Backlog:",null,"összes darab"]
[]
[null,null,null,"Kód:","Időtartam","Állásidő megnevezése",null,null,null,null,null,"Kód:","Időtartam","Állásidő megnevezése",null,null,null,null,null,"Kód:","Időtartam","Állásidő megnevezése"]
[null,null,null,null,null,{"$f":"VLOOKUP(D183,állásidő_kódok!$B:$D,3,0)","v":{"$error":"#N/A"}},null,null,null,null,null,null,null,{"$f":"VLOOKUP(L183,állásidő_kódok!$B:$D,3,0)","v":{"$error":"#N/A"}},null,null,null,null,null,null,null,{"$f":"VLOOKUP(T183,állásidő_kódok!$B:$D,3,0)","v":{"$error":"#N/A"}}]
[null,null,null,null,null,{"$f":"VLOOKUP(D184,állásidő_kódok!$B:$D,3,0)","v":{"$error":"#N/A"}},null,null,null,null,null,null,null,{"$f":"VLOOKUP(L184,állásidő_kódok!$B:$D,3,0)","v":{"$error":"#N/A"}},null,null,null,null,null,null,null,{"$f":"VLOOKUP(T184,állásidő_kódok!$B:$D,3,0)","v":{"$error":"#N/A"}}]
[null,null,null,null,null,{"$f":"VLOOKUP(D185,állásidő_kódok!$B:$D,3,0)","v":{"$error":"#N/A"}},null,null,null,null,null,null,null,{"$f":"VLOOKUP(L185,állásidő_kódok!$B:$D,3,0)","v":{"$error":"#N/A"}},null,null,null,null,null,null,null,{"$f":"VLOOKUP(T185,állásidő_kódok!$B:$D,3,0)","v":{"$error":"#N/A"}}]
[null,null,null,null,null,{"$f":"VLOOKUP(D186,állásidő_kódok!$B:$D,3,0)","v":{"$error":"#N/A"}},null,null,null,null,null,null,null,{"$f":"VLOOKUP(L186,állásidő_kódok!$B:$D,3,0)","v":{"$error":"#N/A"}},null,null,null,null,null,null,null,{"$f":"VLOOKUP(T186,állásidő_kódok!$B:$D,3,0)","v":{"$error":"#N/A"}}]
[null,null,null,null,null,{"$f":"VLOOKUP(D187,állásidő_kódok!$B:$D,3,0)","v":{"$error":"#N/A"}},null,null,null,null,null,null,null,{"$f":"VLOOKUP(L187,állásidő_kódok!$B:$D,3,0)","v":{"$error":"#N/A"}},null,null,null,null,null,null,null,{"$f":"VLOOKUP(T187,állásidő_kódok!$B:$D,3,0)","v":{"$error":"#N/A"}}]
[null,null,null,null,null,{"$f":"VLOOKUP(D188,állásidő_kódok!$B:$D,3,0)","v":{"$error":"#N/A"}},null,null,null,null,null,null,null,{"$f":"VLOOKUP(L188,állásidő_kódok!$B:$D,3,0)","v":{"$error":"#N/A"}},null,null,null,null,null,null,null,{"$f":"VLOOKUP(T188,állásidő_kódok!$B:$D,3,0)","v":{"$error":"#N/A"}}]
[null,null,null,null,null,{"$f":"VLOOKUP(D189,állásidő_kódok!$B:$D,3,0)","v":{"$error":"#N/A"}},null,null,null,null,null,null,null,{"$f":"VLOOKUP(L189,állásidő_kódok!$B:$D,3,0)","v":{"$error":"#N/A"}},null,null,null,null,null,null,null,{"$f":"VLOOKUP(T189,állásidő_kódok!$B:$D,3,0)","v":{"$error":"#N/A"}}]
[null,null,null,null,null,{"$f":"VLOOKUP(D190,állásidő_kódok!$B:$D,3,0)","v":{"$error":"#N/A"}},null,null,null,null,null,null,null,{"$f":"VLOOKUP(L190,állásidő_kódok!$B:$D,3,0)","v":{"$error":"#N/A"}},null,null,null,null,null,null,null,{"$f":"VLOOKUP(T190,állásidő_kódok!$B:$D,3,0)","v":{"$error":"#N/A"}}]
[null,null,null,null,null,{"$f":"VLOOKUP(D191,állásidő_kódok!$B:$D,3,0)","v":{"$error":"#N/A"}},null,null,null,null,null,null,null,{"$f":"VLOOKUP(L191,állásidő_kódok!$B:$D,3,0)","v":{"$error":"#N/A"}},null,null,null,null,null,null,null,{"$f":"VLOOKUP(T191,állásidő_kódok!$B:$D,3,0)","v":{"$error":"#N/A"}}]
[null,null,null,null,null,{"$f":"VLOOKUP(D192,állásidő_kódok!$B:$D,3,0)","v":{"$error":"#N/A"}},null,null,null,null,null,null,null,{"$f":"VLOOKUP(L192,állásidő_kódok!$B:$D,3,0)","v":{"$error":"#N/A"}},null,null,null,null,null,null,null,{"$f":"VLOOKUP(T192,állásidő_kódok!$B:$D,3,0)","v":{"$error":"#N/A"}}]
[null,null,null,null,"Állásidők nélküli teljesítés:",{"$f":"((SUM(E183:E192)/445))+E165/E167","v":1.0384615384615385},null,null,null,null,null,null,"Állásidők nélküli teljesítés:",{"$f":"((SUM(M183:M192)/445))+M165/M167","v":1.0769230769230769},null,null,null,null,null,null,"Állásidők nélküli teljesítés:",{"$f":"((SUM(U183:U192)/445))+U165/U167","v":1}]
[null,{"$f":"Alapadatok!C9","v":"NDE cella"},null,null,null,null,null,null,null,{"$f":"B194","v":"NDE cella"},null,null,null,null,null,null,null,{"$f":"B194","v":"NDE cella"}]
[null,null,null,"Gyártott:",0,"db",null,null,null,null,null,"Gyártott:",90,"db",null,null,null,null,null,"Gyártott:",95,"db"]
[]
[null,null,null,"Elvárt darabszám:",95,"db",null,"Elvárt db/op:",95,null,null,"Elvárt darabszám:",95,"db",null,"Elvárt db/op:",95,null,null,"Elvárt darabszám:",95,"db",null,"Elvárt db/op:",95]
[null,null,null,"Szükséges létszám: ",1,"fő",null,null,null,null,null,"Szükséges létszám:",1,"fő",null,null,null,null,null,"Szükséges létszám:",1,"fő"]
[null,null,null,"Aktuális létszám:",0,"fő",null,"Aktuális db/op:",0,null,null,"Aktuális létszám:",0,"fő",null,"Aktuális db/op:",0,null,null,"Aktuális létszám:",0,"fő",null,"Aktuális db/op:",0]
[]
[null,null,null,"Operátor",0,"fő",null,null,null,null,null,"Operátor",1,"fő",null,null,null,null,null,"Operátor",1,"fő"]
[null,null,null,"Koordinátor",null,"fő",null,null,null,null,null,"Koordinátor",null,"fő",null,null,null,null,null,"Koordinátor",null,"fő"]
[null,null,null,"Beállító",null,"fő",null,null,null,null,null,"Beállító",null,"fő",null,null,null,null,null,"Beállító",null,"fő"]
[null,null,null,"QA, Service",null,"fő",null,null,null,null,null,"QA, Service",null,"fő",null,null,null,null,null,"QA, Service",null,"fő"]
[null,null,null,"Anyagszállító",null,"fő",null,null,null,null,null,"Anyagszállító",null,"fő",null,null,null,null,null,"Anyagszállító",null,"fő"]
[null,null,null,"Egyéb",null,"fő",null,null,null,null,null,"Egyéb",null,"fő",null,null,null,null,null,"Egyéb",null,"fő"]
[]
[null,null,null,"Backlog:",null,"sorok száma",null,null,null,null,null,"Backlog:",null,"sorok száma",null,null,null,null,null,"Backlog:",null,"sorok száma"]
[]
[null,null,null,"Backlog:",null,"összes darab",null,null,null,null,null,"Backlog:",null,"összes darab",null,null,null,null,null,"Backlog:",null,"összes darab"]
[]
[null,null,null,"Kód:","Időtartam","Állásidő megnevezése",null,null,null,null,null,"Kód:","Időtartam","Állásidő megnevezése",null,null,null,null,null,"Kód:","Időtartam","Állásidő megnevezése"]
[null,null,null,1,480,{"$f":"VLOOKUP(D213,állásidő_kódok!$B:$D,3,0)","v":"E-I. - Emberi erőforrás hiány"},null,null,null,null,null,310,10,{"$f":"VLOOKUP(L213,állásidő_kódok!$B:$D,3,0)","v":"G - Átállás"},null,null,null,null,null,null,null,{"$f":"VLOOKUP(T213,állásidő_kódok!$B:$D,3,0)","v":{"$error":"#N/A"}}]
[null,null,null,null,null,{"$f":"VLOOKUP(D214,állásidő_kódok!$B:$D,3,0)","v":{"$error":"#N/A"}},null,null,null,null,null,304,20,{"$f":"VLOOKUP(L214,állásidő_kódok!$B:$D,3,0)","v":"G - Gagemax hiba/várakozás"},null,null,null,null,null,null,null,{"$f":"VLOOKUP(T214,állásidő_kódok!$B:$D,3,0)","v":{"$error":"#N/A"}}]
[null,null,null,null,null,{"$f":"VLOOKUP(D215,állásidő_kódok!$B:$D,3,0)","v":{"$error":"#N/A"}},null,null,null,null,null,null,null,{"$f":"VLOOKUP(L215,állásidő_kódok!$B:$D,3,0)","v":{"$error":"#N/A"}},null,null,null,null,null,null,null,{"$f":"VLOOKUP(T215,állásidő_kódok!$B:$D,3,0)","v":{"$error":"#N/A"}}]
[null,null,null,null,null,{"$f":"VLOOKUP(D216,állásidő_kódok!$B:$D,3,0)","v":{"$error":"#N/A"}},null,null,null,null,null,null,null,{"$f":"VLOOKUP(L216,állásidő_kódok!$B:$D,3,0)","v":{"$error":"#N/A"}},null,null,null,null,null,null,null,{"$f":"VLOOKUP(T216,állásidő_kódok!$B:$D,3,0)","v":{"$error":"#N/A"}}]
[null,null,null,null,null,{"$f":"VLOOKUP(D217,állásidő_kódok!$B:$D,3,0)","v":{"$error":"#N/A"}},null,null,null,null,null,null,null,{"$f":"VLOOKUP(L217,állásidő_kódok!$B:$D,3,0)","v":{"$error":"#N/A"}},null,null,null,null,null,null,null,{"$f":"VLOOKUP(T217,állásidő_kódok!$B:$D,3,0)","v":{"$error":"#N/A"}}]
[null,null,null,null,null,{"$f":"VLOOKUP(D218,állásidő_kódok!$B:$D,3,0)","v":{"$error":"#N/A"}},null,null,null,null,null,null,null,{"$f":"VLOOKUP(L218,állásidő_kódok!$B:$D,3,0)","v":{"$error":"#N/A"}},null,null,null,null,null,null,null,{"$f":"VLOOKUP(T218,állásidő_kódok!$B:$D,3,0)","v":{"$error":"#N/A"}}]
[null,null,null,null,null,{"$f":"VLOOKUP(D219,állásidő_kódok!$B:$D,3,0)","v":{"$error":"#N/A"}},null,null,null,null,null,null,null,{"$f":"VLOOKUP(L219,állásidő_kódok!$B:$D,3,0)","v":{"$error":"#N/A"}},null,null,null,null,null,null,null,{"$f":"VLOOKUP(T219,állásidő_kódok!$B:$D,3,0)","v":{"$error":"#N/A"}}]
[null,null,null,null,null,{"$f":"VLOOKUP(D220,állásidő_kódok!$B:$D,3,0)","v":{"$error":"#N/A"}},null,null,null,null,null,null,null,{"$f":"VLOOKUP(L220,állásidő_kódok!$B:$D,3,0)","v":{"$error":"#N/A"}},null,null,null,null,null,null,null,{"$f":"VLOOKUP(T220,állásidő_kódok!$B:$D,3,0)","v":{"$error":"#N/A"}}]
[null,null,null,null,null,{"$f":"VLOOKUP(D221,állásidő_kódok!$B:$D,3,0)","v":{"$error":"#N/A"}},null,null,null,null,null,null,null,{"$f":"VLOOKUP(L221,állásidő_kódok!$B:$D,3,0)","v":{"$error":"#N/A"}},null,null,null,null,null,null,null,{"$f":"VLOOKUP(T221,állásidő_kódok!$B:$D,3,0)","v":{"$error":"#N/A"}}]
[null,null,null,null,null,{"$f":"VLOOKUP(D222,állásidő_kódok!$B:$D,3,0)","v":{"$error":"#N/A"}},null,null,null,null,null,null,null,{"$f":"VLOOKUP(L222,állásidő_kódok!$B:$D,3,0)","v":{"$error":"#N/A"}},null,null,null,null,null,null,null,{"$f":"VLOOKUP(T222,állásidő_kódok!$B:$D,3,0)","v":{"$error":"#N/A"}}]
[null,null,null,null,"Állásidők nélküli teljesítés:",{"$f":"((SUM(E213:E222)/445))+E195/E197","v":1.0786516853932584},null,null,null,null,null,null,"Állásidők nélküli teljesítés:",{"$f":"((SUM(M213:M222)/445))+M195/M197","v":1.0147841513897102},null,null,null,null,null,null,"Állásidők nélküli teljesítés:",{"$f":"((SUM(U213:U222)/445))+U195/U197","v":1}]
[null,{"$f":"Alapadatok!C10","v":"T+R"},null,null,null,null,null,null,null,{"$f":"B224","v":"T+R"},null,null,null,null,null,null,null,{"$f":"B224","v":"T+R"}]
[null,null,null,"Gyártott:",54,"db",null,null,null,null,null,"Gyártott:",57,"db",null,null,null,null,null,"Gyártott:",54,"db"]
[]
[null,null,null,"Elvárt darabszám:",54,"db",null,"Elvárt db/op:",18,null,null,"Elvárt darabszám:",54,"db",null,"Elvárt db/op:",18,null,null,"Elvárt darabszám:",54,"db",null,"Elvárt db/op:",18]
[null,null,null,"Szükséges létszám: ",3,"fő",null,null,null,null,null,"Szükséges létszám:",3,"fő",null,null,null,null,null,"Szükséges létszám:",3,"fő"]
[null,null,null,"Aktuális létszám:",3,"fő",null,"Aktuális db/op:",18,null,null,"Aktuális létszám:",0,"fő",null,"Aktuális db/op:",0,null,null,"Aktuális létszám:",0,"fő",null,"Aktuális db/op:",0]
[]
[null,null,null,"Operátor",3,"fő",null,null,null,null,null,"Operátor",3,"fő",null,null,null,null,null,"Operátor",3,"fő"]
[null,null,null,"Koordinátor",null,"fő",null,null,null,null,null,"Koordinátor",1,"fő",null,null,null,null,null,"Koordinátor",null,"fő"]
[null,null,null,"Beállító",null,"fő",null,null,null,null,null,"Beállító",null,"fő",null,null,null,null,null,"Beállító",null,"fő"]
[null,null,null,"QA, Service",null,"fő",null,null,null,null,null,"QA, Service",null,"fő",null,null,null,null,null,"QA, Service",null,"fő"]
[null,null,null,"Anyagszállító",null,"fő",null,null,null,null,null,"Anyagszállító",null,"fő",null,null,null,null,null,"Anyagszállító",null,"fő"]
[null,null,null,"Egyéb",null,"fő",null,null,null,null,null,"Egyéb",null,"fő",null,null,null,null,null,"Egyéb",null,"fő"]
[]
[null,null,null,"Backlog:",null,"sorok száma",null,null,null,null,null,"Backlog:",null,"sorok száma",null,null,null,null,null,"Backlog:",null,"sorok száma"]
[]
[null,null,null,"Backlog:",null,"összes darab",null,null,null,null,null,"Backlog:",null,"összes darab",null,null,null,null,null,"Backlog:",null,"összes darab"]
[]
[null,null,null,"Kód:","Időtartam","Állásidő megnevezése",null,null,null,null,null,"Kód:","Időtartam","Állásidő megnevezése",null,null,null,null,null,"Kód:","Időtartam","Állásidő megnevezése"]
[null,null,null,null,null,{"$f":"VLOOKUP(D243,állásidő_kódok!$B:$D,3,0)","v":{"$error":"#N/A"}},null,null,null,null,null,310,20,{"$f":"VLOOKUP(L243,állásidő_kódok!$B:$D,3,0)","v":"G - Átállás"},null,null,null,null,null,null,null,{"$f":"VLOOKUP(T243,állásidő_kódok!$B:$D,3,0)","v":{"$error":"#N/A"}}]
[null,null,null,null,null,{"$f":"VLOOKUP(D244,állásidő_kódok!$B:$D,3,0)","v":{"$error":"#N/A"}},null,null,null,null,null,null,null,{"$f":"VLOOKUP(L244,állásidő_kódok!$B:$D,3,0)","v":{"$error":"#N/A"}},null,null,null,null,null,null,null,{"$f":"VLOOKUP(T244,állásidő_kódok!$B:$D,3,0)","v":{"$error":"#N/A"}}]
[null,null,null,null,null,{"$f":"VLOOKUP(D245,állásidő_kódok!$B:$D,3,0)","v":{"$error":"#N/A"}},null,null,null,null,null,null,null,{"$f":"VLOOKUP(L245,állásidő_kódok!$B:$D,3,0)","v":{"$error":"#N/A"}},null,null,null,null,null,null,null,{"$f":"VLOOKUP(T245,állásidő_kódok!$B:$D,3,0)","v":{"$error":"#N/A"}}]
[null,null,null,null,null,{"$f":"VLOOKUP(D246,állásidő_kódok!$B:$D,3,0)","v":{"$error":"#N/A"}},null,null,null,null,null,null,null,{"$f":"VLOOKUP(L246,állásidő_kódok!$B:$D,3,0)","v":{"$error":"#N/A"}},null,null,null,null,null,null,null,{"$f":"VLOOKUP(T246,állásidő_kódok!$B:$D,3,0)","v":{"$error":"#N/A"}}]
[null,null,null,null,null,{"$f":"VLOOKUP(D247,állásidő_kódok!$B:$D,3,0)","v":{"$error":"#N/A"}},null,null,null,null,null,null,null,{"$f":"VLOOKUP(L247,állásidő_kódok!$B:$D,3,0)","v":{"$error":"#N/A"}},null,null,null,null,null,null,null,{"$f":"VLOOKUP(T247,állásidő_kódok!$B:$D,3,0)","v":{"$error":"#N/A"}}]
[null,null,null,null,null,{"$f":"VLOOKUP(D248,állásidő_kódok!$B:$D,3,0)","v":{"$error":"#N/A"}},null,null,null,null,null,null,null,{"$f":"VLOOKUP(L248,állásidő_kódok!$B:$D,3,0)","v":{"$error":"#N/A"}},null,null,null,null,null,null,null,{"$f":"VLOOKUP(T248,állásidő_kódok!$B:$D,3,0)","v":{"$error":"#N/A"}}]
[null,null,null,null,null,{"$f":"VLOOKUP(D249,állásidő_kódok!$B:$D,3,0)","v":{"$error":"#N/A"}},null,null,null,null,null,null,null,{"$f":"VLOOKUP(L249,állásidő_kódok!$B:$D,3,0)","v":{"$error":"#N/A"}},null,null,null,null,null,null,null,{"$f":"VLOOKUP(T249,állásidő_kódok!$B:$D,3,0)","v":{"$error":"#N/A"}}]
[null,null,null,null,null,{"$f":"VLOOKUP(D250,állásidő_kódok!$B:$D,3,0)","v":{"$error":"#N/A"}},null,null,null,null,null,null,null,{"$f":"VLOOKUP(L250,állásidő_kódok!$B:$D,3,0)","v":{"$error":"#N/A"}},null,null,null,null,null,null,null,{"$f":"VLOOKUP(T250,állásidő_kódok!$B:$D,3,0)","v":{"$error":"#N/A"}}]
[null,null,null,null,null,{"$f":"VLOOKUP(D251,állásidő_kódok!$B:$D,3,0)","v":{"$error":"#N/A"}},null,null,null,null,null,null,null,{"$f":"VLOOKUP(L251,állásidő_kódok!$B:$D,3,0)","v":{"$error":"#N/A"}},null,null,null,null,null,null,null,{"$f":"VLOOKUP(T251,állásidő_kódok!$B:$D,3,0)","v":{"$error":"#N/A"}}]
[null,null,null,null,null,{"$f":"VLOOKUP(D252,állásidő_kódok!$B:$D,3,0)","v":{"$error":"#N/A"}},null,null,null,null,null,null,null,{"$f":"VLOOKUP(L252,állásidő_kódok!$B:$D,3,0)","v":{"$error":"#N/A"}},null,null,null,null,null,null,null,{"$f":"VLOOKUP(T252,állásidő_kódok!$B:$D,3,0)","v":{"$error":"#N/A"}}]
[null,null,null,null,"Állásidők nélküli teljesítés:",{"$f":"((SUM(E243:E252)/445))+E225/E227","v":1},null,null,null,null,null,null,"Állásidők nélküli teljesítés:",{"$f":"((SUM(M243:M252)/445))+M225/M227","v":1.1004993757802746},null,null,null,null,null,null,"Állásidők nélküli teljesítés:",{"$f":"((SUM(U243:U252)/445))+U225/U227","v":1}]
[null,{"$f":"Alapadatok!C11","v":"Cella7"},null,null,null,null,null,null,null,{"$f":"B254","v":"Cella7"},null,null,null,null,null,null,null,{"$f":"B254","v":"Cella7"}]
[null,null,null,"Gyártott:",null,"db",null,null,null,null,null,"Gyártott:",null,"db",null,null,null,null,null,"Gyártott:",null,"db"]
[]
[null,null,null,"Elvárt darabszám:",0,"db",null,"Elvárt db/op:",0,null,null,"Elvárt darabszám:",0,"db",null,"Elvárt db/op:",0,null,null,"Elvárt darabszám:",0,"db",null,"Elvárt db/op:",0]
[null,null,null,"Szükséges létszám: ",0,"fő",null,null,null,null,null,"Szükséges létszám:",0,"fő",null,null,null,null,null,"Szükséges létszám:",0,"fő"]
[null,null,null,"Aktuális létszám:",0,"fő",null,"Aktuális db/op:",0,null,null,"Aktuális létszám:",0,"fő",null,"Aktuális db/op:",0,null,null,"Aktuális létszám:",0,"fő",null,"Aktuális db/op:",0]
[]
[null,null,null,"Operátor",null,"fő",null,null,null,null,null,"Operátor",null,"fő",null,null,null,null,null,"Operátor",null,"fő"]
[null,null,null,"Koordinátor",null,"fő",null,null,null,null,null,"Koordinátor",null,"fő",null,null,null,null,null,"Koordinátor",null,"fő"]
[null,null,null,"Beállító",null,"fő",null,null,null,null,null,"Beállító",null,"fő",null,null,null,null,null,"Beállító",null,"fő"]
[null,null,null,"QA, Service",null,"fő",null,null,null,null,null,"QA, Service",null,"fő",null,null,null,null,null,"QA, Service",null,"fő"]
[null,null,null,"Anyagszállító",null,"fő",null,null,null,null,null,"Anyagszállító",null,"fő",null,null,null,null,null,"Anyagszállító",null,"fő"]
[null,null,null,"Egyéb",null,"fő",null,null,null,null,null,"Egyéb",null,"fő",null,null,null,null,null,"Egyéb",null,"fő"]
[]
[null,null,null,"Backlog:",null,"sorok száma",null,null,null,null,null,"Backlog:",null,"sorok száma",null,null,null,null,null,"Backlog:",null,"sorok száma"]
[]
[null,null,null,"Backlog:",null,"összes darab",null,null,null,null,null,"Backlog:",null,"összes darab",null,null,null,null,null,"Backlog:",null,"összes darab"]
[]
[null,null,null,"Kód:","Időtartam","Állásidő megnevezése",null,null,null,null,null,"Kód:","Időtartam","Állásidő megnevezése",null,null,null,null,null,"Kód:","Időtartam","Állásidő megnevezése"]
[null,null,null,null,null,{"$f":"VLOOKUP(D273,állásidő_kódok!$B:$D,3,0)","v":{"$error":"#N/A"}},null,null,null,null,null,null,null,{"$f":"VLOOKUP(L273,állásidő_kódok!$B:$D,3,0)","v":{"$error":"#N/A"}},null,null,null,null,null,null,null,{"$f":"VLOOKUP(T273,állásidő_kódok!$B:$D,3,0)","v":{"$error":"#N/A"}}]
[null,null,null,null,null,{"$f":"VLOOKUP(D274,állásidő_kódok!$B:$D,3,0)","v":{"$error":"#N/A"}},null,null,null,null,null,null,null,{"$f":"VLOOKUP(L274,állásidő_kódok!$B:$D,3,0)","v":{"$error":"#N/A"}},null,null,null,null,null,null,null,{"$f":"VLOOKUP(T274,állásidő_kódok!$B:$D,3,0)","v":{"$error":"#N/A"}}]
[null,null,null,null,null,{"$f":"VLOOKUP(D275,állásidő_kódok!$B:$D,3,0)","v":{"$error":"#N/A"}},null,null,null,null,null,null,null,{"$f":"VLOOKUP(L275,állásidő_kódok!$B:$D,3,0)","v":{"$error":"#N/A"}},null,null,null,null,null,null,null,{"$f":"VLOOKUP(T275,állásidő_kódok!$B:$D,3,0)","v":{"$error":"#N/A"}}]
[null,null,null,null,null,{"$f":"VLOOKUP(D276,állásidő_kódok!$B:$D,3,0)","v":{"$error":"#N/A"}},null,null,null,null,null,null,null,{"$f":"VLOOKUP(L276,állásidő_kódok!$B:$D,3,0)","v":{"$error":"#N/A"}},null,null,null,null,null,null,null,{"$f":"VLOOKUP(T276,állásidő_kódok!$B:$D,3,0)","v":{"$error":"#N/A"}}]
[null,null,null,null,null,{"$f":"VLOOKUP(D277,állásidő_kódok!$B:$D,3,0)","v":{"$error":"#N/A"}},null,null,null,null,null,null,null,{"$f":"VLOOKUP(L277,állásidő_kódok!$B:$D,3,0)","v":{"$error":"#N/A"}},null,null,null,null,null,null,null,{"$f":"VLOOKUP(T277,állásidő_kódok!$B:$D,3,0)","v":{"$error":"#N/A"}}]
[null,null,null,null,null,{"$f":"VLOOKUP(D278,állásidő_kódok!$B:$D,3,0)","v":{"$error":"#N/A"}},null,null,null,null,null,null,null,{"$f":"VLOOKUP(L278,állásidő_kódok!$B:$D,3,0)","v":{"$error":"#N/A"}},null,null,null,null,null,null,null,{"$f":"VLOOKUP(T278,állásidő_kódok!$B:$D,3,0)","v":{"$error":"#N/A"}}]
[null,null,null,null,null,{"$f":"VLOOKUP(D279,állásidő_kódok!$B:$D,3,0)","v":{"$error":"#N/A"}},null,null,null,null,null,null,null,{"$f":"VLOOKUP(L279,állásidő_kódok!$B:$D,3,0)","v":{"$error":"#N/A"}},null,null,null,null,null,null,null,{"$f":"VLOOKUP(T279,állásidő_kódok!$B:$D,3,0)","v":{"$error":"#N/A"}}]
[null,null,null,null,null,{"$f":"VLOOKUP(D280,állásidő_kódok!$B:$D,3,0)","v":{"$error":"#N/A"}},null,null,null,null,null,null,null,{"$f":"VLOOKUP(L280,állásidő_kódok!$B:$D,3,0)","v":{"$error":"#N/A"}},null,null,null,null,null,null,null,{"$f":"VLOOKUP(T280,állásidő_kódok!$B:$D,3,0)","v":{"$error":"#N/A"}}]
[null,null,null,null,null,{"$f":"VLOOKUP(D281,állásidő_kódok!$B:$D,3,0)","v":{"$error":"#N/A"}},null,null,null,null,null,null,null,{"$f":"VLOOKUP(L281,állásidő_kódok!$B:$D,3,0)","v":{"$error":"#N/A"}},null,null,null,null,null,null,null,{"$f":"VLOOKUP(T281,állásidő_kódok!$B:$D,3,0)","v":{"$error":"#N/A"}}]
[null,null,null,null,null,{"$f":"VLOOKUP(D282,állásidő_kódok!$B:$D,3,0)","v":{"$error":"#N/A"}},null,null,null,null,null,null,null,{"$f":"VLOOKUP(L282,állásidő_kódok!$B:$D,3,0)","v":{"$error":"#N/A"}},null,null,null,null,null,null,null,{"$f":"VLOOKUP(T282,állásidő_kódok!$B:$D,3,0)","v":{"$error":"#N/A"}}]
[null,null,null,null,"Állásidők nélküli teljesítés:",{"$f":"((SUM(E273:E282)/445))+E255/E257","v":{"$error":"#DIV/0!"}},null,null,null,null,null,null,"Állásidők nélküli teljesítés:",{"$f":"((SUM(M273:M282)/445))+M255/M257","v":{"$error":"#DIV/0!"}},null,null,null,null,null,null,"Állásidők nélküli teljesítés:",{"$f":"((SUM(U273:U282)/445))+U255/U257","v":{"$error":"#DIV/0!"}}]
[null,{"$f":"Alapadatok!C12","v":"Cella8"},null,null,null,null,null,null,null,{"$f":"B284","v":"Cella8"},null,null,null,null,null,null,null,{"$f":"B284","v":"Cella8"}]
[null,null,null,"Gyártott:",null,"db",null,null,null,null,null,"Gyártott:",null,"db",null,null,null,null,null,"Gyártott:",null,"db"]
[]
[null,null,null,"Elvárt darabszám:",0,"db",null,"Elvárt db/op:",0,null,null,"Elvárt darabszám:",0,"db",null,"Elvárt db/op:",0,null,null,"Elvárt darabszám:",0,"db",null,"Elvárt db/op:",0]
[null,null,null,"Szükséges létszám: ",0,"fő",null,null,null,null,null,"Szükséges létszám:",0,"fő",null,null,null,null,null,"Szükséges létszám:",0,"fő"]
[null,null,null,"Aktuális létszám:",0,"fő",null,"Aktuális db/op:",0,null,null,"Aktuális létszám:",0,"fő",null,"Aktuális db/op:",0,null,null,"Aktuális létszám:",0,"fő",null,"Aktuális db/op:",0]
[]
[null,null,null,"Operátor",null,"fő",null,null,null,null,null,"Operátor",null,"fő",null,null,null,null,null,"Operátor",null,"fő"]
[null,null,null,"Koordinátor",null,"fő",null,null,null,null,null,"Koordinátor",null,"fő",null,null,null,null,null,"Koordinátor",null,"fő"]
[null,null,null,"Beállító",null,"fő",null,null,null,null,null,"Beállító",null,"fő",null,null,null,null,null,"Beállító",null,"fő"]
[null,null,null,"QA, Service",null,"fő",null,null,null,null,null,"QA, Service",null,"fő",null,null,null,null,null,"QA, Service",null,"fő"]
[null,null,null,"Anyagszállító",null,"fő",null,null,null,null,null,"Anyagszállító",null,"fő",null,null,null,null,null,"Anyagszállító",null,"fő"]
[null,null,null,"Egyéb",null,"fő",null,null,null,null,null,"Egyéb",null,"fő",null,null,null,null,null,"Egyéb",null,"fő"]
[]
[null,null,null,"Backlog:",null,"sorok száma",null,null,null,null,null,"Backlog:",null,"sorok száma",null,null,null,null,null,"Backlog:",null,"sorok száma"]
[]
[null,null,null,"Backlog:",null,"összes darab",null,null,null,null,null,"Backlog:",null,"összes darab",null,null,null,null,null,"Backlog:",null,"összes darab"]
[]
[null,null,null,"Kód:","Időtartam","Állásidő megnevezése",null,null,null,null,null,"Kód:","Időtartam","Állásidő megnevezése",null,null,null,null,null,"Kód:","Időtartam","Állásidő megnevezése"]
[null,null,null,null,null,{"$f":"VLOOKUP(D303,állásidő_kódok!$B:$D,3,0)","v":{"$error":"#N/A"}},null,null,null,null,null,null,null,{"$f":"VLOOKUP(L303,állásidő_kódok!$B:$D,3,0)","v":{"$error":"#N/A"}},null,null,null,null,null,null,null,{"$f":"VLOOKUP(T303,állásidő_kódok!$B:$D,3,0)","v":{"$error":"#N/A"}}]
[null,null,null,null,null,{"$f":"VLOOKUP(D304,állásidő_kódok!$B:$D,3,0)","v":{"$error":"#N/A"}},null,null,null,null,null,null,null,{"$f":"VLOOKUP(L304,állásidő_kódok!$B:$D,3,0)","v":{"$error":"#N/A"}},null,null,null,null,null,null,null,{"$f":"VLOOKUP(T304,állásidő_kódok!$B:$D,3,0)","v":{"$error":"#N/A"}}]
[null,null,null,null,null,{"$f":"VLOOKUP(D305,állásidő_kódok!$B:$D,3,0)","v":{"$error":"#N/A"}},null,null,null,null,null,null,null,{"$f":"VLOOKUP(L305,állásidő_kódok!$B:$D,3,0)","v":{"$error":"#N/A"}},null,null,null,null,null,null,null,{"$f":"VLOOKUP(T305,állásidő_kódok!$B:$D,3,0)","v":{"$error":"#N/A"}}]
[null,null,null,null,null,{"$f":"VLOOKUP(D306,állásidő_kódok!$B:$D,3,0)","v":{"$error":"#N/A"}},null,null,null,null,null,null,null,{"$f":"VLOOKUP(L306,állásidő_kódok!$B:$D,3,0)","v":{"$error":"#N/A"}},null,null,null,null,null,null,null,{"$f":"VLOOKUP(T306,állásidő_kódok!$B:$D,3,0)","v":{"$error":"#N/A"}}]
[null,null,null,null,null,{"$f":"VLOOKUP(D307,állásidő_kódok!$B:$D,3,0)","v":{"$error":"#N/A"}},null,null,null,null,null,null,null,{"$f":"VLOOKUP(L307,állásidő_kódok!$B:$D,3,0)","v":{"$error":"#N/A"}},null,null,null,null,null,null,null,{"$f":"VLOOKUP(T307,állásidő_kódok!$B:$D,3,0)","v":{"$error":"#N/A"}}]
[null,null,null,null,null,{"$f":"VLOOKUP(D308,állásidő_kódok!$B:$D,3,0)","v":{"$error":"#N/A"}},null,null,null,null,null,null,null,{"$f":"VLOOKUP(L308,állásidő_kódok!$B:$D,3,0)","v":{"$error":"#N/A"}},null,null,null,null,null,null,null,{"$f":"VLOOKUP(T308,állásidő_kódok!$B:$D,3,0)","v":{"$error":"#N/A"}}]
[null,null,null,null,null,{"$f":"VLOOKUP(D309,állásidő_kódok!$B:$D,3,0)","v":{"$error":"#N/A"}},null,null,null,null,null,null,null,{"$f":"VLOOKUP(L309,állásidő_kódok!$B:$D,3,0)","v":{"$error":"#N/A"}},null,null,null,null,null,null,null,{"$f":"VLOOKUP(T309,állásidő_kódok!$B:$D,3,0)","v":{"$error":"#N/A"}}]
[null,null,null,null,null,{"$f":"VLOOKUP(D310,állásidő_kódok!$B:$D,3,0)","v":{"$error":"#N/A"}},null,null,null,null,null,null,null,{"$f":"VLOOKUP(L310,állásidő_kódok!$B:$D,3,0)","v":{"$error":"#N/A"}},null,null,null,null,null,null,null,{"$f":"VLOOKUP(T310,állásidő_kódok!$B:$D,3,0)","v":{"$error":"#N/A"}}]
[null,null,null,null,null,{"$f":"VLOOKUP(D311,állásidő_kódok!$B:$D,3,0)","v":{"$error":"#N/A"}},null,null,null,null,null,null,null,{"$f":"VLOOKUP(L311,állásidő_kódok!$B:$D,3,0)","v":{"$error":"#N/A"}},null,null,null,null,null,null,null,{"$f":"VLOOKUP(T311,állásidő_kódok!$B:$D,3,0)","v":{"$error":"#N/A"}}]
[null,null,null,null,null,{"$f":"VLOOKUP(D312,állásidő_kódok!$B:$D,3,0)","v":{"$error":"#N/A"}},null,null,null,null,null,null,null,{"$f":"VLOOKUP(L312,állásidő_kódok!$B:$D,3,0)","v":{"$error":"#N/A"}},null,null,null,null,null,null,null,{"$f":"VLOOKUP(T312,állásidő_kódok!$B:$D,3,0)","v":{"$error":"#N/A"}}]
[null,null,null,null,"Állásidők nélküli teljesítés:",{"$f":"((SUM(E303:E312)/445))+E285/E287","v":{"$error":"#DIV/0!"}},null,null,null,null,null,null,"Állásidők nélküli teljesítés:",{"$f":"((SUM(M303:M312)/445))+M285/M287","v":{"$error":"#DIV/0!"}},null,null,null,null,null,null,"Állásidők nélküli teljesítés:",{"$f":"((SUM(U303:U312)/445))+U285/U287","v":{"$error":"#DIV/0!"}}]
[null,{"$f":"Alapadatok!C13","v":"Cella9"},null,null,null,null,null,null,null,{"$f":"B314","v":"Cella9"},null,null,null,null,null,null,null,{"$f":"B314","v":"Cella9"}]
[null,null,null,"Gyártott:",null,"db",null,null,null,null,null,"Gyártott:",null,"db",null,null,null,null,null,"Gyártott:",null,"db"]
[]
[null,null,null,"Elvárt darabszám:",0,"db",null,"Elvárt db/op:",0,null,null,"Elvárt darabszám:",0,"db",null,"Elvárt db/op:",0,null,null,"Elvárt darabszám:",0,"db",null,"Elvárt db/op:",0]
[null,null,null,"Szükséges létszám: ",0,"fő",null,null,null,null,null,"Szükséges létszám:",0,"fő",null,null,null,null,null,"Szükséges létszám:",0,"fő"]
[null,null,null,"Aktuális létszám:",0,"fő",null,"Aktuális db/op:",0,null,null,"Aktuális létszám:",0,"fő",null,"Aktuális db/op:",0,null,null,"Aktuális létszám:",0,"fő",null,"Aktuális db/op:",0]
[]
[null,null,null,"Operátor",null,"fő",null,null,null,null,null,"Operátor",null,"fő",null,null,null,null,null,"Operátor",null,"fő"]
[null,null,null,"Koordinátor",null,"fő",null,null,null,null,null,"Koordinátor",null,"fő",null,null,null,null,null,"Koordinátor",null,"fő"]
[null,null,null,"Beállító",null,"fő",null,null,null,null,null,"Beállító",null,"fő",null,null,null,null,null,"Beállító",null,"fő"]
[null,null,null,"QA, Service",null,"fő",null,null,null,null,null,"QA, Service",null,"fő",null,null,null,null,null,"QA, Service",null,"fő"]
[null,null,null,"Anyagszállító",null,"fő",null,null,null,null,null,"Anyagszállító",null,"fő",null,null,null,null,null,"Anyagszállító",null,"fő"]
[null,null,null,"Egyéb",null,"fő",null,null,null,null,null,"Egyéb",null,"fő",null,null,null,null,null,"Egyéb",null,"fő"]
[]
[null,null,null,"Backlog:",null,"sorok száma",null,null,null,null,null,"Backlog:",null,"sorok száma",null,null,null,null,null,"Backlog:",null,"sorok száma"]
[]
[null,null,null,"Backlog:",null,"összes darab",null,null,null,null,null,"Backlog:",null,"összes darab",null,null,null,null,null,"Backlog:",null,"összes darab"]
[]
[null,null,null,"Kód:","Időtartam","Állásidő megnevezése",null,null,null,null,null,"Kód:","Időtartam","Állásidő megnevezése",null,null,null,null,null,"Kód:","Időtartam","Állásidő megnevezése"]
[null,null,null,null,null,{"$f":"VLOOKUP(D333,állásidő_kódok!$B:$D,3,0)","v":{"$error":"#N/A"}},null,null,null,null,null,null,null,{"$f":"VLOOKUP(L333,állásidő_kódok!$B:$D,3,0)","v":{"$error":"#N/A"}},null,null,null,null,null,null,null,{"$f":"VLOOKUP(T333,állásidő_kódok!$B:$D,3,0)","v":{"$error":"#N/A"}}]
[null,null,null,null,null,{"$f":"VLOOKUP(D334,állásidő_kódok!$B:$D,3,0)","v":{"$error":"#N/A"}},null,null,null,null,null,null,null,{"$f":"VLOOKUP(L334,állásidő_kódok!$B:$D,3,0)","v":{"$error":"#N/A"}},null,null,null,null,null,null,null,{"$f":"VLOOKUP(T334,állásidő_kódok!$B:$D,3,0)","v":{"$error":"#N/A"}}]
[null,null,null,null,null,{"$f":"VLOOKUP(D335,állásidő_kódok!$B:$D,3,0)","v":{"$error":"#N/A"}},null,null,null,null,null,null,null,{"$f":"VLOOKUP(L335,állásidő_kódok!$B:$D,3,0)","v":{"$error":"#N/A"}},null,null,null,null,null,null,null,{"$f":"VLOOKUP(T335,állásidő_kódok!$B:$D,3,0)","v":{"$error":"#N/A"}}]
[null,null,null,null,null,{"$f":"VLOOKUP(D336,állásidő_kódok!$B:$D,3,0)","v":{"$error":"#N/A"}},null,null,null,null,null,null,null,{"$f":"VLOOKUP(L336,állásidő_kódok!$B:$D,3,0)","v":{"$error":"#N/A"}},null,null,null,null,null,null,null,{"$f":"VLOOKUP(T336,állásidő_kódok!$B:$D,3,0)","v":{"$error":"#N/A"}}]
[null,null,null,null,null,{"$f":"VLOOKUP(D337,állásidő_kódok!$B:$D,3,0)","v":{"$error":"#N/A"}},null,null,null,null,null,null,null,{"$f":"VLOOKUP(L337,állásidő_kódok!$B:$D,3,0)","v":{"$error":"#N/A"}},null,null,null,null,null,null,null,{"$f":"VLOOKUP(T337,állásidő_kódok!$B:$D,3,0)","v":{"$error":"#N/A"}}]
[null,null,null,null,null,{"$f":"VLOOKUP(D338,állásidő_kódok!$B:$D,3,0)","v":{"$error":"#N/A"}},null,null,null,null,null,null,null,{"$f":"VLOOKUP(L338,állásidő_kódok!$B:$D,3,0)","v":{"$error":"#N/A"}},null,null,null,null,null,null,null,{"$f":"VLOOKUP(T338,állásidő_kódok!$B:$D,3,0)","v":{"$error":"#N/A"}}]
[null,null,null,null,null,{"$f":"VLOOKUP(D339,állásidő_kódok!$B:$D,3,0)","v":{"$error":"#N/A"}},null,null,null,null,null,null,null,{"$f":"VLOOKUP(L339,állásidő_kódok!$B:$D,3,0)","v":{"$error":"#N/A"}},null,null,null,null,null,null,null,{"$f":"VLOOKUP(T339,állásidő_kódok!$B:$D,3,0)","v":{"$error":"#N/A"}}]
[null,null,null,null,null,{"$f":"VLOOKUP(D340,állásidő_kódok!$B:$D,3,0)","v":{"$error":"#N/A"}},null,null,null,null,null,null,null,{"$f":"VLOOKUP(L340,állásidő_kódok!$B:$D,3,0)","v":{"$error":"#N/A"}},null,null,null,null,null,null,null,{"$f":"VLOOKUP(T340,állásidő_kódok!$B:$D,3,0)","v":{"$error":"#N/A"}}]
[null,null,null,null,null,{"$f":"VLOOKUP(D341,állásidő_kódok!$B:$D,3,0)","v":{"$error":"#N/A"}},null,null,null,null,null,null,null,{"$f":"VLOOKUP(L341,állásidő_kódok!$B:$D,3,0)","v":{"$error":"#N/A"}},null,null,null,null,null,null,null,{"$f":"VLOOKUP(T341,állásidő_kódok!$B:$D,3,0)","v":{"$error":"#N/A"}}]
[null,null,null,null,null,{"$f":"VLOOKUP(D342,állásidő_kódok!$B:$D,3,0)","v":{"$error":"#N/A"}},null,null,null,null,null,null,null,{"$f":"VLOOKUP(L342,állásidő_kódok!$B:$D,3,0)","v":{"$error":"#N/A"}},null,null,null,null,null,null,null,{"$f":"VLOOKUP(T342,állásidő_kódok!$B:$D,3,0)","v":{"$error":"#N/A"}}]
[null,null,null,null,"Állásidők nélküli teljesítés:",{"$f":"((SUM(E333:E342)/445))+E315/E317","v":{"$error":"#DIV/0!"}},null,null,null,null,null,null,"Állásidők nélküli teljesítés:",{"$f":"((SUM(M333:M342)/445))+M315/M317","v":{"$error":"#DIV/0!"}},null,null,null,null,null,null,"Állásidők nélküli teljesítés:",{"$f":"((SUM(U333:U342)/445))+U315/U317","v":{"$error":"#DIV/0!"}}]
[null,{"$f":"Alapadatok!C14","v":"Cella10"},null,null,null,null,null,null,null,{"$f":"B344","v":"Cella10"},null,null,null,null,null,null,null,{"$f":"B344","v":"Cella10"}]
[null,null,null,"Gyártott:",null,"db",null,null,null,null,null,"Gyártott:",null,"db",null,null,null,null,null,"Gyártott:",null,"db"]
[]
[null,null,null,"Elvárt darabszám:",0,"db",null,"Elvárt db/op:",0,null,null,"Elvárt darabszám:",0,"db",null,"Elvárt db/op:",0,null,null,"Elvárt darabszám:",0,"db",null,"Elvárt db/op:",0]
[null,null,null,"Szükséges létszám: ",0,"fő",null,null,null,null,null,"Szükséges létszám:",0,"fő",null,null,null,null,null,"Szükséges létszám:",0,"fő"]
[null,null,null,"Aktuális létszám:",0,"fő",null,"Aktuális db/op:",0,null,null,"Aktuális létszám:",0,"fő",null,"Aktuális db/op:",0,null,null,"Aktuális létszám:",0,"fő",null,"Aktuális db/op:",0]
[]
[null,null,null,"Operátor",null,"fő",null,null,null,null,null,"Operátor",null,"fő",null,null,null,null,null,"Operátor",null,"fő"]
[null,null,null,"Koordinátor",null,"fő",null,null,null,null,null,"Koordinátor",null,"fő",null,null,null,null,null,"Koordinátor",null,"fő"]
[null,null,null,"Beállító",null,"fő",null,null,null,null,null,"Beállító",null,"fő",null,null,null,null,null,"Beállító",null,"fő"]
[null,null,null,"QA, Service",null,"fő",null,null,null,null,null,"QA, Service",null,"fő",null,null,null,null,null,"QA, Service",null,"fő"]
[null,null,null,"Anyagszállító",null,"fő",null,null,null,null,null,"Anyagszállító",null,"fő",null,null,null,null,null,"Anyagszállító",null,"fő"]
[null,null,null,"Egyéb",null,"fő",null,null,null,null,null,"Egyéb",null,"fő",null,null,null,null,null,"Egyéb",null,"fő"]
[]
[null,null,null,"Backlog:",null,"sorok száma",null,null,null,null,null,"Backlog:",null,"sorok száma",null,null,null,null,null,"Backlog:",null,"sorok száma"]
[]
[null,null,null,"Backlog:",null,"összes darab",null,null,null,null,null,"Backlog:",null,"összes darab",null,null,null,null,null,"Backlog:",null,"összes darab"]
[]
[null,null,null,"Kód:","Időtartam","Állásidő megnevezése",null,null,null,null,null,"Kód:","Időtartam","Állásidő megnevezése",null,null,null,null,null,"Kód:","Időtartam","Állásidő megnevezése"]
[null,null,null,null,null,{"$f":"VLOOKUP(D363,állásidő_kódok!$B:$D,3,0)","v":{"$error":"#N/A"}},null,null,null,null,null,null,null,{"$f":"VLOOKUP(L363,állásidő_kódok!$B:$D,3,0)","v":{"$error":"#N/A"}},null,null,null,null,null,null,null,{"$f":"VLOOKUP(T363,állásidő_kódok!$B:$D,3,0)","v":{"$error":"#N/A"}}]
[null,null,null,null,null,{"$f":"VLOOKUP(D364,állásidő_kódok!$B:$D,3,0)","v":{"$error":"#N/A"}},null,null,null,null,null,null,null,{"$f":"VLOOKUP(L364,állásidő_kódok!$B:$D,3,0)","v":{"$error":"#N/A"}},null,null,null,null,null,null,null,{"$f":"VLOOKUP(T364,állásidő_kódok!$B:$D,3,0)","v":{"$error":"#N/A"}}]
[null,null,null,null,null,{"$f":"VLOOKUP(D365,állásidő_kódok!$B:$D,3,0)","v":{"$error":"#N/A"}},null,null,null,null,null,null,null,{"$f":"VLOOKUP(L365,állásidő_kódok!$B:$D,3,0)","v":{"$error":"#N/A"}},null,null,null,null,null,null,null,{"$f":"VLOOKUP(T365,állásidő_kódok!$B:$D,3,0)","v":{"$error":"#N/A"}}]
[null,null,null,null,null,{"$f":"VLOOKUP(D366,állásidő_kódok!$B:$D,3,0)","v":{"$error":"#N/A"}},null,null,null,null,null,null,null,{"$f":"VLOOKUP(L366,állásidő_kódok!$B:$D,3,0)","v":{"$error":"#N/A"}},null,null,null,null,null,null,null,{"$f":"VLOOKUP(T366,állásidő_kódok!$B:$D,3,0)","v":{"$error":"#N/A"}}]
[null,null,null,null,null,{"$f":"VLOOKUP(D367,állásidő_kódok!$B:$D,3,0)","v":{"$error":"#N/A"}},null,null,null,null,null,null,null,{"$f":"VLOOKUP(L367,állásidő_kódok!$B:$D,3,0)","v":{"$error":"#N/A"}},null,null,null,null,null,null,null,{"$f":"VLOOKUP(T367,állásidő_kódok!$B:$D,3,0)","v":{"$error":"#N/A"}}]
[null,null,null,null,null,{"$f":"VLOOKUP(D368,állásidő_kódok!$B:$D,3,0)","v":{"$error":"#N/A"}},null,null,null,null,null,null,null,{"$f":"VLOOKUP(L368,állásidő_kódok!$B:$D,3,0)","v":{"$error":"#N/A"}},null,null,null,null,null,null,null,{"$f":"VLOOKUP(T368,állásidő_kódok!$B:$D,3,0)","v":{"$error":"#N/A"}}]
[null,null,null,null,null,{"$f":"VLOOKUP(D369,állásidő_kódok!$B:$D,3,0)","v":{"$error":"#N/A"}},null,null,null,null,null,null,null,{"$f":"VLOOKUP(L369,állásidő_kódok!$B:$D,3,0)","v":{"$error":"#N/A"}},null,null,null,null,null,null,null,{"$f":"VLOOKUP(T369,állásidő_kódok!$B:$D,3,0)","v":{"$error":"#N/A"}}]
[null,null,null,null,null,{"$f":"VLOOKUP(D370,állásidő_kódok!$B:$D,3,0)","v":{"$error":"#N/A"}},null,null,null,null,null,null,null,{"$f":"VLOOKUP(L370,állásidő_kódok!$B:$D,3,0)","v":{"$error":"#N/A"}},null,null,null,null,null,null,null,{"$f":"VLOOKUP(T370,állásidő_kódok!$B:$D,3,0)","v":{"$error":"#N/A"}}]
[null,null,null,null,null,{"$f":"VLOOKUP(D371,állásidő_kódok!$B:$D,3,0)","v":{"$error":"#N/A"}},null,null,null,null,null,null,null,{"$f":"VLOOKUP(L371,állásidő_kódok!$B:$D,3,0)","v":{"$error":"#N/A"}},null,null,null,null,null,null,null,{"$f":"VLOOKUP(T371,állásidő_kódok!$B:$D,3,0)","v":{"$error":"#N/A"}}]
[null,null,null,null,null,{"$f":"VLOOKUP(D372,állásidő_kódok!$B:$D,3,0)","v":{"$error":"#N/A"}},null,null,null,null,null,null,null,{"$f":"VLOOKUP(L372,állásidő_kódok!$B:$D,3,0)","v":{"$error":"#N/A"}},null,null,null,null,null,null,null,{"$f":"VLOOKUP(T372,állásidő_kódok!$B:$D,3,0)","v":{"$error":"#N/A"}}]
[null,null,null,null,"Állásidők nélküli teljesítés:",{"$f":"((SUM(E363:E372)/445))+E345/E347","v":{"$error":"#DIV/0!"}},null,null,null,null,null,null,"Állásidők nélküli teljesítés:",{"$f":"((SUM(M363:M372)/445))+M345/M347","v":{"$error":"#DIV/0!"}},null,null,null,null,null,null,"Állásidők nélküli teljesítés:",{"$f":"((SUM(U363:U372)/445))+U345/U347","v":{"$error":"#DIV/0!"}}]
[null,{"$f":"Alapadatok!C15","v":"Cella11"},null,null,null,null,null,null,null,{"$f":"B374","v":"Cella11"},null,null,null,null,null,null,null,{"$f":"B374","v":"Cella11"}]
[null,null,null,"Gyártott:",null,"db",null,null,null,null,null,"Gyártott:",null,"db",null,null,null,null,null,"Gyártott:",null,"db"]
[]
[null,null,null,"Elvárt darabszám:",0,"db",null,"Elvárt db/op:",0,null,null,"Elvárt darabszám:",0,"db",null,"Elvárt db/op:",0,null,null,"Elvárt darabszám:",0,"db",null,"Elvárt db/op:",0]
[null,null,null,"Szükséges létszám: ",0,"fő",null,null,null,null,null,"Szükséges létszám:",0,"fő",null,null,null,null,null,"Szükséges létszám:",0,"fő"]
[null,null,null,"Aktuális létszám:",0,"fő",null,"Aktuális db/op:",0,null,null,"Aktuális létszám:",0,"fő",null,"Aktuális db/op:",0,null,null,"Aktuális létszám:",0,"fő",null,"Aktuális db/op:",0]
[]
[null,null,null,"Operátor",null,"fő",null,null,null,null,null,"Operátor",null,"fő",null,null,null,null,null,"Operátor",null,"fő"]
[null,null,null,"Koordinátor",null,"fő",null,null,null,null,null,"Koordinátor",null,"fő",null,null,null,null,null,"Koordinátor",null,"fő"]
[null,null,null,"Beállító",null,"fő",null,null,null,null,null,"Beállító",null,"fő",null,null,null,null,null,"Beállító",null,"fő"]
[null,null,null,"QA, Service",null,"fő",null,null,null,null,null,"QA, Service",null,"fő",null,null,null,null,null,"QA, Service",null,"fő"]
[null,null,null,"Anyagszállító",null,"fő",null,null,null,null,null,"Anyagszállító",null,"fő",null,null,null,null,null,"Anyagszállító",null,"fő"]
[null,null,null,"Egyéb",null,"fő",null,null,null,null,null,"Egyéb",null,"fő",null,null,null,null,null,"Egyéb",null,"fő"]
[]
[null,null,null,"Backlog:",null,"sorok száma",null,null,null,null,null,"Backlog:",null,"sorok száma",null,null,null,null,null,"Backlog:",null,"sorok száma"]
[]
[null,null,null,"Backlog:",null,"összes darab",null,null,null,null,null,"Backlog:",null,"összes darab",null,null,null,null,null,"Backlog:",null,"összes darab"]
[]
[null,null,null,"Kód:","Időtartam","Állásidő megnevezése",null,null,null,null,null,"Kód:","Időtartam","Állásidő megnevezése",null,null,null,null,null,"Kód:","Időtartam","Állásidő megnevezése"]
[null,null,null,null,null,{"$f":"VLOOKUP(D393,állásidő_kódok!$B:$D,3,0)","v":{"$error":"#N/A"}},null,null,null,null,null,null,null,{"$f":"VLOOKUP(L393,állásidő_kódok!$B:$D,3,0)","v":{"$error":"#N/A"}},null,null,null,null,null,null,null,{"$f":"VLOOKUP(T393,állásidő_kódok!$B:$D,3,0)","v":{"$error":"#N/A"}}]
[null,null,null,null,null,{"$f":"VLOOKUP(D394,állásidő_kódok!$B:$D,3,0)","v":{"$error":"#N/A"}},null,null,null,null,null,null,null,{"$f":"VLOOKUP(L394,állásidő_kódok!$B:$D,3,0)","v":{"$error":"#N/A"}},null,null,null,null,null,null,null,{"$f":"VLOOKUP(T394,állásidő_kódok!$B:$D,3,0)","v":{"$error":"#N/A"}}]
[null,null,null,null,null,{"$f":"VLOOKUP(D395,állásidő_kódok!$B:$D,3,0)","v":{"$error":"#N/A"}},null,null,null,null,null,null,null,{"$f":"VLOOKUP(L395,állásidő_kódok!$B:$D,3,0)","v":{"$error":"#N/A"}},null,null,null,null,null,null,null,{"$f":"VLOOKUP(T395,állásidő_kódok!$B:$D,3,0)","v":{"$error":"#N/A"}}]
[null,null,null,null,null,{"$f":"VLOOKUP(D396,állásidő_kódok!$B:$D,3,0)","v":{"$error":"#N/A"}},null,null,null,null,null,null,null,{"$f":"VLOOKUP(L396,állásidő_kódok!$B:$D,3,0)","v":{"$error":"#N/A"}},null,null,null,null,null,null,null,{"$f":"VLOOKUP(T396,állásidő_kódok!$B:$D,3,0)","v":{"$error":"#N/A"}}]
[null,null,null,null,null,{"$f":"VLOOKUP(D397,állásidő_kódok!$B:$D,3,0)","v":{"$error":"#N/A"}},null,null,null,null,null,null,null,{"$f":"VLOOKUP(L397,állásidő_kódok!$B:$D,3,0)","v":{"$error":"#N/A"}},null,null,null,null,null,null,null,{"$f":"VLOOKUP(T397,állásidő_kódok!$B:$D,3,0)","v":{"$error":"#N/A"}}]
[null,null,null,null,null,{"$f":"VLOOKUP(D398,állásidő_kódok!$B:$D,3,0)","v":{"$error":"#N/A"}},null,null,null,null,null,null,null,{"$f":"VLOOKUP(L398,állásidő_kódok!$B:$D,3,0)","v":{"$error":"#N/A"}},null,null,null,null,null,null,null,{"$f":"VLOOKUP(T398,állásidő_kódok!$B:$D,3,0)","v":{"$error":"#N/A"}}]
[null,null,null,null,null,{"$f":"VLOOKUP(D399,állásidő_kódok!$B:$D,3,0)","v":{"$error":"#N/A"}},null,null,null,null,null,null,null,{"$f":"VLOOKUP(L399,állásidő_kódok!$B:$D,3,0)","v":{"$error":"#N/A"}},null,null,null,null,null,null,null,{"$f":"VLOOKUP(T399,állásidő_kódok!$B:$D,3,0)","v":{"$error":"#N/A"}}]
[null,null,null,null,null,{"$f":"VLOOKUP(D400,állásidő_kódok!$B:$D,3,0)","v":{"$error":"#N/A"}},null,null,null,null,null,null,null,{"$f":"VLOOKUP(L400,állásidő_kódok!$B:$D,3,0)","v":{"$error":"#N/A"}},null,null,null,null,null,null,null,{"$f":"VLOOKUP(T400,állásidő_kódok!$B:$D,3,0)","v":{"$error":"#N/A"}}]
[null,null,null,null,null,{"$f":"VLOOKUP(D401,állásidő_kódok!$B:$D,3,0)","v":{"$error":"#N/A"}},null,null,null,null,null,null,null,{"$f":"VLOOKUP(L401,állásidő_kódok!$B:$D,3,0)","v":{"$error":"#N/A"}},null,null,null,null,null,null,null,{"$f":"VLOOKUP(T401,állásidő_kódok!$B:$D,3,0)","v":{"$error":"#N/A"}}]
[null,null,null,null,null,{"$f":"VLOOKUP(D402,állásidő_kódok!$B:$D,3,0)","v":{"$error":"#N/A"}},null,null,null,null,null,null,null,{"$f":"VLOOKUP(L402,állásidő_kódok!$B:$D,3,0)","v":{"$error":"#N/A"}},null,null,null,null,null,null,null,{"$f":"VLOOKUP(T402,állásidő_kódok!$B:$D,3,0)","v":{"$error":"#N/A"}}]
[null,null,null,null,"Állásidők nélküli teljesítés:",{"$f":"((SUM(E393:E402)/445))+E375/E377","v":{"$error":"#DIV/0!"}},null,null,null,null,null,null,"Állásidők nélküli teljesítés:",{"$f":"((SUM(M393:M402)/445))+M375/M377","v":{"$error":"#DIV/0!"}},null,null,null,null,null,null,"Állásidők nélküli teljesítés:",{"$f":"((SUM(U393:U402)/445))+U375/U377","v":{"$error":"#DIV/0!"}}]
[null,{"$f":"Alapadatok!C16","v":"Cella12"},null,null,null,null,null,null,null,{"$f":"B404","v":"Cella12"},null,null,null,null,null,null,null,{"$f":"B404","v":"Cella12"}]
[null,null,null,"Gyártott:",null,"db",null,null,null,null,null,"Gyártott:",null,"db",null,null,null,null,null,"Gyártott:",null,"db"]
[]
[null,null,null,"Elvárt darabszám:",0,"db",null,"Elvárt db/op:",0,null,null,"Elvárt darabszám:",0,"db",null,"Elvárt db/op:",0,null,null,"Elvárt darabszám:",0,"db",null,"Elvárt db/op:",0]
[null,null,null,"Szükséges létszám: ",0,"fő",null,null,null,null,null,"Szükséges létszám:",0,"fő",null,null,null,null,null,"Szükséges létszám:",0,"fő"]
[null,null,null,"Aktuális létszám:",0,"fő",null,"Aktuális db/op:",0,null,null,"Aktuális létszám:",0,"fő",null,"Aktuális db/op:",0,null,null,"Aktuális létszám:",0,"fő",null,"Aktuális db/op:",0]
[]
[null,null,null,"Operátor",null,"fő",null,null,null,null,null,"Operátor",null,"fő",null,null,null,null,null,"Operátor",null,"fő"]
[null,null,null,"Koordinátor",null,"fő",null,null,null,null,null,"Koordinátor",null,"fő",null,null,null,null,null,"Koordinátor",null,"fő"]
[null,null,null,"Beállító",null,"fő",null,null,null,null,null,"Beállító",null,"fő",null,null,null,null,null,"Beállító",null,"fő"]
[null,null,null,"QA, Service",null,"fő",null,null,null,null,null,"QA, Service",null,"fő",null,null,null,null,null,"QA, Service",null,"fő"]
[null,null,null,"Anyagszállító",null,"fő",null,null,null,null,null,"Anyagszállító",null,"fő",null,null,null,null,null,"Anyagszállító",null,"fő"]
[null,null,null,"Egyéb",null,"fő",null,null,null,null,null,"Egyéb",null,"fő",null,null,null,null,null,"Egyéb",null,"fő"]
[]
[null,null,null,"Backlog:",null,"sorok száma",null,null,null,null,null,"Backlog:",null,"sorok száma",null,null,null,null,null,"Backlog:",null,"sorok száma"]
[]
[null,null,null,"Backlog:",null,"összes darab",null,null,null,null,null,"Backlog:",null,"összes darab",null,null,null,null,null,"Backlog:",null,"összes darab"]
[]
[null,null,null,"Kód:","Időtartam","Állásidő megnevezése",null,null,null,null,null,"Kód:","Időtartam","Állásidő megnevezése",null,null,null,null,null,"Kód:","Időtartam","Állásidő megnevezése"]
[null,null,null,null,null,{"$f":"VLOOKUP(D423,állásidő_kódok!$B:$D,3,0)","v":{"$error":"#N/A"}},null,null,null,null,null,null,null,{"$f":"VLOOKUP(L423,állásidő_kódok!$B:$D,3,0)","v":{"$error":"#N/A"}},null,null,null,null,null,null,null,{"$f":"VLOOKUP(T423,állásidő_kódok!$B:$D,3,0)","v":{"$error":"#N/A"}}]
[null,null,null,null,null,{"$f":"VLOOKUP(D424,állásidő_kódok!$B:$D,3,0)","v":{"$error":"#N/A"}},null,null,null,null,null,null,null,{"$f":"VLOOKUP(L424,állásidő_kódok!$B:$D,3,0)","v":{"$error":"#N/A"}},null,null,null,null,null,null,null,{"$f":"VLOOKUP(T424,állásidő_kódok!$B:$D,3,0)","v":{"$error":"#N/A"}}]
[null,null,null,null,null,{"$f":"VLOOKUP(D425,állásidő_kódok!$B:$D,3,0)","v":{"$error":"#N/A"}},null,null,null,null,null,null,null,{"$f":"VLOOKUP(L425,állásidő_kódok!$B:$D,3,0)","v":{"$error":"#N/A"}},null,null,null,null,null,null,null,{"$f":"VLOOKUP(T425,állásidő_kódok!$B:$D,3,0)","v":{"$error":"#N/A"}}]
[null,null,null,null,null,{"$f":"VLOOKUP(D426,állásidő_kódok!$B:$D,3,0)","v":{"$error":"#N/A"}},null,null,null,null,null,null,null,{"$f":"VLOOKUP(L426,állásidő_kódok!$B:$D,3,0)","v":{"$error":"#N/A"}},null,null,null,null,null,null,null,{"$f":"VLOOKUP(T426,állásidő_kódok!$B:$D,3,0)","v":{"$error":"#N/A"}}]
[null,null,null,null,null,{"$f":"VLOOKUP(D427,állásidő_kódok!$B:$D,3,0)","v":{"$error":"#N/A"}},null,null,null,null,null,null,null,{"$f":"VLOOKUP(L427,állásidő_kódok!$B:$D,3,0)","v":{"$error":"#N/A"}},null,null,null,null,null,null,null,{"$f":"VLOOKUP(T427,állásidő_kódok!$B:$D,3,0)","v":{"$error":"#N/A"}}]
[null,null,null,null,null,{"$f":"VLOOKUP(D428,állásidő_kódok!$B:$D,3,0)","v":{"$error":"#N/A"}},null,null,null,null,null,null,null,{"$f":"VLOOKUP(L428,állásidő_kódok!$B:$D,3,0)","v":{"$error":"#N/A"}},null,null,null,null,null,null,null,{"$f":"VLOOKUP(T428,állásidő_kódok!$B:$D,3,0)","v":{"$error":"#N/A"}}]
[null,null,null,null,null,{"$f":"VLOOKUP(D429,állásidő_kódok!$B:$D,3,0)","v":{"$error":"#N/A"}},null,null,null,null,null,null,null,{"$f":"VLOOKUP(L429,állásidő_kódok!$B:$D,3,0)","v":{"$error":"#N/A"}},null,null,null,null,null,null,null,{"$f":"VLOOKUP(T429,állásidő_kódok!$B:$D,3,0)","v":{"$error":"#N/A"}}]
[null,null,null,null,null,{"$f":"VLOOKUP(D430,állásidő_kódok!$B:$D,3,0)","v":{"$error":"#N/A"}},null,null,null,null,null,null,null,{"$f":"VLOOKUP(L430,állásidő_kódok!$B:$D,3,0)","v":{"$error":"#N/A"}},null,null,null,null,null,null,null,{"$f":"VLOOKUP(T430,állásidő_kódok!$B:$D,3,0)","v":{"$error":"#N/A"}}]
[null,null,null,null,null,{"$f":"VLOOKUP(D431,állásidő_kódok!$B:$D,3,0)","v":{"$error":"#N/A"}},null,null,null,null,null,null,null,{"$f":"VLOOKUP(L431,állásidő_kódok!$B:$D,3,0)","v":{"$error":"#N/A"}},null,null,null,null,null,null,null,{"$f":"VLOOKUP(T431,állásidő_kódok!$B:$D,3,0)","v":{"$error":"#N/A"}}]
[null,null,null,null,null,{"$f":"VLOOKUP(D432,állásidő_kódok!$B:$D,3,0)","v":{"$error":"#N/A"}},null,null,null,null,null,null,null,{"$f":"VLOOKUP(L432,állásidő_kódok!$B:$D,3,0)","v":{"$error":"#N/A"}},null,null,null,null,null,null,null,{"$f":"VLOOKUP(T432,állásidő_kódok!$B:$D,3,0)","v":{"$error":"#N/A"}}]
[null,null,null,null,"Állásidők nélküli teljesítés:",{"$f":"((SUM(E423:E432)/445))+E405/E407","v":{"$error":"#DIV/0!"}},null,null,null,null,null,null,"Állásidők nélküli teljesítés:",{"$f":"((SUM(M423:M432)/445))+M405/M407","v":{"$error":"#DIV/0!"}},null,null,null,null,null,null,"Állásidők nélküli teljesítés:",{"$f":"((SUM(U423:U432)/445))+U405/U407","v":{"$error":"#DIV/0!"}}]
[null,{"$f":"Alapadatok!C17","v":"Cella13"},null,null,null,null,null,null,null,{"$f":"B434","v":"Cella13"},null,null,null,null,null,null,null,{"$f":"B434","v":"Cella13"}]
[null,null,null,"Gyártott:",null,"db",null,null,null,null,null,"Gyártott:",null,"db",null,null,null,null,null,"Gyártott:",null,"db"]
[]
[null,null,null,"Elvárt darabszám:",0,"db",null,"Elvárt db/op:",0,null,null,"Elvárt darabszám:",0,"db",null,"Elvárt db/op:",0,null,null,"Elvárt darabszám:",0,"db",null,"Elvárt db/op:",0]
[null,null,null,"Szükséges létszám: ",0,"fő",null,null,null,null,null,"Szükséges létszám:",0,"fő",null,null,null,null,null,"Szükséges létszám:",0,"fő"]
[null,null,null,"Aktuális létszám:",0,"fő",null,"Aktuális db/op:",0,null,null,"Aktuális létszám:",0,"fő",null,"Aktuális db/op:",0,null,null,"Aktuális létszám:",0,"fő",null,"Aktuális db/op:",0]
[]
[null,null,null,"Operátor",null,"fő",null,null,null,null,null,"Operátor",null,"fő",null,null,null,null,null,"Operátor",null,"fő"]
[null,null,null,"Koordinátor",null,"fő",null,null,null,null,null,"Koordinátor",null,"fő",null,null,null,null,null,"Koordinátor",null,"fő"]
[null,null,null,"Beállító",null,"fő",null,null,null,null,null,"Beállító",null,"fő",null,null,null,null,null,"Beállító",null,"fő"]
[null,null,null,"QA, Service",null,"fő",null,null,null,null,null,"QA, Service",null,"fő",null,null,null,null,null,"QA, Service",null,"fő"]
[null,null,null,"Anyagszállító",null,"fő",null,null,null,null,null,"Anyagszállító",null,"fő",null,null,null,null,null,"Anyagszállító",null,"fő"]
[null,null,null,"Egyéb",null,"fő",null,null,null,null,null,"Egyéb",null,"fő",null,null,null,null,null,"Egyéb",null,"fő"]
[]
[null,null,null,"Backlog:",null,"sorok száma",null,null,null,null,null,"Backlog:",null,"sorok száma",null,null,null,null,null,"Backlog:",null,"sorok száma"]
[]
[null,null,null,"Backlog:",null,"összes darab",null,null,null,null,null,"Backlog:",null,"összes darab",null,null,null,null,null,"Backlog:",null,"összes darab"]
[]
[null,null,null,"Kód:","Időtartam","Állásidő megnevezése",null,null,null,null,null,"Kód:","Időtartam","Állásidő megnevezése",null,null,null,null,null,"Kód:","Időtartam","Állásidő megnevezése"]
[null,null,null,null,null,{"$f":"VLOOKUP(D453,állásidő_kódok!$B:$D,3,0)","v":{"$error":"#N/A"}},null,null,null,null,null,null,null,{"$f":"VLOOKUP(L453,állásidő_kódok!$B:$D,3,0)","v":{"$error":"#N/A"}},null,null,null,null,null,null,null,{"$f":"VLOOKUP(T453,állásidő_kódok!$B:$D,3,0)","v":{"$error":"#N/A"}}]
[null,null,null,null,null,{"$f":"VLOOKUP(D454,állásidő_kódok!$B:$D,3,0)","v":{"$error":"#N/A"}},null,null,null,null,null,null,null,{"$f":"VLOOKUP(L454,állásidő_kódok!$B:$D,3,0)","v":{"$error":"#N/A"}},null,null,null,null,null,null,null,{"$f":"VLOOKUP(T454,állásidő_kódok!$B:$D,3,0)","v":{"$error":"#N/A"}}]
[null,null,null,null,null,{"$f":"VLOOKUP(D455,állásidő_kódok!$B:$D,3,0)","v":{"$error":"#N/A"}},null,null,null,null,null,null,null,{"$f":"VLOOKUP(L455,állásidő_kódok!$B:$D,3,0)","v":{"$error":"#N/A"}},null,null,null,null,null,null,null,{"$f":"VLOOKUP(T455,állásidő_kódok!$B:$D,3,0)","v":{"$error":"#N/A"}}]
[null,null,null,null,null,{"$f":"VLOOKUP(D456,állásidő_kódok!$B:$D,3,0)","v":{"$error":"#N/A"}},null,null,null,null,null,null,null,{"$f":"VLOOKUP(L456,állásidő_kódok!$B:$D,3,0)","v":{"$error":"#N/A"}},null,null,null,null,null,null,null,{"$f":"VLOOKUP(T456,állásidő_kódok!$B:$D,3,0)","v":{"$error":"#N/A"}}]
[null,null,null,null,null,{"$f":"VLOOKUP(D457,állásidő_kódok!$B:$D,3,0)","v":{"$error":"#N/A"}},null,null,null,null,null,null,null,{"$f":"VLOOKUP(L457,állásidő_kódok!$B:$D,3,0)","v":{"$error":"#N/A"}},null,null,null,null,null,null,null,{"$f":"VLOOKUP(T457,állásidő_kódok!$B:$D,3,0)","v":{"$error":"#N/A"}}]
[null,null,null,null,null,{"$f":"VLOOKUP(D458,állásidő_kódok!$B:$D,3,0)","v":{"$error":"#N/A"}},null,null,null,null,null,null,null,{"$f":"VLOOKUP(L458,állásidő_kódok!$B:$D,3,0)","v":{"$error":"#N/A"}},null,null,null,null,null,null,null,{"$f":"VLOOKUP(T458,állásidő_kódok!$B:$D,3,0)","v":{"$error":"#N/A"}}]
[null,null,null,null,null,{"$f":"VLOOKUP(D459,állásidő_kódok!$B:$D,3,0)","v":{"$error":"#N/A"}},null,null,null,null,null,null,null,{"$f":"VLOOKUP(L459,állásidő_kódok!$B:$D,3,0)","v":{"$error":"#N/A"}},null,null,null,null,null,null,null,{"$f":"VLOOKUP(T459,állásidő_kódok!$B:$D,3,0)","v":{"$error":"#N/A"}}]
[null,null,null,null,null,{"$f":"VLOOKUP(D460,állásidő_kódok!$B:$D,3,0)","v":{"$error":"#N/A"}},null,null,null,null,null,null,null,{"$f":"VLOOKUP(L460,állásidő_kódok!$B:$D,3,0)","v":{"$error":"#N/A"}},null,null,null,null,null,null,null,{"$f":"VLOOKUP(T460,állásidő_kódok!$B:$D,3,0)","v":{"$error":"#N/A"}}]
[null,null,null,null,null,{"$f":"VLOOKUP(D461,állásidő_kódok!$B:$D,3,0)","v":{"$error":"#N/A"}},null,null,null,null,null,null,null,{"$f":"VLOOKUP(L461,állásidő_kódok!$B:$D,3,0)","v":{"$error":"#N/A"}},null,null,null,null,null,null,null,{"$f":"VLOOKUP(T461,állásidő_kódok!$B:$D,3,0)","v":{"$error":"#N/A"}}]
[null,null,null,null,null,{"$f":"VLOOKUP(D462,állásidő_kódok!$B:$D,3,0)","v":{"$error":"#N/A"}},null,null,null,null,null,null,null,{"$f":"VLOOKUP(L462,állásidő_kódok!$B:$D,3,0)","v":{"$error":"#N/A"}},null,null,null,null,null,null,null,{"$f":"VLOOKUP(T462,állásidő_kódok!$B:$D,3,0)","v":{"$error":"#N/A"}}]
[null,null,null,null,"Állásidők nélküli teljesítés:",{"$f":"((SUM(E453:E462)/445))+E435/E437","v":{"$error":"#DIV/0!"}},null,null,null,null,null,null,"Állásidők nélküli teljesítés:",{"$f":"((SUM(M453:M462)/445))+M435/M437","v":{"$error":"#DIV/0!"}},null,null,null,null,null,null,"Állásidők nélküli teljesítés:",{"$f":"((SUM(U453:U462)/445))+U435/U437","v":{"$error":"#DIV/0!"}}]
[null,{"$f":"Alapadatok!C18","v":"Cella14"},null,null,null,null,null,null,null,{"$f":"B464","v":"Cella14"},null,null,null,null,null,null,null,{"$f":"B464","v":"Cella14"}]
[null,null,null,"Gyártott:",null,"db",null,null,null,null,null,"Gyártott:",null,"db",null,null,null,null,null,"Gyártott:",null,"db"]
[]
[null,null,null,"Elvárt darabszám:",0,"db",null,"Elvárt db/op:",0,null,null,"Elvárt darabszám:",0,"db",null,"Elvárt db/op:",0,null,null,"Elvárt darabszám:",0,"db",null,"Elvárt db/op:",0]
[null,null,null,"Szükséges létszám: ",0,"fő",null,null,null,null,null,"Szükséges létszám:",0,"fő",null,null,null,null,null,"Szükséges létszám:",0,"fő"]
[null,null,null,"Aktuális létszám:",0,"fő",null,"Aktuális db/op:",0,null,null,"Aktuális létszám:",0,"fő",null,"Aktuális db/op:",0,null,null,"Aktuális létszám:",0,"fő",null,"Aktuális db/op:",0]
[]
[null,null,null,"Operátor",null,"fő",null,null,null,null,null,"Operátor",null,"fő",null,null,null,null,null,"Operátor",null,"fő"]
[null,null,null,"Koordinátor",null,"fő",null,null,null,null,null,"Koordinátor",null,"fő",null,null,null,null,null,"Koordinátor",null,"fő"]
[null,null,null,"Beállító",null,"fő",null,null,null,null,null,"Beállító",null,"fő",null,null,null,null,null,"Beállító",null,"fő"]
[null,null,null,"QA, Service",null,"fő",null,null,null,null,null,"QA, Service",null,"fő",null,null,null,null,null,"QA, Service",null,"fő"]
[null,null,null,"Anyagszállító",null,"fő",null,null,null,null,null,"Anyagszállító",null,"fő",null,null,null,null,null,"Anyagszállító",null,"fő"]
[null,null,null,"Egyéb",null,"fő",null,null,null,null,null,"Egyéb",null,"fő",null,null,null,null,null,"Egyéb",null,"fő"]
[]
[null,null,null,"Backlog:",null,"sorok száma",null,null,null,null,null,"Backlog:",null,"sorok száma",null,null,null,null,null,"Backlog:",null,"sorok száma"]
[]
[null,null,null,"Backlog:",null,"összes darab",null,null,null,null,null,"Backlog:",null,"összes darab",null,null,null,null,null,"Backlog:",null,"összes darab"]
[]
[null,null,null,"Kód:","Időtartam","Állásidő megnevezése",null,null,null,null,null,"Kód:","Időtartam","Állásidő megnevezése",null,null,null,null,null,"Kód:","Időtartam","Állásidő megnevezése"]
[null,null,null,null,null,{"$f":"VLOOKUP(D483,állásidő_kódok!$B:$D,3,0)","v":{"$error":"#N/A"}},null,null,null,null,null,null,null,{"$f":"VLOOKUP(L483,állásidő_kódok!$B:$D,3,0)","v":{"$error":"#N/A"}},null,null,null,null,null,null,null,{"$f":"VLOOKUP(T483,állásidő_kódok!$B:$D,3,0)","v":{"$error":"#N/A"}}]
[null,null,null,null,null,{"$f":"VLOOKUP(D484,állásidő_kódok!$B:$D,3,0)","v":{"$error":"#N/A"}},null,null,null,null,null,null,null,{"$f":"VLOOKUP(L484,állásidő_kódok!$B:$D,3,0)","v":{"$error":"#N/A"}},null,null,null,null,null,null,null,{"$f":"VLOOKUP(T484,állásidő_kódok!$B:$D,3,0)","v":{"$error":"#N/A"}}]
[null,null,null,null,null,{"$f":"VLOOKUP(D485,állásidő_kódok!$B:$D,3,0)","v":{"$error":"#N/A"}},null,null,null,null,null,null,null,{"$f":"VLOOKUP(L485,állásidő_kódok!$B:$D,3,0)","v":{"$error":"#N/A"}},null,null,null,null,null,null,null,{"$f":"VLOOKUP(T485,állásidő_kódok!$B:$D,3,0)","v":{"$error":"#N/A"}}]
[null,null,null,null,null,{"$f":"VLOOKUP(D486,állásidő_kódok!$B:$D,3,0)","v":{"$error":"#N/A"}},null,null,null,null,null,null,null,{"$f":"VLOOKUP(L486,állásidő_kódok!$B:$D,3,0)","v":{"$error":"#N/A"}},null,null,null,null,null,null,null,{"$f":"VLOOKUP(T486,állásidő_kódok!$B:$D,3,0)","v":{"$error":"#N/A"}}]
[null,null,null,null,null,{"$f":"VLOOKUP(D487,állásidő_kódok!$B:$D,3,0)","v":{"$error":"#N/A"}},null,null,null,null,null,null,null,{"$f":"VLOOKUP(L487,állásidő_kódok!$B:$D,3,0)","v":{"$error":"#N/A"}},null,null,null,null,null,null,null,{"$f":"VLOOKUP(T487,állásidő_kódok!$B:$D,3,0)","v":{"$error":"#N/A"}}]
[null,null,null,null,null,{"$f":"VLOOKUP(D488,állásidő_kódok!$B:$D,3,0)","v":{"$error":"#N/A"}},null,null,null,null,null,null,null,{"$f":"VLOOKUP(L488,állásidő_kódok!$B:$D,3,0)","v":{"$error":"#N/A"}},null,null,null,null,null,null,null,{"$f":"VLOOKUP(T488,állásidő_kódok!$B:$D,3,0)","v":{"$error":"#N/A"}}]
[null,null,null,null,null,{"$f":"VLOOKUP(D489,állásidő_kódok!$B:$D,3,0)","v":{"$error":"#N/A"}},null,null,null,null,null,null,null,{"$f":"VLOOKUP(L489,állásidő_kódok!$B:$D,3,0)","v":{"$error":"#N/A"}},null,null,null,null,null,null,null,{"$f":"VLOOKUP(T489,állásidő_kódok!$B:$D,3,0)","v":{"$error":"#N/A"}}]
[null,null,null,null,null,{"$f":"VLOOKUP(D490,állásidő_kódok!$B:$D,3,0)","v":{"$error":"#N/A"}},null,null,null,null,null,null,null,{"$f":"VLOOKUP(L490,állásidő_kódok!$B:$D,3,0)","v":{"$error":"#N/A"}},null,null,null,null,null,null,null,{"$f":"VLOOKUP(T490,állásidő_kódok!$B:$D,3,0)","v":{"$error":"#N/A"}}]
[null,null,null,null,null,{"$f":"VLOOKUP(D491,állásidő_kódok!$B:$D,3,0)","v":{"$error":"#N/A"}},null,null,null,null,null,null,null,{"$f":"VLOOKUP(L491,állásidő_kódok!$B:$D,3,0)","v":{"$error":"#N/A"}},null,null,null,null,null,null,null,{"$f":"VLOOKUP(T491,állásidő_kódok!$B:$D,3,0)","v":{"$error":"#N/A"}}]
[null,null,null,null,null,{"$f":"VLOOKUP(D492,állásidő_kódok!$B:$D,3,0)","v":{"$error":"#N/A"}},null,null,null,null,null,null,null,{"$f":"VLOOKUP(L492,állásidő_kódok!$B:$D,3,0)","v":{"$error":"#N/A"}},null,null,null,null,null,null,null,{"$f":"VLOOKUP(T492,állásidő_kódok!$B:$D,3,0)","v":{"$error":"#N/A"}}]
[null,null,null,null,"Állásidők nélküli teljesítés:",{"$f":"((SUM(E483:E492)/445))+E465/E467","v":{"$error":"#DIV/0!"}},null,null,null,null,null,null,"Állásidők nélküli teljesítés:",{"$f":"((SUM(M483:M492)/445))+M465/M467","v":{"$error":"#DIV/0!"}},null,null,null,null,null,null,"Állásidők nélküli teljesítés:",{"$f":"((SUM(U483:U492)/445))+U465/U467","v":{"$error":"#DIV/0!"}}]
[null,{"$f":"Alapadatok!C19","v":"Cella15"},null,null,null,null,null,null,null,{"$f":"B494","v":"Cella15"},null,null,null,null,null,null,null,{"$f":"B494","v":"Cella15"}]
[null,null,null,"Gyártott:",null,"db",null,null,null,null,null,"Gyártott:",null,"db",null,null,null,null,null,"Gyártott:",null,"db"]
[]
[null,null,null,"Elvárt darabszám:",0,"db",null,"Elvárt db/op:",0,null,null,"Elvárt darabszám:",0,"db",null,"Elvárt db/op:",0,null,null,"Elvárt darabszám:",0,"db",null,"Elvárt db/op:",0]
[null,null,null,"Szükséges létszám: ",0,"fő",null,null,null,null,null,"Szükséges létszám:",0,"fő",null,null,null,null,null,"Szükséges létszám:",0,"fő"]
[null,null,null,"Aktuális létszám:",0,"fő",null,"Aktuális db/op:",0,null,null,"Aktuális létszám:",0,"fő",null,"Aktuális db/op:",0,null,null,"Aktuális létszám:",0,"fő",null,"Aktuális db/op:",0]
[]
[null,null,null,"Operátor",null,"fő",null,null,null,null,null,"Operátor",null,"fő",null,null,null,null,null,"Operátor",null,"fő"]
[null,null,null,"Koordinátor",null,"fő",null,null,null,null,null,"Koordinátor",null,"fő",null,null,null,null,null,"Koordinátor",null,"fő"]
[null,null,null,"Beállító",null,"fő",null,null,null,null,null,"Beállító",null,"fő",null,null,null,null,null,"Beállító",null,"fő"]
[null,null,null,"QA, Service",null,"fő",null,null,null,null,null,"QA, Service",null,"fő",null,null,null,null,null,"QA, Service",null,"fő"]
[null,null,null,"Anyagszállító",null,"fő",null,null,null,null,null,"Anyagszállító",null,"fő",null,null,null,null,null,"Anyagszállító",null,"fő"]
[null,null,null,"Egyéb",null,"fő",null,null,null,null,null,"Egyéb",null,"fő",null,null,null,null,null,"Egyéb",null,"fő"]
[]
[null,null,null,"Backlog:",null,"sorok száma",null,null,null,null,null,"Backlog:",null,"sorok száma",null,null,null,null,null,"Backlog:",null,"sorok száma"]
[]
[null,null,null,"Backlog:",null,"összes darab",null,null,null,null,null,"Backlog:",null,"összes darab",null,null,null,null,null,"Backlog:",null,"összes darab"]
[]
[null,null,null,"Kód:","Időtartam","Állásidő megnevezése",null,null,null,null,null,"Kód:","Időtartam","Állásidő megnevezése",null,null,null,null,null,"Kód:","Időtartam","Állásidő megnevezése"]
[null,null,null,null,null,{"$f":"VLOOKUP(D513,állásidő_kódok!$B:$D,3,0)","v":{"$error":"#N/A"}},null,null,null,null,null,null,null,{"$f":"VLOOKUP(L513,állásidő_kódok!$B:$D,3,0)","v":{"$error":"#N/A"}},null,null,null,null,null,null,null,{"$f":"VLOOKUP(T513,állásidő_kódok!$B:$D,3,0)","v":{"$error":"#N/A"}}]
[null,null,null,null,null,{"$f":"VLOOKUP(D514,állásidő_kódok!$B:$D,3,0)","v":{"$error":"#N/A"}},null,null,null,null,null,null,null,{"$f":"VLOOKUP(L514,állásidő_kódok!$B:$D,3,0)","v":{"$error":"#N/A"}},null,null,null,null,null,null,null,{"$f":"VLOOKUP(T514,állásidő_kódok!$B:$D,3,0)","v":{"$error":"#N/A"}}]
[null,null,null,null,null,{"$f":"VLOOKUP(D515,állásidő_kódok!$B:$D,3,0)","v":{"$error":"#N/A"}},null,null,null,null,null,null,null,{"$f":"VLOOKUP(L515,állásidő_kódok!$B:$D,3,0)","v":{"$error":"#N/A"}},null,null,null,null,null,null,null,{"$f":"VLOOKUP(T515,állásidő_kódok!$B:$D,3,0)","v":{"$error":"#N/A"}}]
[null,null,null,null,null,{"$f":"VLOOKUP(D516,állásidő_kódok!$B:$D,3,0)","v":{"$error":"#N/A"}},null,null,null,null,null,null,null,{"$f":"VLOOKUP(L516,állásidő_kódok!$B:$D,3,0)","v":{"$error":"#N/A"}},null,null,null,null,null,null,null,{"$f":"VLOOKUP(T516,állásidő_kódok!$B:$D,3,0)","v":{"$error":"#N/A"}}]
[null,null,null,null,null,{"$f":"VLOOKUP(D517,állásidő_kódok!$B:$D,3,0)","v":{"$error":"#N/A"}},null,null,null,null,null,null,null,{"$f":"VLOOKUP(L517,állásidő_kódok!$B:$D,3,0)","v":{"$error":"#N/A"}},null,null,null,null,null,null,null,{"$f":"VLOOKUP(T517,állásidő_kódok!$B:$D,3,0)","v":{"$error":"#N/A"}}]
[null,null,null,null,null,{"$f":"VLOOKUP(D518,állásidő_kódok!$B:$D,3,0)","v":{"$error":"#N/A"}},null,null,null,null,null,null,null,{"$f":"VLOOKUP(L518,állásidő_kódok!$B:$D,3,0)","v":{"$error":"#N/A"}},null,null,null,null,null,null,null,{"$f":"VLOOKUP(T518,állásidő_kódok!$B:$D,3,0)","v":{"$error":"#N/A"}}]
[null,null,null,null,null,{"$f":"VLOOKUP(D519,állásidő_kódok!$B:$D,3,0)","v":{"$error":"#N/A"}},null,null,null,null,null,null,null,{"$f":"VLOOKUP(L519,állásidő_kódok!$B:$D,3,0)","v":{"$error":"#N/A"}},null,null,null,null,null,null,null,{"$f":"VLOOKUP(T519,állásidő_kódok!$B:$D,3,0)","v":{"$error":"#N/A"}}]
[null,null,null,null,null,{"$f":"VLOOKUP(D520,állásidő_kódok!$B:$D,3,0)","v":{"$error":"#N/A"}},null,null,null,null,null,null,null,{"$f":"VLOOKUP(L520,állásidő_kódok!$B:$D,3,0)","v":{"$error":"#N/A"}},null,null,null,null,null,null,null,{"$f":"VLOOKUP(T520,állásidő_kódok!$B:$D,3,0)","v":{"$error":"#N/A"}}]
[null,null,null,null,null,{"$f":"VLOOKUP(D521,állásidő_kódok!$B:$D,3,0)","v":{"$error":"#N/A"}},null,null,null,null,null,null,null,{"$f":"VLOOKUP(L521,állásidő_kódok!$B:$D,3,0)","v":{"$error":"#N/A"}},null,null,null,null,null,null,null,{"$f":"VLOOKUP(T521,állásidő_kódok!$B:$D,3,0)","v":{"$error":"#N/A"}}]
[null,null,null,null,null,{"$f":"VLOOKUP(D522,állásidő_kódok!$B:$D,3,0)","v":{"$error":"#N/A"}},null,null,null,null,null,null,null,{"$f":"VLOOKUP(L522,állásidő_kódok!$B:$D,3,0)","v":{"$error":"#N/A"}},null,null,null,null,null,null,null,{"$f":"VLOOKUP(T522,állásidő_kódok!$B:$D,3,0)","v":{"$error":"#N/A"}}]
[null,null,null,null,"Állásidők nélküli teljesítés:",{"$f":"((SUM(E513:E522)/445))+E495/E497","v":{"$error":"#DIV/0!"}},null,null,null,null,null,null,"Állásidők nélküli teljesítés:",{"$f":"((SUM(M513:M522)/445))+M495/M497","v":{"$error":"#DIV/0!"}},null,null,null,null,null,null,"Állásidők nélküli teljesítés:",{"$f":"((SUM(U513:U522)/445))+U495/U497","v":{"$error":"#DIV/0!"}}]

{"sheet":"wk_45_4","index":7,"n_rows":523,"n_cols":43,"rows_kept":523,"cut":false,"hidden":false,"merged":[[1,17,1,18],[1,19,1,22],[1,23,1,40],[2,1,3,5],[2,6,3,7],[2,8,3,8],[2,9,3,13],[2,14,3,15],[2,16,3,16],[2,17,3,21],[2,22,3,23],[2,24,3,24],[2,25,3,40],[2,42,2,43],[3,42,3,43],[4,2,4,4],[4,6,4,8],[4,10,4,12],[4,14,4,16],[4,18,4,20],[4,22,4,24],[4,26,4,31],[4,34,4,39],[8,27,8,28],[8,35,8,36],[10,2,10,4],[10,6,10,8],[10,10,10,12],[10,14,10,16],[10,18,10,20],[10,22,10,24],[10,26,10,31],[10,34,10,39],[14,27,14,28],[14,35,14,36],[16,2,16,4],[16,6,16,8],[16,10,16,12],[16,14,16,16],[16,18,16,20],[16,22,16,24],[16,26,16,31],[16,34,16,39],[20,27,20,28],[20,35,20,36],[22,2,22,4],[22,6,22,8],[22,10,22,12],[22,14,22,16],[22,18,22,20],[22,22,22,24],[22,26,22,31],[22,34,22,39],[28,2,28,4],[28,6,28,8],[28,10,28,12],[28,14,28,16],[28,18,28,20],[28,22,28,24],[28,26,28,31],[28,34,28,39],[34,2,34,4],[34,6,34,8],[34,10,34,12],[34,14,34,16],[34,18,34,20],[34,22,34,24],[34,26,34,31],[34,34,34,39],[40,26,40,31],[40,34,40,39],[46,2,46,4],[46,6,46,8],[46,10,46,12],[46,14,46,16],[46,18,46,20],[46,22,46,24],[46,26,46,31],[40,2,40,4],[40,6,40,8],[40,10,40,12],[40,14,40,16],[40,18,40,20],[40,22,40,24],[54,1,55,2],[54,3,54,7],[54,9,55,10],[54,11,54,15],[54,17,55,18],[54,19,54,23],[55,3,55,7],[55,11,55,15],[55,19,55,23],[56,1,57,2],[56,3,56,7],[56,9,57,10],[56,11,56,15],[56,17,57,18],[56,19,56,23],[57,3,57,7],[57,11,57,15],[57,19,57,23],[58,1,59,2],[58,3,58,7],[58,9,59,10],[58,11,58,15],[58,17,59,18],[58,19,58,23],[59,3,59,7],[59,11,59,15],[59,19,59,23],[60,1,61,2],[60,3,60,7],[60,9,61,10],[60,11,60,15],[60,17,61,18],[60,19,60,23],[61,3,61,7],[61,11,61,15],[61,19,61,23],[62,1,63,2],[62,3,62,7],[62,9,63,10],[62,11,62,15],[62,17,63,18],[62,19,62,23],[63,3,63,7],[63,11,63,15],[63,19,63,23],[64,1,65,2],[64,3,64,7],[64,9,65,10],[64,11,64,15],[64,17,65,18],[64,19,64,23],[65,3,65,7],[65,11,65,15],[65,19,65,23],[68,1,69,2],[68,3,68,7],[68,9,69,10],[68,17,69,18],[68,19,68,23],[69,3,69,7],[69,11,69,15],[69,19,69,23],[66,1,67,2],[66,3,66,7],[66,9,67,10],[66,11,66,15],[66,17,67,18],[66,19,66,23],[67,3,67,7],[67,11,67,15],[67,19,67,23],[74,6,74,8],[74,14,74,16],[74,22,74,24],[102,5,102,6],[102,13,102,14],[102,21,102,22],[70,1,71,2],[70,3,70,7],[70,9,71,10],[70,11,70,15],[70,17,71,18],[70,19,70,23],[71,3,71,7],[71,11,71,15],[71,19,71,23],[134,6,134,8],[134,14,134,16],[134,22,134,24],[162,5,162,6],[162,13,162,14],[162,21,162,22],[104,6,104,8],[104,14,104,16],[104,22,104,24],[132,5,132,6],[132,13,132,14],[132,21,132,22],[194,6,194,8],[194,14,194,16],[194,22,194,24],[222,5,222,6],[222,13,222,14],[222,21,222,22],[164,6,164,8],[164,14,164,16],[164,22,164,24],[192,5,192,6],[192,13,192,14],[192,21,192,22],[254,6,254,8],[254,14,254,16],[254,22,254,24],[282,5,282,6],[282,13,282,14],[282,21,282,22],[224,6,224,8],[224,14,224,16],[224,22,224,24],[252,5,252,6],[252,13,252,14],[252,21,252,22],[314,6,314,8],[314,14,314,16],[314,22,314,24],[342,5,342,6],[342,13,342,14],[342,21,342,22],[284,6,284,8],[284,14,284,16],[284,22,284,24],[312,5,312,6],[312,13,312,14],[312,21,312,22],[374,6,374,8],[374,14,374,16],[374,22,374,24],[402,5,402,6],[402,13,402,14],[402,21,402,22],[344,6,344,8],[344,14,344,16],[344,22,344,24],[372,5,372,6],[372,13,372,14],[372,21,372,22],[434,6,434,8],[434,14,434,16],[434,22,434,24],[462,5,462,6],[462,13,462,14],[462,21,462,22],[404,6,404,8],[404,14,404,16],[404,22,404,24],[432,5,432,6],[432,13,432,14],[432,21,432,22],[494,6,494,8],[494,14,494,16],[494,22,494,24],[522,5,522,6],[522,13,522,14],[522,21,522,22],[464,6,464,8],[464,14,464,16],[464,22,464,24],[492,5,492,6],[492,13,492,14],[492,21,492,22]]}
[]
[null,null,null,null,null,null,null,null,null,{"$f":"Alapadatok!C2","v":"MG 160/180"},null,null,null,null,null,null,null,"Dátum:",null,"2018-11-08",null,null,null,"Töltsd ki a kereten belüli fehér mezőket!"]
[null,"Éjszaka",null,null,null,null,"Műszak",null,null,"Délelőtt",null,null,null,null,"Műszak",null,null,"Délután",null,null,null,null,"Műszak",null,null,"Napi összesítő",null,null,null,null,null,null,null,null,null,null,null,null,null,null,null,null,"Levél küldéséhez "]
[null,null,null,null,null,null,null,null,null,null,null,null,null,null,null,null,null,null,null,null,null,null,null,null,null,null,null,null,null,null,null,null,null,null,null,null,null,null,null,null,null,null," kattins az ikonra!"]
[null,null,{"$f":"B74","v":"Motor sor"},null,null,null,{"$f":"B104","v":"2p Sztátor sor"},null,null,null,{"$f":"J74","v":"Motor sor"},null,null,null,{"$f":"J104","v":"2p Sztátor sor"},null,null,null,{"$f":"R74","v":"Motor sor"},null,null,null,{"$f":"R104","v":"2p Sztátor sor"},null,null,null,{"$f":"C5","v":"Motor sor"},null,null,null,null,null,null,null,{"$f":"O5","v":"2p Sztátor sor"}]
[null,null,"Gyártott db",{"$f":"E75","v":46},"db",null,"Gyártott db",{"$f":"E105","v":42},"db",null,"Gyártott db",{"$f":"M75","v":60},"db",null,"Gyártott db",{"$f":"M105","v":48},"db",null,"Gyártott db",{"$f":"U75","v":30},"db",null,"Gyártott db",{"$f":"U105","v":27},"db",null,null,"Aktuális","Elvárt",null,"Éj",{"$f":"IF(D8=0,0,D6/D8)","v":6.5714285714285712},"db/fő",null,null,"Aktuális","Elvárt",null,"Éj",{"$f":"IF(H8=0,0,H6/H8)","v":7},"db/fő"]
[null,null,"Elvárt db",{"$f":"E77","v":52},"db",null,"Elvárt db",{"$f":"E107","v":50},"db",null,"Elvárt db",{"$f":"M77","v":54},"db",null,"Elvárt db",{"$f":"M107","v":52},"db",null,"Elvárt db",{"$f":"U77","v":54},"db",null,"Elvárt db",{"$f":"U107","v":45},"db",null,"Darabszám",{"$f":"SUM(D6,L6,T6)","v":136},{"$f":"SUM(D7,L7,T7)","v":160},"db","De",{"$f":"IF(L8=0,0,L6/L8)","v":0},"db/fő",null,"Darabszám",{"$f":"SUM(H6,P6,X6)","v":117},{"$f":"SUM(H7,P7,X7)","v":147},"db","De",{"$f":"IF(P8=0,0,P6/P8)","v":0},"db/fő"]
[null,null,"Akt. létszám",{"$f":"E79","v":7},"fő",null,"Akt. létszám",{"$f":"E109","v":6},"fő",null,"Akt. létszám",{"$f":"M79","v":0},"fő",null,"Akt. létszám",{"$f":"M109","v":0},"fő",null,"Akt. létszám",{"$f":"U79","v":0},"fő",null,"Akt. létszám",{"$f":"U109","v":0},"fő",null,"Létszám",{"$f":"SUM(D8,L8,T8)","v":7},{"$f":"SUM(D9,L9,T9)","v":23},"fő","Du",{"$f":"IF(T8=0,0,T6/T8)","v":0},"db/fő",null,"Létszám",{"$f":"SUM(H8,P8,X8)","v":6},{"$f":"SUM(H9,P9,X9)","v":17},"fő","Du",{"$f":"IF(X8=0,0,X6/X8)","v":0},"db/fő"]
[null,null,"MPS létszám",{"$f":"E78","v":7},"fő",null,"MPS létszám",{"$f":"E108","v":6},"fő",null,"MPS létszám",{"$f":"M78","v":8},"fő",null,"MPS létszám",{"$f":"M108","v":6},"fő",null,"MPS létszám",{"$f":"U78","v":8},"fő",null,"MPS létszám",{"$f":"U108","v":5},"fő",null,"Össz állásidő",{"$f":"SUM(D10,L10,T10)","v":1000},null,"perc","Napi",{"$f":"IF(AB8=0,0,AB7/AB8)","v":19.428571428571427},"db/fő",null,"Össz állásidő",{"$f":"SUM(H10,P10,X10)","v":960},null,"perc","Napi",{"$f":"IF(AJ8=0,0,AJ7/AJ8)","v":19.5},"db/fő"]
[null,null,"Össz állásidő",{"$f":"SUM(E93:E102)","v":400},"perc",null,"Össz állásidő",{"$f":"SUM(E123:E132)","v":480},"perc",null,"Össz állásidő",{"$f":"SUM(M93:M102)","v":300},"perc",null,"Össz állásidő",{"$f":"SUM(M123:M132)","v":0},"perc",null,"Össz állásidő",{"$f":"SUM(U93:U102)","v":300},"perc",null,"Össz állásidő",{"$f":"SUM(U123:U132)","v":480},"perc",null,"Backlog sor/db",{"$f":"E88+M88+U88","v":0},{"$f":"E90+M90+U90","v":0},"db","Elvárt",{"$f":"IF(AC8=0,0,AC7/AC8)","v":6.9565217391304346},"db/fő",null,"Backlog sor/db",{"$f":"E118+M118+U118","v":0},{"$f":"E120+M120+U120","v":0},"db","Elvárt",{"$f":"IF(AK8=0,0,AK7/AK8)","v":8.6470588235294112},"db/fő"]
[null,null,{"$f":"B134","v":"4p sztátor sor"},null,null,null,{"$f":"B164","v":"DE cella"},null,null,null,{"$f":"J134","v":"4p sztátor sor"},null,null,null,{"$f":"J164","v":"DE cella"},null,null," ",{"$f":"R134","v":"4p sztátor sor"},null,null,null,{"$f":"R164","v":"DE cella"},null,null,null,{"$f":"C11","v":"4p sztátor sor"},null,null,null,null,null,null,null,{"$f":"O11","v":"DE cella"}]
[null,null,"Gyártott db",{"$f":"E135","v":0},"db",null,"Gyártott db",{"$f":"E165","v":54},"db",null,"Gyártott db",{"$f":"M135","v":20},"db",null,"Gyártott db",{"$f":"M165","v":56},"db",null,"Gyártott db",{"$f":"U135","v":0},"db",null,"Gyártott db",{"$f":"U165","v":52},"db",null,null,"Aktuális","Elvárt",null,"Éj",{"$f":"IF(D14=0,0,D12/D14)","v":0},"db/fő",null,null,"Aktuális","Elvárt",null,"Éj",{"$f":"IF(H14=0,0,H12/H14)","v":27},"db/fő"]
[null,null,"Elvárt db",{"$f":"E137","v":0},"db",null,"Elvárt db",{"$f":"E167","v":52},"db",null,"Elvárt db",{"$f":"M137","v":20},"db",null,"Elvárt db",{"$f":"M167","v":52},"db",null,"Elvárt db",{"$f":"U137","v":0},"db",null,"Elvárt db",{"$f":"U167","v":52},"db",null,"Darabszám",{"$f":"SUM(D12,L12,T12)","v":20},{"$f":"SUM(D13,L13,T13)","v":20},"db","De",{"$f":"IF(L14=0,0,L12/L14)","v":0},"db/fő",null,"Darabszám",{"$f":"SUM(H12,P12,X12)","v":162},{"$f":"SUM(H13,P13,X13)","v":156},"db","De",{"$f":"IF(P14=0,0,P12/P14)","v":0},"db/fő"]
[null,null,"Akt. létszám",{"$f":"E139","v":0},"fő",null,"Akt. létszám",{"$f":"E169","v":2},"fő",null,"Akt. létszám",{"$f":"M139","v":0},"fő",null,"Akt. létszám",{"$f":"M169","v":0},"fő",null,"Akt. létszám",{"$f":"U139","v":0},"fő",null,"Akt. létszám",{"$f":"U169","v":0},"fő",null,"Létszám",{"$f":"SUM(D14,L14,T14)","v":0},{"$f":"SUM(D15,L15,T15)","v":4},"fő","Du",{"$f":"IF(T14=0,0,T12/T14)","v":0},"db/fő",null,"Létszám",{"$f":"SUM(H14,P14,X14)","v":2},{"$f":"SUM(H15,P15,X15)","v":6},"fő","Du",{"$f":"IF(X14=0,0,X12/X14)","v":0},"db/fő"]
[null,null,"MPS létszám",{"$f":"E138","v":0},"fő",null,"MPS létszám",{"$f":"E168","v":2},"fő",null,"MPS létszám",{"$f":"M138","v":4},"fő",null,"MPS létszám",{"$f":"M168","v":2},"fő",null,"MPS létszám",{"$f":"U138","v":0},"fő",null,"MPS létszám",{"$f":"U168","v":2},"fő",null,"Össz állásidő",{"$f":"SUM(D16,L16,T16)","v":0},null,"perc","Napi",{"$f":"IF(AB14=0,0,AB13/AB14)","v":0},"db/fő",null,"Össz állásidő",{"$f":"SUM(H16,P16,X16)","v":0},null,"perc","Napi",{"$f":"IF(AJ14=0,0,AJ13/AJ14)","v":81},"db/fő"]
[null,null,"Össz állásidő",{"$f":"SUM(E153:E162)","v":0},"perc",null,"Össz állásidő",{"$f":"SUM(E183:E192)","v":0},"perc",null,"Össz állásidő",{"$f":"SUM(M153:M162)","v":0},"perc",null,"Össz állásidő",{"$f":"SUM(M183:M192)","v":0},"perc",null,"Össz állásidő",{"$f":"SUM(U153:U162)","v":0},"perc",null,"Össz állásidő",{"$f":"SUM(U183:U192)","v":0},"perc",null,"Backlog sor/db",{"$f":"SUM(E148,M148,U148)","v":0},{"$f":"SUM(E150,M150,U150)","v":0},"db","Elvárt",{"$f":"IF(AC14=0,0,AC13/AC14)","v":5},"db/fő",null,"Backlog sor/db",{"$f":"SUM(E178,M178,U178)","v":0},{"$f":"SUM(E180,M180,U180)","v":0},"db","Elvárt",{"$f":"IF(AK14=0,0,AK13/AK14)","v":26},"db/fő"]
[null,null,{"$f":"B194","v":"NDE cella"},null,null,null,{"$f":"B224","v":"T+R"},null,null,null,{"$f":"J194","v":"NDE cella"},null,null,null,{"$f":"J224","v":"T+R"},null,null,null,{"$f":"R194","v":"NDE cella"},null,null,null,{"$f":"R224","v":"T+R"},null,null,null,{"$f":"C17","v":"NDE cella"},null,null,null,null,null,null,null,{"$f":"O17","v":"T+R"}]
[null,null,"Gyártott db",{"$f":"E195","v":0},"db",null,"Gyártott db",{"$f":"E225","v":54},"db",null,"Gyártott db",{"$f":"M195","v":96},"db",null,"Gyártott db",{"$f":"M225","v":54},"db",null,"Gyártott db",{"$f":"U195","v":95},"db",null,"Gyártott db",{"$f":"U225","v":54},"db",null,null,"Aktuális","Elvárt",null,"Éj",{"$f":"IF(D20=0,0,D18/D20)","v":0},"db/fő",null,null,"Aktuális","Elvárt",null,"Éj",{"$f":"IF(H20=0,0,H18/H20)","v":18},"db/fő"]
[null,null,"Elvárt db",{"$f":"E197","v":95},"db",null,"Elvárt db",{"$f":"E227","v":54},"db",null,"Elvárt db",{"$f":"M197","v":95},"db",null,"Elvárt db",{"$f":"M227","v":54},"db",null,"Elvárt db",{"$f":"U197","v":95},"db",null,"Elvárt db",{"$f":"U227","v":54},"db",null,"Darabszám",{"$f":"SUM(D18,L18,T18)","v":191},{"$f":"SUM(D19,L19,T19)","v":285},"db","De",{"$f":"IF(L20=0,0,L18/L20)","v":0},"db/fő",null,"Darabszám",{"$f":"SUM(H18,P18,X18)","v":162},{"$f":"SUM(H19,P19,X19)","v":162},"db","De",{"$f":"IF(P20=0,0,P18/P20)","v":0},"db/fő"]
[null,null,"Akt. létszám",{"$f":"E199","v":0},"fő",null,"Akt. létszám",{"$f":"E229","v":3},"fő",null,"Akt. létszám",{"$f":"M199","v":0},"fő",null,"Akt. létszám",{"$f":"M229","v":0},"fő",null,"Akt. létszám",{"$f":"U199","v":0},"fő",null,"Akt. létszám",{"$f":"U229","v":0},"fő",null,"Létszám",{"$f":"SUM(D20,L20,T20)","v":0},{"$f":"SUM(D21,L21,T21)","v":3},"fő","Du",{"$f":"IF(T20=0,0,T18/T20)","v":0},"db/fő",null,"Létszám",{"$f":"SUM(H20,P20,X20)","v":3},{"$f":"SUM(H21,P21,X21)","v":9},"fő","Du",{"$f":"IF(X20=0,0,X18/X20)","v":0},"db/fő"]
[null,null,"MPS létszám",{"$f":"E198","v":1},"fő",null,"MPS létszám",{"$f":"E228","v":3},"fő",null,"MPS létszám",{"$f":"M198","v":1},"fő",null,"MPS létszám",{"$f":"M228","v":3},"fő",null,"MPS létszám",{"$f":"U198","v":1},"fő",null,"MPS létszám",{"$f":"U228","v":3},"fő",null,"Össz állásidő",{"$f":"SUM(D22,L22,T22)","v":0},null,"perc","Napi",{"$f":"IF(AB20=0,0,AB19/AB20)","v":0},"db/fő",null,"Össz állásidő",{"$f":"SUM(H22,P22,X22)","v":0},null,"perc","Napi",{"$f":"IF(AJ20=0,0,AJ19/AJ20)","v":54},"db/fő"]
[null,null,"Össz állásidő",{"$f":"SUM(E213:E222)","v":0},"perc",null,"Össz állásidő",{"$f":"SUM(E243:E252)","v":0},"perc",null,"Össz állásidő",{"$f":"SUM(M213:M222)","v":0},"perc",null,"Össz állásidő",{"$f":"SUM(M243:M252)","v":0},"perc",null,"Össz állásidő",{"$f":"SUM(U213:U222)","v":0},"perc",null,"Össz állásidő",{"$f":"SUM(U243:U252)","v":0},"perc",null,"Backlog sor/db",{"$f":"SUM(E208,M208,U208)","v":0},{"$f":"SUM(E210,M210,U210)","v":0},"db","Elvárt",{"$f":"IF(AC20=0,0,AC19/AC20)","v":95},"db/fő",null,"Backlog sor/db",{"$f":"SUM(E238,M238,U238)","v":0},{"$f":"SUM(E240,M240,U240)","v":0},"db","Elvárt",{"$f":"IF(AK20=0,0,AK19/AK20)","v":18},"db/fő"]
[null,null,{"$f":"B254","v":"Cella7"},null,null,null,{"$f":"B284","v":"Cella8"},null,null,null,{"$f":"J254","v":"Cella7"},null,null,null,{"$f":"J284","v":"Cella8"},null,null,null,{"$f":"R254","v":"Cella7"},null,null,null,{"$f":"R284","v":"Cella8"},null,null,null,{"$f":"C23","v":"Cella7"},null,null,null,null,null,null,null,{"$f":"O23","v":"Cella8"}]
[null,null,"Gyártott db",{"$f":"E255","v":0},"db",null,"Gyártott db",{"$f":"E285","v":0},"db",null,"Gyártott db",{"$f":"M255","v":0},"db",null,"Gyártott db",{"$f":"M285","v":0},"db",null,"Gyártott db",{"$f":"U255","v":0},"db",null,"Gyártott db",{"$f":"U285","v":0},"db",null,null,"Aktuális","Elvárt",null,"Éj",{"$f":"IF(D26=0,0,D24/D26)","v":0},"db/fő",null,null,"Aktuális","Elvárt",null,"Éj",{"$f":"IF(H26=0,0,H24/H26)","v":0},"db/fő"]
[null,null,"Elvárt db",{"$f":"E257","v":0},"db",null,"Elvárt db",{"$f":"E287","v":0},"db",null,"Elvárt db",{"$f":"M257","v":0},"db",null,"Elvárt db",{"$f":"M287","v":0},"db",null,"Elvárt db",{"$f":"U257","v":0},"db",null,"Elvárt db",{"$f":"U287","v":0},"db",null,"Darabszám",{"$f":"SUM(D24,L24,T24)","v":0},{"$f":"SUM(D25,L25,T25)","v":0},"db","De",{"$f":"IF(L26=0,0,L24/L26)","v":0},"db/fő",null,"Darabszám",{"$f":"SUM(H24,P24,X24)","v":0},{"$f":"SUM(H25,P25,X25)","v":0},"db","De",{"$f":"IF(P26=0,0,P24/P26)","v":0},"db/fő"]
[null,null,"Akt. létszám",{"$f":"E259","v":0},"fő",null,"Akt. létszám",{"$f":"E289","v":0},"fő",null,"Akt. létszám",{"$f":"M259","v":0},"fő",null,"Akt. létszám",{"$f":"M289","v":0},"fő",null,"Akt. létszám",{"$f":"U259","v":0},"fő",null,"Akt. létszám",{"$f":"U289","v":0},"fő",null,"Létszám",{"$f":"SUM(D26,L26,T26)","v":0},{"$f":"SUM(D27,L27,T27)","v":0},"fő","Du",{"$f":"IF(T26=0,0,T24/T26)","v":0},"db/fő",null,"Létszám",{"$f":"SUM(H26,P26,X26)","v":0},{"$f":"SUM(H27,P27,X27)","v":0},"fő","Du",{"$f":"IF(X26=0,0,X24/X26)","v":0},"db/fő"]
[null,null,"MPS létszám",{"$f":"E258","v":0},"fő",null,"MPS létszám",{"$f":"E288","v":0},"fő",null,"MPS létszám",{"$f":"M258","v":0},"fő",null,"MPS létszám",{"$f":"M288","v":0},"fő",null,"MPS létszám",{"$f":"U258","v":0},"fő",null,"MPS létszám",{"$f":"U288","v":0},"fő",null,"Össz állásidő",{"$f":"SUM(D28,L28,T28)","v":0},null,"perc","Napi",{"$f":"IF(AB26=0,0,AB25/AB26)","v":0},"db/fő",null,"Össz állásidő",{"$f":"SUM(H28,P28,X28)","v":0},null,"perc","Napi",{"$f":"IF(AJ26=0,0,AJ25/AJ26)","v":0},"db/fő"]
[null,null,"Össz állásidő",{"$f":"SUM(E273:E282)","v":0},"perc",null,"Össz állásidő",{"$f":"SUM(E303:E312)","v":0},"perc",null,"Össz állásidő",{"$f":"SUM(M273:M282)","v":0},"perc",null,"Össz állásidő",{"$f":"SUM(M303:M312)","v":0},"perc",null,"Össz állásidő",{"$f":"SUM(U273:U282)","v":0},"perc",null,"Össz állásidő",{"$f":"SUM(U303:U312)","v":0},"perc",null,"Backlog sor/db",{"$f":"SUM(E160,M160,U160)","v":0},{"$f":"SUM(E162,M162,U162)","v":0},"db","Elvárt",{"$f":"IF(AC26=0,0,AC25/AC26)","v":0},"db/fő",null,"Backlog sor/db",{"$f":"SUM(E160,M160,U160)","v":0},{"$f":"SUM(E162,M162,U162)","v":0},"db","Elvárt",{"$f":"IF(AK26=0,0,AK25/AK26)","v":0},"db/fő"]
[null,null,{"$f":"B314","v":"Cella9"},null,null,null,{"$f":"B344","v":"Cella10"},null,null,null,{"$f":"J314","v":"Cella9"},null,null,null,{"$f":"J344","v":"Cella10"},null,null,null,{"$f":"R314","v":"Cella9"},null,null,null,{"$f":"R344","v":"Cella10"},null,null,null,{"$f":"C29","v":"Cella9"},null,null,null,null,null,null,null,{"$f":"G29","v":"Cella10"}]
[null,null,"Gyártott db",{"$f":"E315","v":0},"db",null,"Gyártott db",{"$f":"E345","v":0},"db",null,"Gyártott db",{"$f":"M315","v":0},"db",null,"Gyártott db",{"$f":"M345","v":0},"db",null,"Gyártott db",{"$f":"U315","v":0},"db",null,"Gyártott db",{"$f":"U345","v":0},"db",null,null,"Aktuális","Elvárt",null,"Éj",{"$f":"IF(D32=0,0,D30/D32)","v":0},"db/fő",null,null,"Aktuális","Elvárt",null,"Éj",{"$f":"IF(D32=0,0,D30/D32)","v":0},"db/fő"]
[null,null,"Elvárt db",{"$f":"E317","v":0},"db",null,"Elvárt db",{"$f":"E347","v":0},"db",null,"Elvárt db",{"$f":"M317","v":0},"db",null,"Elvárt db",{"$f":"M347","v":0},"db",null,"Elvárt db",{"$f":"U317","v":0},"db",null,"Elvárt db",{"$f":"U347","v":0},"db",null,"Darabszám",{"$f":"SUM(D30,L30,T30)","v":0},{"$f":"SUM(D31,L31,T31)","v":0},"db","De",{"$f":"IF(L32=0,0,L30/L32)","v":0},"db/fő",null,"Darabszám",{"$f":"SUM(H30,P30,X30)","v":0},{"$f":"SUM(H31,P31,X31)","v":0},"db","De",{"$f":"IF(L32=0,0,L30/L32)","v":0},"db/fő"]
[null,null,"Akt. létszám",{"$f":"E319","v":0},"fő",null,"Akt. létszám",{"$f":"E349","v":0},"fő",null,"Akt. létszám",{"$f":"M319","v":0},"fő",null,"Akt. létszám",{"$f":"M349","v":0},"fő",null,"Akt. létszám",{"$f":"U319","v":0},"fő",null,"Akt. létszám",{"$f":"U349","v":0},"fő",null,"Létszám",{"$f":"SUM(D32,L32,T32)","v":0},{"$f":"SUM(D33,L33,T33)","v":0},"fő","Du",{"$f":"IF(T32=0,0,T30/T32)","v":0},"db/fő",null,"Létszám",{"$f":"SUM(H32,P32,X32)","v":0},{"$f":"SUM(H33,P33,X33)","v":0},"fő","Du",{"$f":"IF(T32=0,0,T30/T32)","v":0},"db/fő"]
[null,null,"MPS létszám",{"$f":"E318","v":0},"fő",null,"MPS létszám",{"$f":"E348","v":0},"fő",null,"MPS létszám",{"$f":"M318","v":0},"fő",null,"MPS létszám",{"$f":"M348","v":0},"fő",null,"MPS létszám",{"$f":"U318","v":0},"fő",null,"MPS létszám",{"$f":"U348","v":0},"fő",null,"Össz állásidő",{"$f":"SUM(D34,L34,T34)","v":0},null,"perc","Napi",{"$f":"IF(AB32=0,0,AB31/AB32)","v":0},"db/fő",null,"Össz állásidő",{"$f":"SUM(H34,P34,X34)","v":0},null,"perc","Napi",{"$f":"IF(AJ32=0,0,AJ31/AJ32)","v":0},"db/fő"]
[null,null,"Össz állásidő",{"$f":"SUM(E333:E342)","v":0},"perc",null,"Össz állásidő",{"$f":"SUM(E363:E372)","v":0},"perc",null,"Össz állásidő",{"$f":"SUM(M333:M342)","v":0},"perc",null,"Össz állásidő",{"$f":"SUM(M363:M372)","v":0},"perc",null,"Össz állásidő",{"$f":"SUM(U333:U342)","v":0},"perc",null,"Össz állásidő",{"$f":"SUM(U363:U372)","v":0},"perc",null,"Backlog sor/db",{"$f":"SUM(E166,M166,U166)","v":0},{"$f":"SUM(E168,M168,U168)","v":6},"db","Elvárt",{"$f":"IF(AC32=0,0,AC31/AC32)","v":0},"db/fő",null,"Backlog sor/db",{"$f":"SUM(E172,M172,U172)","v":0},{"$f":"SUM(E174,M174,U174)","v":0},"db","Elvárt",{"$f":"IF(AK32=0,0,AK31/AK32)","v":0},"db/fő"]
[null,null,{"$f":"B374","v":"Cella11"},null,null,null,{"$f":"B404","v":"Cella12"},null,null,null,{"$f":"J374","v":"Cella11"},null,null,null,{"$f":"J404","v":"Cella12"},null,null,null,{"$f":"R374","v":"Cella11"},null,null,null,{"$f":"R404","v":"Cella12"},null,null,null,{"$f":"C35","v":"Cella11"},null,null,null,null,null,null,null,{"$f":"G35","v":"Cella12"}]
[null,null,"Gyártott db",{"$f":"E375","v":0},"db",null,"Gyártott db",{"$f":"E405","v":0},"db",null,"Gyártott db",{"$f":"M375","v":0},"db",null,"Gyártott db",{"$f":"M405","v":0},"db",null,"Gyártott db",{"$f":"U375","v":0},"db",null,"Gyártott db",{"$f":"U405","v":0},"db",null,null,"Aktuális","Elvárt",null,"Éj",{"$f":"IF(D38=0,0,D36/D38)","v":0},"db/fő",null,null,"Aktuális","Elvárt",null,"Éj",{"$f":"IF(H38=0,0,H36/H38)","v":0},"db/fő"]
[null,null,"Elvárt db",{"$f":"E377","v":0},"db",null,"Elvárt db",{"$f":"E407","v":0},"db",null,"Elvárt db",{"$f":"M377","v":0},"db",null,"Elvárt db",{"$f":"M407","v":0},"db",null,"Elvárt db",{"$f":"U377","v":0},"db",null,"Elvárt db",{"$f":"U407","v":0},"db",null,"Darabszám",{"$f":"SUM(D36,L36,T36)","v":0},{"$f":"SUM(D37,L37,T37)","v":0},"db","De",{"$f":"IF(L38=0,0,L36/L38)","v":0},"db/fő",null,"Darabszám",{"$f":"SUM(H36,LX36,X36)","v":0},{"$f":"SUM(H37,P37,X37)","v":0},"db","De",{"$f":"IF(P38=0,0,P36/P38)","v":0},"db/fő"]
[null,null,"Akt. létszám",{"$f":"E379","v":0},"fő",null,"Akt. létszám",{"$f":"E409","v":0},"fő",null,"Akt. létszám",{"$f":"M379","v":0},"fő",null,"Akt. létszám",{"$f":"M409","v":0},"fő",null,"Akt. létszám",{"$f":"U379","v":0},"fő",null,"Akt. létszám",{"$f":"U409","v":0},"fő",null,"Létszám",{"$f":"SUM(D38,L38,T38)","v":0},{"$f":"SUM(D39,L39,T39)","v":0},"fő","Du",{"$f":"IF(T38=0,0,T36/T38)","v":0},"db/fő",null,"Létszám",{"$f":"SUM(H38,P38,X38)","v":0},{"$f":"SUM(H39,P39,X39)","v":0},"fő","Du",{"$f":"IF(X38=0,0,X37/X38)","v":0},"db/fő"]
[null,null,"MPS létszám",{"$f":"E378","v":0},"fő",null,"MPS létszám",{"$f":"E408","v":0},"fő",null,"MPS létszám",{"$f":"M378","v":0},"fő",null,"MPS létszám",{"$f":"M408","v":0},"fő",null,"MPS létszám",{"$f":"U378","v":0},"fő",null,"MPS létszám",{"$f":"U408","v":0},"fő",null,"Össz állásidő",{"$f":"SUM(D40,L40,T40)","v":0},null,"perc","Napi",{"$f":"IF(AB38=0,0,AB37/AB38)","v":0},"db/fő",null,"Össz állásidő",{"$f":"SUM(H40,P40,X40)","v":0},null,"perc","Napi",{"$f":"IF(AJ38=0,0,AJ37/AJ38)","v":0},"db/fő"]
[null,null,"Össz állásidő",{"$f":"SUM(E393:E402)","v":0},"perc",null,"Össz állásidő",{"$f":"SUM(E423:E432)","v":0},"perc",null,"Össz állásidő",{"$f":"SUM(M393:M402)","v":0},"perc",null,"Össz állásidő",{"$f":"SUM(M423:M432)","v":0},"perc",null,"Össz állásidő",{"$f":"SUM(U393:U402)","v":0},"perc",null,"Össz állásidő",{"$f":"SUM(U423:U432)","v":0},"perc",null,"Backlog sor/db",{"$f":"SUM(E172,M172,U172)","v":0},{"$f":"SUM(E174,M174,U174)","v":0},"db","Elvárt",{"$f":"IF(AC38=0,0,AC37/AC38)","v":0},"db/fő",null,"Backlog sor/db",{"$f":"SUM(E178,M178,U178)","v":0},{"$f":"SUM(E180,M180,U180)","v":0},"db","Elvárt",{"$f":"IF(AK38=0,0,AK37/AK38)","v":0},"db/fő"]
[null,null,{"$f":"B434","v":"Cella13"},null,null,null,{"$f":"B464","v":"Cella14"},null,null,null,{"$f":"J434","v":"Cella13"},null,null,null,{"$f":"J464","v":"Cella14"},null,null,null,{"$f":"R434","v":"Cella13"},null,null,null,{"$f":"R464","v":"Cella14"},null,null,null,{"$f":"C41","v":"Cella13"},null,null,null,null,null,null,null,{"$f":"G41","v":"Cella14"}]
[null,null,"Gyártott db",{"$f":"E435","v":0},"db",null,"Gyártott db",{"$f":"E465","v":0},"db",null,"Gyártott db",{"$f":"M435","v":0},"db",null,"Gyártott db",{"$f":"M465","v":0},"db",null,"Gyártott db",{"$f":"U435","v":0},"db",null,"Gyártott db",{"$f":"U465","v":0},"db",null,null,"Aktuális","Elvárt",null,"Éj",{"$f":"IF(D44=0,0,D42/D44)","v":0},"db/fő",null,null,"Aktuális","Elvárt",null,"Éj",{"$f":"IF(H44=0,0,H42/H44)","v":0},"db/fő"]
[null,null,"Elvárt db",{"$f":"E437","v":0},"db",null,"Elvárt db",{"$f":"E467","v":0},"db",null,"Elvárt db",{"$f":"M437","v":0},"db",null,"Elvárt db",{"$f":"M467","v":0},"db",null,"Elvárt db",{"$f":"U437","v":0},"db",null,"Elvárt db",{"$f":"U467","v":0},"db",null,"Darabszám",{"$f":"SUM(D42,L42,T42)","v":0},{"$f":"SUM(D43,L43,T43)","v":0},"db","De",{"$f":"IF(L44=0,0,L42/L44)","v":0},"db/fő",null,"Darabszám",{"$f":"SUM(H42,P42,X42)","v":0},{"$f":"SUM(H43,P43,X43)","v":0},"db","De",{"$f":"IF(P44=0,0,P42/P44)","v":0},"db/fő"]
[null,null,"Akt. létszám",{"$f":"E439","v":0},"fő",null,"Akt. létszám",{"$f":"E469","v":0},"fő",null,"Akt. létszám",{"$f":"M439","v":0},"fő",null,"Akt. létszám",{"$f":"M469","v":0},"fő",null,"Akt. létszám",{"$f":"U439","v":0},"fő",null,"Akt. létszám",{"$f":"U469","v":0},"fő",null,"Létszám",{"$f":"SUM(D44,L44,T44)","v":0},{"$f":"SUM(D45,L45,T45)","v":0},"fő","Du",{"$f":"IF(T44=0,0,T42/T44)","v":0},"db/fő",null,"Létszám",{"$f":"SUM(D56,L56,T56)","v":0},{"$f":"SUM(D57,L57,T57)","v":0},"fő","Du",{"$f":"IF(X44=0,0,X42/X44)","v":0},"db/fő"]
[null,null,"MPS létszám",{"$f":"E438","v":0},"fő",null,"MPS létszám",{"$f":"E468","v":0},"fő",null,"MPS létszám",{"$f":"M438","v":0},"fő",null,"MPS létszám",{"$f":"M468","v":0},"fő",null,"MPS létszám",{"$f":"U438","v":0},"fő",null,"MPS létszám",{"$f":"U468","v":0},"fő",null,"Össz állásidő",{"$f":"SUM(D46,L46,T46)","v":0},null,"perc","Napi",{"$f":"IF(AB44=0,0,AB43/AB44)","v":0},"db/fő",null,"Össz állásidő",{"$f":"SUM(D58,L58,T58)","v":0},null,"perc","Napi",{"$f":"IF(AJ44=0,0,AJ43/AJ44)","v":0},"db/fő"]
[null,null,"Össz állásidő",{"$f":"SUM(E453:E462)","v":0},"perc",null,"Össz állásidő",{"$f":"SUM(E483:E492)","v":0},"perc",null,"Össz állásidő",{"$f":"SUM(M453:M462)","v":0},"perc",null,"Össz állásidő",{"$f":"SUM(M483:M492)","v":0},"perc",null,"Össz állásidő",{"$f":"SUM(U453:U462)","v":0},"perc",null,"Össz állásidő",{"$f":"SUM(U483:U492)","v":0},"perc",null,"Backlog sor/db",{"$f":"SUM(E178,M178,U178)","v":0},{"$f":"SUM(E180,M180,U180)","v":0},"db","Elvárt",{"$f":"IF(AC44=0,0,AC43/AC44)","v":0},"db/fő",null,"Backlog sor/db",{"$f":"SUM(E190,M190,U190)","v":0},{"$f":"SUM(E192,M192,U192)","v":0},"db","Elvárt",{"$f":"IF(AK44=0,0,AK43/AK44)","v":0},"db/fő"]
[null,null,{"$f":"B494","v":"Cella15"},null,null,null,null,null,null,null,{"$f":"J494","v":"Cella15"},null,null,null,null,null,null,null,{"$f":"R494","v":"Cella15"},null,null,null,null,null,null,null,{"$f":"C47","v":"Cella15"}]
[null,null,"Gyártott db",{"$f":"E495","v":0},"db",null,null,null,null,null,"Gyártott db",{"$f":"M495","v":0},"db",null,null,null,null,null,"Gyártott db",{"$f":"U495","v":0},"db",null,null,null,null,null,null,"Aktuális","Elvárt",null,"Éj",{"$f":"IF(D50=0,0,D48/D50)","v":0},"db/fő"]
[null,null,"Elvárt db",{"$f":"E497","v":0},"db",null,null,null,null,null,"Elvárt db",{"$f":"M497","v":0},"db",null,null,null,null,null,"Elvárt db",{"$f":"U497","v":0},"db",null,null,null,null,null,"Darabszám",{"$f":"SUM(D48,L48,T48)","v":0},{"$f":"SUM(D49,L49,T49)","v":0},"db","De",{"$f":"IF(L50=0,0,L48/L50)","v":0},"db/fő"]
[null,null,"Akt. létszám",{"$f":"E499","v":0},"fő",null,null,null,null,null,"Akt. létszám",{"$f":"M499","v":0},"fő",null,null,null,null,null,"Akt. létszám",{"$f":"U499","v":0},"fő",null,null,null,null,null,"Létszám",{"$f":"SUM(D50,L50,T50)","v":0},{"$f":"SUM(D51,L51,T51)","v":0},"fő","Du",{"$f":"IF(T50=0,0,T48/T50)","v":0},"db/fő"]
[null,null,"MPS létszám",{"$f":"E498","v":0},"fő",null,null,null,null,null,"MPS létszám",{"$f":"M498","v":0},"fő",null,null,null,null,null,"MPS létszám",{"$f":"U498","v":0},"fő",null,null,null,null,null,"Össz állásidő",{"$f":"SUM(D52,L52,T52)","v":0},null,"perc","Napi",{"$f":"IF(AB50=0,0,AB49/AB50)","v":0},"db/fő"]
[null,null,"Össz állásidő",{"$f":"SUM(E513:E522)","v":0},"perc",null,null,null,null,null,"Össz állásidő",{"$f":"SUM(M513:M522)","v":0},"perc",null,null,null,null,null,"Össz állásidő",{"$f":"SUM(U513:U522)","v":0},"perc",null,null,null,null,null,"Backlog sor/db",{"$f":"SUM(E194,M194,U194)","v":0},{"$f":"SUM(E196,M196,U196)","v":0},"db","Elvárt",{"$f":"IF(AC50=0,0,AC49/AC50)","v":0},"db/fő"]
[]
[null,"Megjegyzés/egyéb fontos információ:",null,null,null,null,null,null,"Megoldva?","Megjegyzés/egyéb fontos információ:",null,null,null,null,null,null,"Megoldva?","Megjegyzés/egyéb fontos információ:",null,null,null,null,null,null,"Megoldva?"]
[null,"Biztonság",null,null,null,null,null,null,null,"Biztonság",null,null,null,null,null,null,null,"Biztonság"]
[null,null,null,null,null,null,null,null,null,null,null,null,null,null,null,null,null,null,null," "]
[null,"Minőség",null,null,null,null,null,null,null,"Minőség",null,null,null,null,null,null,null,"Minőség"]
[]
[null,"Termelés",null,"Besütő:  54db   E-tower:  54db",null,null,null,null,null,"Termelés",null,"Besütő: 10db ( 1/2 műszak), E- tower:35db (1/2 műszak),",null,null,null,null,null,"Termelés",null,"BESÜTŐ:  40db, E-TOWER:  36db ."]
[null,null,null,"BWS: 39db Lakkozó: 40db Fornax: 10db",null,null,null,null,null,null,null,"BWS:48db Alliance:40db Fornax:0db ",null,null,null,null,null,null,null,"BWS:30db        Alliance:      motorsoron NEMA gyártás tengeri csomagolás és egy két darabos megrendelők 56db"]
[null,"Dolgozók",null,"Szabi: 2fő   Beteg: -",null,null,null,null,null,"Dolgozók",null,"Szabi:4fő  Beteg:2fő  ",null,null,null,null,null,"Dolgozók",null,"2fő segitség a motorsoron"]
[null,null,null,"112 Qtn: 1fő",null,null,null,null,null,null,null,null,null,null,null,null,null,null,null,"Szabi:3fő   Beteg:3fő"]
[null,"Támogatók",null,"megrendelő: 12 MGE: 0",null,null,null,null,null,"Támogatók",null,"megrendelő : 6db HM: 14db",null,null,null,null,null,"Támogatók",null,"megrendelő:12db          HM:17db"]
[]
[null,"5S",null,null,null,null,null,null,null,"5S",null,null,null,null,null,null,null,"5S"]
[]
[null,"Karbantartás",null,"Lakkozó bal oldal hővédőlemez javítás MLsz:7052407",null,null,null,null,"x","Karbantartás",null,null,null,null,null,null,null,"Karbantartás",null,"besütő javitása mlsz:7052729"]
[]
[]
[]
[null,null,null,"Szt. backlog:"]
[null,null,null,"Motor backlog: 1megren. 1db"]
[]
[null,{"$f":"Alapadatok!C5","v":"Motor sor"},null,null,null,null,null,null,null,{"$f":"B74","v":"Motor sor"},null,null,null,null,null,null,null,{"$f":"B74","v":"Motor sor"}]
[null,null,null,"Gyártott:",46,"db",null,null,null,null,null,"Gyártott:",60,"db",null,null,null,null,null,"Gyártott:",30,"db"]
[]
[null,null,null,"Elvárt darabszám:",52,"db",null,"Elvárt db/op:",7.43,null,null,"Elvárt darabszám:",54,"db",null,"Elvárt db/op:",6.75,null,null,"Elvárt darabszám:",54,"db",null,"Elvárt db/op:",6.75]
[null,null,null,"Szükséges létszám: ",7,"fő",null,null,null,null,null,"Szükséges létszám:",8,"fő",null,null,null,null,null,"Szükséges létszám:",8,"fő"]
[null,null,null,"Aktuális létszám:",7,"fő",null,"Aktuális db/op:",6.5714285714285712,null,null,"Aktuális létszám:",0,"fő",null,"Aktuális db/op:",0,null,null,"Aktuális létszám:",0,"fő",null,"Aktuális db/op:",0]
[]
[null,null,null,"Operátor",6,"fő",null,null,null,null,null,"Operátor",6,"fő",null,null,null,null,null,"Operátor",9,"fő"]
[null,null,null,"Koordinátor",1,"fő",null,null,null,null,null,"Koordinátor",1,"fő",null,null,null,null,null,"Koordinátor",null,"fő"]
[null,null,null,"Beállító",null,"fő",null,null,null,null,null,"Beállító",null,"fő",null,null,null,null,null,"Beállító",null,"fő"]
[null,null,null,"QA, Service",null,"fő",null,null,null,null,null,"QA, Service",null,"fő",null,null,null,null,null,"QA, Service",null,"fő"]
[null,null,null,"Anyagszállító",null,"fő",null,null,null,null,null,"Anyagszállító",null,"fő",null,null,null,null,null,"Anyagszállító",null,"fő"]
[null,null,null,"Egyéb",null,"fő",null,null,null,null,null,"Egyéb",null,"fő",null,null,null,null,null,"Egyéb",null,"fő"]
[]
[null,null,null,"Backlog:",null,"sorok száma",null,null,null,null,null,"Backlog:",null,"sorok száma",null,null,null,null,null,"Backlog:",null,"sorok száma"]
[]
[null,null,null,"Backlog:",null,"összes darab",null,null,null,null,null,"Backlog:",null,"összes darab",null,null,null,null,null,"Backlog:",null,"összes darab"]
[]
[null,null,null,"Kód:","Időtartam","Állásidő megnevezése",null,null,null,null,null,"Kód:","Időtartam","Állásidő megnevezése",null,null,null,null,null,"Kód:","Időtartam","Állásidő megnevezése"]
[null,null,null,null,null,{"$f":"VLOOKUP(D93,állásidő_kódok!$B:$D,3,0)","v":{"$error":"#N/A"}},null,null,null,null,null,5,200,{"$f":"VLOOKUP(L93,állásidő_kódok!$B:$D,3,0)","v":"E-I. - 5%-os emberi erőforrás hiány"},null,null,null,null,null,5,100,{"$f":"VLOOKUP(T93,állásidő_kódok!$B:$D,3,0)","v":"E-I. - 5%-os emberi erőforrás hiány"}]
[null,null,null,null,null,{"$f":"VLOOKUP(D94,állásidő_kódok!$B:$D,3,0)","v":{"$error":"#N/A"}},null,null,null,null,null,null,null,{"$f":"VLOOKUP(L94,állásidő_kódok!$B:$D,3,0)","v":{"$error":"#N/A"}},null,null,null,null,null,null,null,{"$f":"VLOOKUP(T94,állásidő_kódok!$B:$D,3,0)","v":{"$error":"#N/A"}}]
[null,null,null,null,null,{"$f":"VLOOKUP(D95,állásidő_kódok!$B:$D,3,0)","v":{"$error":"#N/A"}},null,null,null,null,null,null,null,{"$f":"VLOOKUP(L95,állásidő_kódok!$B:$D,3,0)","v":{"$error":"#N/A"}},null,null,null,null,null,null,null,{"$f":"VLOOKUP(T95,állásidő_kódok!$B:$D,3,0)","v":{"$error":"#N/A"}}]
[null,null,null,null,null,{"$f":"VLOOKUP(D96,állásidő_kódok!$B:$D,3,0)","v":{"$error":"#N/A"}},null,null,null,null,null,null,null,{"$f":"VLOOKUP(L96,állásidő_kódok!$B:$D,3,0)","v":{"$error":"#N/A"}},null,null,null,null,null,null,null,{"$f":"VLOOKUP(T96,állásidő_kódok!$B:$D,3,0)","v":{"$error":"#N/A"}}]
[null,null,null,null,null,{"$f":"VLOOKUP(D97,állásidő_kódok!$B:$D,3,0)","v":{"$error":"#N/A"}},null,null,null,null,null,null,null,{"$f":"VLOOKUP(L97,állásidő_kódok!$B:$D,3,0)","v":{"$error":"#N/A"}},null,null,null,null,null,null,null,{"$f":"VLOOKUP(T97,állásidő_kódok!$B:$D,3,0)","v":{"$error":"#N/A"}}]
[null,null,null,null,null,{"$f":"VLOOKUP(D98,állásidő_kódok!$B:$D,3,0)","v":{"$error":"#N/A"}},null,null,null,null,null,null,null,{"$f":"VLOOKUP(L98,állásidő_kódok!$B:$D,3,0)","v":{"$error":"#N/A"}},null,null,null,null,null,null,null,{"$f":"VLOOKUP(T98,állásidő_kódok!$B:$D,3,0)","v":{"$error":"#N/A"}}]
[null,null,null,null,null,{"$f":"VLOOKUP(D99,állásidő_kódok!$B:$D,3,0)","v":{"$error":"#N/A"}},null,null,null,null,null,null,null,{"$f":"VLOOKUP(L99,állásidő_kódok!$B:$D,3,0)","v":{"$error":"#N/A"}},null,null,null,null,null,null,null,{"$f":"VLOOKUP(T99,állásidő_kódok!$B:$D,3,0)","v":{"$error":"#N/A"}}]
[null,null,null,null,null,{"$f":"VLOOKUP(D100,állásidő_kódok!$B:$D,3,0)","v":{"$error":"#N/A"}},null,null,null,null,null,null,null,{"$f":"VLOOKUP(L100,állásidő_kódok!$B:$D,3,0)","v":{"$error":"#N/A"}},null,null,null,null,null,null,null,{"$f":"VLOOKUP(T100,állásidő_kódok!$B:$D,3,0)","v":{"$error":"#N/A"}}]
[null,null,null,null,null,{"$f":"VLOOKUP(D101,állásidő_kódok!$B:$D,3,0)","v":{"$error":"#N/A"}},null,null,null,null,null,null,null,{"$f":"VLOOKUP(L101,állásidő_kódok!$B:$D,3,0)","v":{"$error":"#N/A"}},null,null,null,null,null,null,null,{"$f":"VLOOKUP(T101,állásidő_kódok!$B:$D,3,0)","v":{"$error":"#N/A"}}]
[null,null,null,205,400,{"$f":"VLOOKUP(D102,állásidő_kódok!$B:$D,3,0)","v":"AE - Csomagolóanyag hiány"},null,null,null,null,null,1,100,{"$f":"VLOOKUP(L102,állásidő_kódok!$B:$D,3,0)","v":"E-I. - Emberi erőforrás hiány"},null,null,null,null,null,5,200,{"$f":"VLOOKUP(T102,állásidő_kódok!$B:$D,3,0)","v":"E-I. - 5%-os emberi erőforrás hiány"}]
[null,null,null,null,"Állásidők nélküli teljesítés:",{"$f":"((SUM(E93:E102)/445))+E75/E77","v":1.7834917891097666},null,null,null,null,null,null,"Állásidők nélküli teljesítés:",{"$f":"((SUM(M93:M102)/445))+M75/M77","v":1.7852684144818975},null,null,null,null,null,null,"Állásidők nélküli teljesítés:",{"$f":"((SUM(U93:U102)/445))+U75/U77","v":1.2297128589263422}]
[null,{"$f":"Alapadatok!C6","v":"2p Sztátor sor"},null,null,null,null,null,null,null,{"$f":"B104","v":"2p Sztátor sor"},null,null,null,null,null,null,null,{"$f":"B104","v":"2p Sztátor sor"}]
[null,null,null,"Gyártott:",42,"db",null,null,null,null,null,"Gyártott:",48,"db",null,null,null,null,null,"Gyártott:",27,"db"]
[]
[null,null,null,"Elvárt darabszám:",50,"db",null,"Elvárt db/op:",8.33,null,null,"Elvárt darabszám:",52,"db",null,"Elvárt db/op:",8.67,null,null,"Elvárt darabszám:",45,"db",null,"Elvárt db/op:",9]
[null,null,null,"Szükséges létszám: ",6,"fő",null,null,null,null,null,"Szükséges létszám:",6,"fő",null,null,null,null,null,"Szükséges létszám:",5,"fő"]
[null,null,null,"Aktuális létszám:",6,"fő",null,"Aktuális db/op:",7,null,null,"Aktuális létszám:",0,"fő",null,"Aktuális db/op:",0,null,null,"Aktuális létszám:",0,"fő",null,"Aktuális db/op:",0]
[]
[null,null,null,"Operátor",4,"fő",null,null,null,null,null,"Operátor",6,"fő",null,null,null,null,null,"Operátor",4,"fő"]
[null,null,null,"Koordinátor",1,"fő",null,null,null,null,null,"Koordinátor",0,"fő",null,null,null,null,null,"Koordinátor",1,"fő"]
[null,null,null,"Beállító",1,"fő",null,null,null,null,null,"Beállító",1,"fő",null,null,null,null,null,"Beállító",1,"fő"]
[null,null,null,"QA, Service",null,"fő",null,null,null,null,null,"QA, Service",null,"fő",null,null,null,null,null,"QA, Service",null,"fő"]
[null,null,null,"Anyagszállító",null,"fő",null,null,null,null,null,"Anyagszállító",null,"fő",null,null,null,null,null,"Anyagszállító",null,"fő"]
[null,null,null,"Egyéb",null,"fő",null,null,null,null,null,"Egyéb",null,"fő",null,null,null,null,null,"Egyéb",null,"fő"]
[]
[null,null,null,"Backlog:",null,"sorok száma",null,null,null,null,null,"Backlog:",null,"sorok száma",null,null,null,null,null,"Backlog:",null,"sorok száma"]
[]
[null,null,null,"Backlog:",null,"összes darab",null,null,null,null,null,"Backlog:",null,"összes darab",null,null,null,null,null,"Backlog:",null,"összes darab"]
[]
[null,null,null,"Kód:","Időtartam","Állásidő megnevezése",null,null,null,null,null,"Kód:","Időtartam","Állásidő megnevezése",null,null,null,null,null,"Kód:","Időtartam","Állásidő megnevezése"]
[null,null,null,1,480,{"$f":"VLOOKUP(D123,állásidő_kódok!$B:$D,3,0)","v":"E-I. - Emberi erőforrás hiány"},null,null,null,null,null,null,null,{"$f":"VLOOKUP(L123,állásidő_kódok!$B:$D,3,0)","v":{"$error":"#N/A"}},null,null,null,null,null,1,480,{"$f":"VLOOKUP(T123,állásidő_kódok!$B:$D,3,0)","v":"E-I. - Emberi erőforrás hiány"}]
[null,null,null,null,null,{"$f":"VLOOKUP(D124,állásidő_kódok!$B:$D,3,0)","v":{"$error":"#N/A"}},null,null,null,null,null,null,null,{"$f":"VLOOKUP(L124,állásidő_kódok!$B:$D,3,0)","v":{"$error":"#N/A"}},null,null,null,null,null,null,null,{"$f":"VLOOKUP(T124,állásidő_kódok!$B:$D,3,0)","v":{"$error":"#N/A"}}]
[null,null,null,null,null,{"$f":"VLOOKUP(D125,állásidő_kódok!$B:$D,3,0)","v":{"$error":"#N/A"}},null,null,null,null,null,null,null,{"$f":"VLOOKUP(L125,állásidő_kódok!$B:$D,3,0)","v":{"$error":"#N/A"}},null,null,null,null,null,null,null,{"$f":"VLOOKUP(T125,állásidő_kódok!$B:$D,3,0)","v":{"$error":"#N/A"}}]
[null,null,null,null,null,{"$f":"VLOOKUP(D126,állásidő_kódok!$B:$D,3,0)","v":{"$error":"#N/A"}},null,null,null,null,null,null,null,{"$f":"VLOOKUP(L126,állásidő_kódok!$B:$D,3,0)","v":{"$error":"#N/A"}},null,null,null,null,null,null,null,{"$f":"VLOOKUP(T126,állásidő_kódok!$B:$D,3,0)","v":{"$error":"#N/A"}}]
[null,null,null,null,null,{"$f":"VLOOKUP(D127,állásidő_kódok!$B:$D,3,0)","v":{"$error":"#N/A"}},null,null,null,null,null,null,null,{"$f":"VLOOKUP(L127,állásidő_kódok!$B:$D,3,0)","v":{"$error":"#N/A"}},null,null,null,null,null,null,null,{"$f":"VLOOKUP(T127,állásidő_kódok!$B:$D,3,0)","v":{"$error":"#N/A"}}]
[null,null,null,null,null,{"$f":"VLOOKUP(D128,állásidő_kódok!$B:$D,3,0)","v":{"$error":"#N/A"}},null,null,null,null,null,null,null,{"$f":"VLOOKUP(L128,állásidő_kódok!$B:$D,3,0)","v":{"$error":"#N/A"}},null,null,null,null,null,null,null,{"$f":"VLOOKUP(T128,állásidő_kódok!$B:$D,3,0)","v":{"$error":"#N/A"}}]
[null,null,null,null,null,{"$f":"VLOOKUP(D129,állásidő_kódok!$B:$D,3,0)","v":{"$error":"#N/A"}},null,null,null,null,null,null,null,{"$f":"VLOOKUP(L129,állásidő_kódok!$B:$D,3,0)","v":{"$error":"#N/A"}},null,null,null,null,null,null,null,{"$f":"VLOOKUP(T129,állásidő_kódok!$B:$D,3,0)","v":{"$error":"#N/A"}}]
[null,null,null,null,null,{"$f":"VLOOKUP(D130,állásidő_kódok!$B:$D,3,0)","v":{"$error":"#N/A"}},null,null,null,null,null,null,null,{"$f":"VLOOKUP(L130,állásidő_kódok!$B:$D,3,0)","v":{"$error":"#N/A"}},null,null,null,null,null,null,null,{"$f":"VLOOKUP(T130,állásidő_kódok!$B:$D,3,0)","v":{"$error":"#N/A"}}]
[null,null,null,null,null,{"$f":"VLOOKUP(D131,állásidő_kódok!$B:$D,3,0)","v":{"$error":"#N/A"}},null,null,null,null,null,null,null,{"$f":"VLOOKUP(L131,állásidő_kódok!$B:$D,3,0)","v":{"$error":"#N/A"}},null,null,null,null,null,null,null,{"$f":"VLOOKUP(T131,állásidő_kódok!$B:$D,3,0)","v":{"$error":"#N/A"}}]
[null,null,null,null,null,{"$f":"VLOOKUP(D132,állásidő_kódok!$B:$D,3,0)","v":{"$error":"#N/A"}},null,null,null,null,null,null,null,{"$f":"VLOOKUP(L132,állásidő_kódok!$B:$D,3,0)","v":{"$error":"#N/A"}},null,null,null,null,null,null,null,{"$f":"VLOOKUP(T132,állásidő_kódok!$B:$D,3,0)","v":{"$error":"#N/A"}}]
[null,null,null,null,"Állásidők nélküli teljesítés:",{"$f":"((SUM(E123:E132)/445))+E105/E107","v":1.9186516853932583},null,null,null,null,null,null,"Állásidők nélküli teljesítés:",{"$f":"((SUM(M123:M132)/445))+M105/M107","v":0.92307692307692313},null,null,null,null,null,null,"Állásidők nélküli teljesítés:",{"$f":"((SUM(U123:U132)/445))+U105/U107","v":1.6786516853932585}]
[null,{"$f":"Alapadatok!C7","v":"4p sztátor sor"},null,null,null,null,null,null,null,{"$f":"B134","v":"4p sztátor sor"},null,null,null,null,null,null,null,{"$f":"B134","v":"4p sztátor sor"}]
[null,null,null,"Gyártott:",null,"db",null,null,null,null,null,"Gyártott:",20,"db",null,null,null,null,null,"Gyártott:",null,"db"]
[]
[null,null,null,"Elvárt darabszám:",0,"db",null,"Elvárt db/op:",0,null,null,"Elvárt darabszám:",20,"db",null,"Elvárt db/op:",5,null,null,"Elvárt darabszám:",0,"db",null,"Elvárt db/op:",0]
[null,null,null,"Szükséges létszám: ",0,"fő",null,null,null,null,null,"Szükséges létszám:",4,"fő",null,null,null,null,null,"Szükséges létszám:",0,"fő"]
[null,null,null,"Aktuális létszám:",0,"fő",null,"Aktuális db/op:",0,null,null,"Aktuális létszám:",0,"fő",null,"Aktuális db/op:",0,null,null,"Aktuális létszám:",0,"fő",null,"Aktuális db/op:",0]
[]
[null,null,null,"Operátor",null,"fő",null,null,null,null,null,"Operátor",3,"fő",null,null,null,null,null,"Operátor",null,"fő"]
[null,null,null,"Koordinátor",null,"fő",null,null,null,null,null,"Koordinátor",null,"fő",null,null,null,null,null,"Koordinátor",null,"fő"]
[null,null,null,"Beállító",null,"fő",null,null,null,null,null,"Beállító",null,"fő",null,null,null,null,null,"Beállító",null,"fő"]
[null,null,null,"QA, Service",null,"fő",null,null,null,null,null,"QA, Service",null,"fő",null,null,null,null,null,"QA, Service",null,"fő"]
[null,null,null,"Anyagszállító",null,"fő",null,null,null,null,null,"Anyagszállító",null,"fő",null,null,null,null,null,"Anyagszállító",null,"fő"]
[null,null,null,"Egyéb",null,"fő",null,null,null,null,null,"Egyéb",null,"fő",null,null,null,null,null,"Egyéb",null,"fő"]
[]
[null,null,null,"Backlog:",null,"sorok száma",null,null,null,null,null,"Backlog:",null,"sorok száma",null,null,null,null,null,"Backlog:",null,"sorok száma"]
[]
[null,null,null,"Backlog:",null,"összes darab",null,null,null,null,null,"Backlog:",null,"összes darab",null,null,null,null,null,"Backlog:",null,"összes darab"]
[]
[null,null,null,"Kód:","Időtartam","Állásidő megnevezése",null,null,null,null,null,"Kód:","Időtartam","Állásidő megnevezése",null,null,null,null,null,"Kód:","Időtartam","Állásidő megnevezése"]
[null,null,null,null,null,{"$f":"VLOOKUP(D153,állásidő_kódok!$B:$D,3,0)","v":{"$error":"#N/A"}},null,null,null,null,null,null,null,{"$f":"VLOOKUP(L153,állásidő_kódok!$B:$D,3,0)","v":{"$error":"#N/A"}},null,null,null,null,null,null,null,{"$f":"VLOOKUP(T153,állásidő_kódok!$B:$D,3,0)","v":{"$error":"#N/A"}}]
[null,null,null,null,null,{"$f":"VLOOKUP(D154,állásidő_kódok!$B:$D,3,0)","v":{"$error":"#N/A"}},null,null,null,null,null,null,null,{"$f":"VLOOKUP(L154,állásidő_kódok!$B:$D,3,0)","v":{"$error":"#N/A"}},null,null,null,null,null,null,null,{"$f":"VLOOKUP(T154,állásidő_kódok!$B:$D,3,0)","v":{"$error":"#N/A"}}]
[null,null,null,null,null,{"$f":"VLOOKUP(D155,állásidő_kódok!$B:$D,3,0)","v":{"$error":"#N/A"}},null,null,null,null,null,null,null,{"$f":"VLOOKUP(L155,állásidő_kódok!$B:$D,3,0)","v":{"$error":"#N/A"}},null,null,null,null,null,null,null,{"$f":"VLOOKUP(T155,állásidő_kódok!$B:$D,3,0)","v":{"$error":"#N/A"}}]
[null,null,null,null,null,{"$f":"VLOOKUP(D156,állásidő_kódok!$B:$D,3,0)","v":{"$error":"#N/A"}},null,null,null,null,null,null,null,{"$f":"VLOOKUP(L156,állásidő_kódok!$B:$D,3,0)","v":{"$error":"#N/A"}},null,null,null,null,null,null,null,{"$f":"VLOOKUP(T156,állásidő_kódok!$B:$D,3,0)","v":{"$error":"#N/A"}}]
[null,null,null,null,null,{"$f":"VLOOKUP(D157,állásidő_kódok!$B:$D,3,0)","v":{"$error":"#N/A"}},null,null,null,null,null,null,null,{"$f":"VLOOKUP(L157,állásidő_kódok!$B:$D,3,0)","v":{"$error":"#N/A"}},null,null,null,null,null,null,null,{"$f":"VLOOKUP(T157,állásidő_kódok!$B:$D,3,0)","v":{"$error":"#N/A"}}]
[null,null,null,null,null,{"$f":"VLOOKUP(D158,állásidő_kódok!$B:$D,3,0)","v":{"$error":"#N/A"}},null,null,null,null,null,null,null,{"$f":"VLOOKUP(L158,állásidő_kódok!$B:$D,3,0)","v":{"$error":"#N/A"}},null,null,null,null,null,null,null,{"$f":"VLOOKUP(T158,állásidő_kódok!$B:$D,3,0)","v":{"$error":"#N/A"}}]
[null,null,null,null,null,{"$f":"VLOOKUP(D159,állásidő_kódok!$B:$D,3,0)","v":{"$error":"#N/A"}},null,null,null,null,null,null,null,{"$f":"VLOOKUP(L159,állásidő_kódok!$B:$D,3,0)","v":{"$error":"#N/A"}},null,null,null,null,null,null,null,{"$f":"VLOOKUP(T159,állásidő_kódok!$B:$D,3,0)","v":{"$error":"#N/A"}}]
[null,null,null,null,null,{"$f":"VLOOKUP(D160,állásidő_kódok!$B:$D,3,0)","v":{"$error":"#N/A"}},null,null,null,null,null,null,null,{"$f":"VLOOKUP(L160,állásidő_kódok!$B:$D,3,0)","v":{"$error":"#N/A"}},null,null,null,null,null,null,null,{"$f":"VLOOKUP(T160,állásidő_kódok!$B:$D,3,0)","v":{"$error":"#N/A"}}]
[null,null,null,null,null,{"$f":"VLOOKUP(D161,állásidő_kódok!$B:$D,3,0)","v":{"$error":"#N/A"}},null,null,null,null,null,null,null,{"$f":"VLOOKUP(L161,állásidő_kódok!$B:$D,3,0)","v":{"$error":"#N/A"}},null,null,null,null,null,null,null,{"$f":"VLOOKUP(T161,állásidő_kódok!$B:$D,3,0)","v":{"$error":"#N/A"}}]
[null,null,null,null,null,{"$f":"VLOOKUP(D162,állásidő_kódok!$B:$D,3,0)","v":{"$error":"#N/A"}},null,null,null,null,null,null,null,{"$f":"VLOOKUP(L162,állásidő_kódok!$B:$D,3,0)","v":{"$error":"#N/A"}},null,null,null,null,null,null,null,{"$f":"VLOOKUP(T162,állásidő_kódok!$B:$D,3,0)","v":{"$error":"#N/A"}}]
[null,null,null,null,"Állásidők nélküli teljesítés:",{"$f":"((SUM(E153:E162)/445))+E135/E137","v":{"$error":"#DIV/0!"}},null,null,null,null,null,null,"Állásidők nélküli teljesítés:",{"$f":"((SUM(M153:M162)/445))+M135/M137","v":1},null,null,null,null,null,null,"Állásidők nélküli teljesítés:",{"$f":"((SUM(U153:U162)/445))+U135/U137","v":{"$error":"#DIV/0!"}}]
[null,{"$f":"Alapadatok!C8","v":"DE cella"},null,null,null,null,null,null,null,{"$f":"B164","v":"DE cella"},null,null,null,null,null,null,null,{"$f":"B164","v":"DE cella"}]
[null,null,null,"Gyártott:",54,"db",null,null,null,null,null,"Gyártott:",56,"db",null,null,null,null,null,"Gyártott:",52,"db"]
[]
[null,null,null,"Elvárt darabszám:",52,"db",null,"Elvárt db/op:",26,null,null,"Elvárt darabszám:",52,"db",null,"Elvárt db/op:",26,null,null,"Elvárt darabszám:",52,"db",null,"Elvárt db/op:",26]
[null,null,null,"Szükséges létszám: ",2,"fő",null,null,null,null,null,"Szükséges létszám:",2,"fő",null,null,null,null,null,"Szükséges létszám:",2,"fő"]
[null,null,null,"Aktuális létszám:",2,"fő",null,"Aktuális db/op:",27,null,null,"Aktuális létszám:",0,"fő",null,"Aktuális db/op:",0,null,null,"Aktuális létszám:",0,"fő",null,"Aktuális db/op:",0]
[]
[null,null,null,"Operátor",2,"fő",null,null,null,null,null,"Operátor",null,"fő",null,null,null,null,null,"Operátor",1,"fő"]
[null,null,null,"Koordinátor",null,"fő",null,null,null,null,null,"Koordinátor",null,"fő",null,null,null,null,null,"Koordinátor",null,"fő"]
[null,null,null,"Beállító",null,"fő",null,null,null,null,null,"Beállító",1,"fő",null,null,null,null,null,"Beállító",null,"fő"]
[null,null,null,"QA, Service",null,"fő",null,null,null,null,null,"QA, Service",null,"fő",null,null,null,null,null,"QA, Service",null,"fő"]
[null,null,null,"Anyagszállító",null,"fő",null,null,null,null,null,"Anyagszállító",null,"fő",null,null,null,null,null,"Anyagszállító",null,"fő"]
[null,null,null,"Egyéb",null,"fő",null,null,null,null,null,"Egyéb",null,"fő",null,null,null,null,null,"Egyéb",null,"fő"]
[]
[null,null,null,"Backlog:",null,"sorok száma",null,null,null,null,null,"Backlog:",null,"sorok száma",null,null,null,null,null,"Backlog:",null,"sorok száma"]
[]
[null,null,null,"Backlog:",null,"összes darab",null,null,null,null,null,"Backlog:",null,"összes darab",null,null,null,null,null,"Backlog:",null,"összes darab"]
[]
[null,null,null,"Kód:","Időtartam","Állásidő megnevezése",null,null,null,null,null,"Kód:","Időtartam","Állásidő megnevezése",null,null,null,null,null,"Kód:","Időtartam","Állásidő megnevezése"]
[null,null,null,null,null,{"$f":"VLOOKUP(D183,állásidő_kódok!$B:$D,3,0)","v":{"$error":"#N/A"}},null,null,null,null,null,null,null,{"$f":"VLOOKUP(L183,állásidő_kódok!$B:$D,3,0)","v":{"$error":"#N/A"}},null,null,null,null,null,null,null,{"$f":"VLOOKUP(T183,állásidő_kódok!$B:$D,3,0)","v":{"$error":"#N/A"}}]
[null,null,null,null,null,{"$f":"VLOOKUP(D184,állásidő_kódok!$B:$D,3,0)","v":{"$error":"#N/A"}},null,null,null,null,null,null,null,{"$f":"VLOOKUP(L184,állásidő_kódok!$B:$D,3,0)","v":{"$error":"#N/A"}},null,null,null,null,null,null,null,{"$f":"VLOOKUP(T184,állásidő_kódok!$B:$D,3,0)","v":{"$error":"#N/A"}}]
[null,null,null,null,null,{"$f":"VLOOKUP(D185,állásidő_kódok!$B:$D,3,0)","v":{"$error":"#N/A"}},null,null,null,null,null,null,null,{"$f":"VLOOKUP(L185,állásidő_kódok!$B:$D,3,0)","v":{"$error":"#N/A"}},null,null,null,null,null,null,null,{"$f":"VLOOKUP(T185,állásidő_kódok!$B:$D,3,0)","v":{"$error":"#N/A"}}]
[null,null,null,null,null,{"$f":"VLOOKUP(D186,állásidő_kódok!$B:$D,3,0)","v":{"$error":"#N/A"}},null,null,null,null,null,null,null,{"$f":"VLOOKUP(L186,állásidő_kódok!$B:$D,3,0)","v":{"$error":"#N/A"}},null,null,null,null,null,null,null,{"$f":"VLOOKUP(T186,állásidő_kódok!$B:$D,3,0)","v":{"$error":"#N/A"}}]
[null,null,null,null,null,{"$f":"VLOOKUP(D187,állásidő_kódok!$B:$D,3,0)","v":{"$error":"#N/A"}},null,null,null,null,null,null,null,{"$f":"VLOOKUP(L187,állásidő_kódok!$B:$D,3,0)","v":{"$error":"#N/A"}},null,null,null,null,null,null,null,{"$f":"VLOOKUP(T187,állásidő_kódok!$B:$D,3,0)","v":{"$error":"#N/A"}}]
[null,null,null,null,null,{"$f":"VLOOKUP(D188,állásidő_kódok!$B:$D,3,0)","v":{"$error":"#N/A"}},null,null,null,null,null,null,null,{"$f":"VLOOKUP(L188,állásidő_kódok!$B:$D,3,0)","v":{"$error":"#N/A"}},null,null,null,null,null,null,null,{"$f":"VLOOKUP(T188,állásidő_kódok!$B:$D,3,0)","v":{"$error":"#N/A"}}]
[null,null,null,null,null,{"$f":"VLOOKUP(D189,állásidő_kódok!$B:$D,3,0)","v":{"$error":"#N/A"}},null,null,null,null,null,null,null,{"$f":"VLOOKUP(L189,állásidő_kódok!$B:$D,3,0)","v":{"$error":"#N/A"}},null,null,null,null,null,null,null,{"$f":"VLOOKUP(T189,állásidő_kódok!$B:$D,3,0)","v":{"$error":"#N/A"}}]
[null,null,null,null,null,{"$f":"VLOOKUP(D190,állásidő_kódok!$B:$D,3,0)","v":{"$error":"#N/A"}},null,null,null,null,null,null,null,{"$f":"VLOOKUP(L190,állásidő_kódok!$B:$D,3,0)","v":{"$error":"#N/A"}},null,null,null,null,null,null,null,{"$f":"VLOOKUP(T190,állásidő_kódok!$B:$D,3,0)","v":{"$error":"#N/A"}}]
[null,null,null,null,null,{"$f":"VLOOKUP(D191,állásidő_kódok!$B:$D,3,0)","v":{"$error":"#N/A"}},null,null,null,null,null,null,null,{"$f":"VLOOKUP(L191,állásidő_kódok!$B:$D,3,0)","v":{"$error":"#N/A"}},null,null,null,null,null,null,null,{"$f":"VLOOKUP(T191,állásidő_kódok!$B:$D,3,0)","v":{"$error":"#N/A"}}]
[null,null,null,null,null,{"$f":"VLOOKUP(D192,állásidő_kódok!$B:$D,3,0)","v":{"$error":"#N/A"}},null,null,null,null,null,null,null,{"$f":"VLOOKUP(L192,állásidő_kódok!$B:$D,3,0)","v":{"$error":"#N/A"}},null,null,null,null,null,null,null,{"$f":"VLOOKUP(T192,állásidő_kódok!$B:$D,3,0)","v":{"$error":"#N/A"}}]
[null,null,null,null,"Állásidők nélküli teljesítés:",{"$f":"((SUM(E183:E192)/445))+E165/E167","v":1.0384615384615385},null,null,null,null,null,null,"Állásidők nélküli teljesítés:",{"$f":"((SUM(M183:M192)/445))+M165/M167","v":1.0769230769230769},null,null,null,null,null,null,"Állásidők nélküli teljesítés:",{"$f":"((SUM(U183:U192)/445))+U165/U167","v":1}]
[null,{"$f":"Alapadatok!C9","v":"NDE cella"},null,null,null,null,null,null,null,{"$f":"B194","v":"NDE cella"},null,null,null,null,null,null,null,{"$f":"B194","v":"NDE cella"}]
[null,null,null,"Gyártott:",0,"db",null,null,null,null,null,"Gyártott:",96,"db",null,null,null,null,null,"Gyártott:",95,"db"]
[]
[null,null,null,"Elvárt darabszám:",95,"db",null,"Elvárt db/op:",95,null,null,"Elvárt darabszám:",95,"db",null,"Elvárt db/op:",95,null,null,"Elvárt darabszám:",95,"db",null,"Elvárt db/op:",95]
[null,null,null,"Szükséges létszám: ",1,"fő",null,null,null,null,null,"Szükséges létszám:",1,"fő",null,null,null,null,null,"Szükséges létszám:",1,"fő"]
[null,null,null,"Aktuális létszám:",0,"fő",null,"Aktuális db/op:",0,null,null,"Aktuális létszám:",0,"fő",null,"Aktuális db/op:",0,null,null,"Aktuális létszám:",0,"fő",null,"Aktuális db/op:",0]
[]
[null,null,null,"Operátor",null,"fő",null,null,null,null,null,"Operátor",1,"fő",null,null,null,null,null,"Operátor",1,"fő"]
[null,null,null,"Koordinátor",null,"fő",null,null,null,null,null,"Koordinátor",null,"fő",null,null,null,null,null,"Koordinátor",null,"fő"]
[null,null,null,"Beállító",null,"fő",null,null,null,null,null,"Beállító",null,"fő",null,null,null,null,null,"Beállító",null,"fő"]
[null,null,null,"QA, Service",null,"fő",null,null,null,null,null,"QA, Service",null,"fő",null,null,null,null,null,"QA, Service",null,"fő"]
[null,null,null,"Anyagszállító",null,"fő",null,null,null,null,null,"Anyagszállító",null,"fő",null,null,null,null,null,"Anyagszállító",null,"fő"]
[null,null,null,"Egyéb",null,"fő",null,null,null,null,null,"Egyéb",null,"fő",null,null,null,null,null,"Egyéb",null,"fő"]
[]
[null,null,null,"Backlog:",null,"sorok száma",null,null,null,null,null,"Backlog:",null,"sorok száma",null,null,null,null,null,"Backlog:",null,"sorok száma"]
[]
[null,null,null,"Backlog:",null,"összes darab",null,null,null,null,null,"Backlog:",null,"összes darab",null,null,null,null,null,"Backlog:",null,"összes darab"]
[]
[null,null,null,"Kód:","Időtartam","Állásidő megnevezése",null,null,null,null,null,"Kód:","Időtartam","Állásidő megnevezése",null,null,null,null,null,"Kód:","Időtartam","Állásidő megnevezése"]
[null,null,null,null,null,{"$f":"VLOOKUP(D213,állásidő_kódok!$B:$D,3,0)","v":{"$error":"#N/A"}},null,null,null,null,null,null,null,{"$f":"VLOOKUP(L213,állásidő_kódok!$B:$D,3,0)","v":{"$error":"#N/A"}},null,null,null,null,null,null,null,{"$f":"VLOOKUP(T213,állásidő_kódok!$B:$D,3,0)","v":{"$error":"#N/A"}}]
[null,null,null,null,null,{"$f":"VLOOKUP(D214,állásidő_kódok!$B:$D,3,0)","v":{"$error":"#N/A"}},null,null,null,null,null,null,null,{"$f":"VLOOKUP(L214,állásidő_kódok!$B:$D,3,0)","v":{"$error":"#N/A"}},null,null,null,null,null,null,null,{"$f":"VLOOKUP(T214,állásidő_kódok!$B:$D,3,0)","v":{"$error":"#N/A"}}]
[null,null,null,null,null,{"$f":"VLOOKUP(D215,állásidő_kódok!$B:$D,3,0)","v":{"$error":"#N/A"}},null,null,null,null,null,null,null,{"$f":"VLOOKUP(L215,állásidő_kódok!$B:$D,3,0)","v":{"$error":"#N/A"}},null,null,null,null,null,null,null,{"$f":"VLOOKUP(T215,állásidő_kódok!$B:$D,3,0)","v":{"$error":"#N/A"}}]
[null,null,null,null,null,{"$f":"VLOOKUP(D216,állásidő_kódok!$B:$D,3,0)","v":{"$error":"#N/A"}},null,null,null,null,null,null,null,{"$f":"VLOOKUP(L216,állásidő_kódok!$B:$D,3,0)","v":{"$error":"#N/A"}},null,null,null,null,null,null,null,{"$f":"VLOOKUP(T216,állásidő_kódok!$B:$D,3,0)","v":{"$error":"#N/A"}}]
[null,null,null,null,null,{"$f":"VLOOKUP(D217,állásidő_kódok!$B:$D,3,0)","v":{"$error":"#N/A"}},null,null,null,null,null,null,null,{"$f":"VLOOKUP(L217,állásidő_kódok!$B:$D,3,0)","v":{"$error":"#N/A"}},null,null,null,null,null,null,null,{"$f":"VLOOKUP(T217,állásidő_kódok!$B:$D,3,0)","v":{"$error":"#N/A"}}]
[null,null,null,null,null,{"$f":"VLOOKUP(D218,állásidő_kódok!$B:$D,3,0)","v":{"$error":"#N/A"}},null,null,null,null,null,null,null,{"$f":"VLOOKUP(L218,állásidő_kódok!$B:$D,3,0)","v":{"$error":"#N/A"}},null,null,null,null,null,null,null,{"$f":"VLOOKUP(T218,állásidő_kódok!$B:$D,3,0)","v":{"$error":"#N/A"}}]
[null,null,null,null,null,{"$f":"VLOOKUP(D219,állásidő_kódok!$B:$D,3,0)","v":{"$error":"#N/A"}},null,null,null,null,null,null,null,{"$f":"VLOOKUP(L219,állásidő_kódok!$B:$D,3,0)","v":{"$error":"#N/A"}},null,null,null,null,null,null,null,{"$f":"VLOOKUP(T219,állásidő_kódok!$B:$D,3,0)","v":{"$error":"#N/A"}}]
[null,null,null,null,null,{"$f":"VLOOKUP(D220,állásidő_kódok!$B:$D,3,0)","v":{"$error":"#N/A"}},null,null,null,null,null,null,null,{"$f":"VLOOKUP(L220,állásidő_kódok!$B:$D,3,0)","v":{"$error":"#N/A"}},null,null,null,null,null,null,null,{"$f":"VLOOKUP(T220,állásidő_kódok!$B:$D,3,0)","v":{"$error":"#N/A"}}]
[null,null,null,null,null,{"$f":"VLOOKUP(D221,állásidő_kódok!$B:$D,3,0)","v":{"$error":"#N/A"}},null,null,null,null,null,null,null,{"$f":"VLOOKUP(L221,állásidő_kódok!$B:$D,3,0)","v":{"$error":"#N/A"}},null,null,null,null,null,null,null,{"$f":"VLOOKUP(T221,állásidő_kódok!$B:$D,3,0)","v":{"$error":"#N/A"}}]
[null,null,null,null,null,{"$f":"VLOOKUP(D222,állásidő_kódok!$B:$D,3,0)","v":{"$error":"#N/A"}},null,null,null,null,null,null,null,{"$f":"VLOOKUP(L222,állásidő_kódok!$B:$D,3,0)","v":{"$error":"#N/A"}},null,null,null,null,null,null,null,{"$f":"VLOOKUP(T222,állásidő_kódok!$B:$D,3,0)","v":{"$error":"#N/A"}}]
[null,null,null,null,"Állásidők nélküli teljesítés:",{"$f":"((SUM(E213:E222)/445))+E195/E197","v":0},null,null,null,null,null,null,"Állásidők nélküli teljesítés:",{"$f":"((SUM(M213:M222)/445))+M195/M197","v":1.0105263157894737},null,null,null,null,null,null,"Állásidők nélküli teljesítés:",{"$f":"((SUM(U213:U222)/445))+U195/U197","v":1}]
[null,{"$f":"Alapadatok!C10","v":"T+R"},null,null,null,null,null,null,null,{"$f":"B224","v":"T+R"},null,null,null,null,null,null,null,{"$f":"B224","v":"T+R"}]
[null,null,null,"Gyártott:",54,"db",null,null,null,null,null,"Gyártott:",54,"db",null,null,null,null,null,"Gyártott:",54,"db"]
[]
[null,null,null,"Elvárt darabszám:",54,"db",null,"Elvárt db/op:",18,null,null,"Elvárt darabszám:",54,"db",null,"Elvárt db/op:",18,null,null,"Elvárt darabszám:",54,"db",null,"Elvárt db/op:",18]
[null,null,null,"Szükséges létszám: ",3,"fő",null,null,null,null,null,"Szükséges létszám:",3,"fő",null,null,null,null,null,"Szükséges létszám:",3,"fő"]
[null,null,null,"Aktuális létszám:",3,"fő",null,"Aktuális db/op:",18,null,null,"Aktuális létszám:",0,"fő",null,"Aktuális db/op:",0,null,null,"Aktuális létszám:",0,"fő",null,"Aktuális db/op:",0]
[]
[null,null,null,"Operátor",3,"fő",null,null,null,null,null,"Operátor",3,"fő",null,null,null,null,null,"Operátor",2,"fő"]
[null,null,null,"Koordinátor",null,"fő",null,null,null,null,null,"Koordinátor",1,"fő",null,null,null,null,null,"Koordinátor",null,"fő"]
[null,null,null,"Beállító",null,"fő",null,null,null,null,null,"Beállító",null,"fő",null,null,null,null,null,"Beállító",null,"fő"]
[null,null,null,"QA, Service",null,"fő",null,null,null,null,null,"QA, Service",null,"fő",null,null,null,null,null,"QA, Service",null,"fő"]
[null,null,null,"Anyagszállító",null,"fő",null,null,null,null,null,"Anyagszállító",null,"fő",null,null,null,null,null,"Anyagszállító",null,"fő"]
[null,null,null,"Egyéb",null,"fő",null,null,null,null,null,"Egyéb",null,"fő",null,null,null,null,null,"Egyéb",null,"fő"]
[]
[null,null,null,"Backlog:",null,"sorok száma",null,null,null,null,null,"Backlog:",null,"sorok száma",null,null,null,null,null,"Backlog:",null,"sorok száma"]
[]
[null,null,null,"Backlog:",null,"összes darab",null,null,null,null,null,"Backlog:",null,"összes darab",null,null,null,null,null,"Backlog:",null,"összes darab"]
[]
[null,null,null,"Kód:","Időtartam","Állásidő megnevezése",null,null,null,null,null,"Kód:","Időtartam","Állásidő megnevezése",null,null,null,null,null,"Kód:","Időtartam","Állásidő megnevezése"]
[null,null,null,null,null,{"$f":"VLOOKUP(D243,állásidő_kódok!$B:$D,3,0)","v":{"$error":"#N/A"}},null,null,null,null,null,null,null,{"$f":"VLOOKUP(L243,állásidő_kódok!$B:$D,3,0)","v":{"$error":"#N/A"}},null,null,null,null,null,null,null,{"$f":"VLOOKUP(T243,állásidő_kódok!$B:$D,3,0)","v":{"$error":"#N/A"}}]
[null,null,null,null,null,{"$f":"VLOOKUP(D244,állásidő_kódok!$B:$D,3,0)","v":{"$error":"#N/A"}},null,null,null,null,null,null,null,{"$f":"VLOOKUP(L244,állásidő_kódok!$B:$D,3,0)","v":{"$error":"#N/A"}},null,null,null,null,null,null,null,{"$f":"VLOOKUP(T244,állásidő_kódok!$B:$D,3,0)","v":{"$error":"#N/A"}}]
[null,null,null,null,null,{"$f":"VLOOKUP(D245,állásidő_kódok!$B:$D,3,0)","v":{"$error":"#N/A"}},null,null,null,null,null,null,null,{"$f":"VLOOKUP(L245,állásidő_kódok!$B:$D,3,0)","v":{"$error":"#N/A"}},null,null,null,null,null,null,null,{"$f":"VLOOKUP(T245,állásidő_kódok!$B:$D,3,0)","v":{"$error":"#N/A"}}]
[null,null,null,null,null,{"$f":"VLOOKUP(D246,állásidő_kódok!$B:$D,3,0)","v":{"$error":"#N/A"}},null,null,null,null,null,null,null,{"$f":"VLOOKUP(L246,állásidő_kódok!$B:$D,3,0)","v":{"$error":"#N/A"}},null,null,null,null,null,null,null,{"$f":"VLOOKUP(T246,állásidő_kódok!$B:$D,3,0)","v":{"$error":"#N/A"}}]
[null,null,null,null,null,{"$f":"VLOOKUP(D247,állásidő_kódok!$B:$D,3,0)","v":{"$error":"#N/A"}},null,null,null,null,null,null,null,{"$f":"VLOOKUP(L247,állásidő_kódok!$B:$D,3,0)","v":{"$error":"#N/A"}},null,null,null,null,null,null,null,{"$f":"VLOOKUP(T247,állásidő_kódok!$B:$D,3,0)","v":{"$error":"#N/A"}}]
[null,null,null,null,null,{"$f":"VLOOKUP(D248,állásidő_kódok!$B:$D,3,0)","v":{"$error":"#N/A"}},null,null,null,null,null,null,null,{"$f":"VLOOKUP(L248,állásidő_kódok!$B:$D,3,0)","v":{"$error":"#N/A"}},null,null,null,null,null,null,null,{"$f":"VLOOKUP(T248,állásidő_kódok!$B:$D,3,0)","v":{"$error":"#N/A"}}]
[null,null,null,null,null,{"$f":"VLOOKUP(D249,állásidő_kódok!$B:$D,3,0)","v":{"$error":"#N/A"}},null,null,null,null,null,null,null,{"$f":"VLOOKUP(L249,állásidő_kódok!$B:$D,3,0)","v":{"$error":"#N/A"}},null,null,null,null,null,null,null,{"$f":"VLOOKUP(T249,állásidő_kódok!$B:$D,3,0)","v":{"$error":"#N/A"}}]
[null,null,null,null,null,{"$f":"VLOOKUP(D250,állásidő_kódok!$B:$D,3,0)","v":{"$error":"#N/A"}},null,null,null,null,null,null,null,{"$f":"VLOOKUP(L250,állásidő_kódok!$B:$D,3,0)","v":{"$error":"#N/A"}},null,null,null,null,null,null,null,{"$f":"VLOOKUP(T250,állásidő_kódok!$B:$D,3,0)","v":{"$error":"#N/A"}}]
[null,null,null,null,null,{"$f":"VLOOKUP(D251,állásidő_kódok!$B:$D,3,0)","v":{"$error":"#N/A"}},null,null,null,null,null,null,null,{"$f":"VLOOKUP(L251,állásidő_kódok!$B:$D,3,0)","v":{"$error":"#N/A"}},null,null,null,null,null,null,null,{"$f":"VLOOKUP(T251,állásidő_kódok!$B:$D,3,0)","v":{"$error":"#N/A"}}]
[null,null,null,null,null,{"$f":"VLOOKUP(D252,állásidő_kódok!$B:$D,3,0)","v":{"$error":"#N/A"}},null,null,null,null,null,null,null,{"$f":"VLOOKUP(L252,állásidő_kódok!$B:$D,3,0)","v":{"$error":"#N/A"}},null,null,null,null,null,null,null,{"$f":"VLOOKUP(T252,állásidő_kódok!$B:$D,3,0)","v":{"$error":"#N/A"}}]
[null,null,null,null,"Állásidők nélküli teljesítés:",{"$f":"((SUM(E243:E252)/445))+E225/E227","v":1},null,null,null,null,null,null,"Állásidők nélküli teljesítés:",{"$f":"((SUM(M243:M252)/445))+M225/M227","v":1},null,null,null,null,null,null,"Állásidők nélküli teljesítés:",{"$f":"((SUM(U243:U252)/445))+U225/U227","v":1}]
[null,{"$f":"Alapadatok!C11","v":"Cella7"},null,null,null,null,null,null,null,{"$f":"B254","v":"Cella7"},null,null,null,null,null,null,null,{"$f":"B254","v":"Cella7"}]
[null,null,null,"Gyártott:",null,"db",null,null,null,null,null,"Gyártott:",null,"db",null,null,null,null,null,"Gyártott:",null,"db"]
[]
[null,null,null,"Elvárt darabszám:",0,"db",null,"Elvárt db/op:",0,null,null,"Elvárt darabszám:",0,"db",null,"Elvárt db/op:",0,null,null,"Elvárt darabszám:",0,"db",null,"Elvárt db/op:",0]
[null,null,null,"Szükséges létszám: ",0,"fő",null,null,null,null,null,"Szükséges létszám:",0,"fő",null,null,null,null,null,"Szükséges létszám:",0,"fő"]
[null,null,null,"Aktuális létszám:",0,"fő",null,"Aktuális db/op:",0,null,null,"Aktuális létszám:",0,"fő",null,"Aktuális db/op:",0,null,null,"Aktuális létszám:",0,"fő",null,"Aktuális db/op:",0]
[]
[null,null,null,"Operátor",null,"fő",null,null,null,null,null,"Operátor",null,"fő",null,null,null,null,null,"Operátor",null,"fő"]
[null,null,null,"Koordinátor",null,"fő",null,null,null,null,null,"Koordinátor",null,"fő",null,null,null,null,null,"Koordinátor",null,"fő"]
[null,null,null,"Beállító",null,"fő",null,null,null,null,null,"Beállító",null,"fő",null,null,null,null,null,"Beállító",null,"fő"]
[null,null,null,"QA, Service",null,"fő",null,null,null,null,null,"QA, Service",null,"fő",null,null,null,null,null,"QA, Service",null,"fő"]
[null,null,null,"Anyagszállító",null,"fő",null,null,null,null,null,"Anyagszállító",null,"fő",null,null,null,null,null,"Anyagszállító",null,"fő"]
[null,null,null,"Egyéb",null,"fő",null,null,null,null,null,"Egyéb",null,"fő",null,null,null,null,null,"Egyéb",null,"fő"]
[]
[null,null,null,"Backlog:",null,"sorok száma",null,null,null,null,null,"Backlog:",null,"sorok száma",null,null,null,null,null,"Backlog:",null,"sorok száma"]
[]
[null,null,null,"Backlog:",null,"összes darab",null,null,null,null,null,"Backlog:",null,"összes darab",null,null,null,null,null,"Backlog:",null,"összes darab"]
[]
[null,null,null,"Kód:","Időtartam","Állásidő megnevezése",null,null,null,null,null,"Kód:","Időtartam","Állásidő megnevezése",null,null,null,null,null,"Kód:","Időtartam","Állásidő megnevezése"]
[null,null,null,null,null,{"$f":"VLOOKUP(D273,állásidő_kódok!$B:$D,3,0)","v":{"$error":"#N/A"}},null,null,null,null,null,null,null,{"$f":"VLOOKUP(L273,állásidő_kódok!$B:$D,3,0)","v":{"$error":"#N/A"}},null,null,null,null,null,null,null,{"$f":"VLOOKUP(T273,állásidő_kódok!$B:$D,3,0)","v":{"$error":"#N/A"}}]
[null,null,null,null,null,{"$f":"VLOOKUP(D274,állásidő_kódok!$B:$D,3,0)","v":{"$error":"#N/A"}},null,null,null,null,null,null,null,{"$f":"VLOOKUP(L274,állásidő_kódok!$B:$D,3,0)","v":{"$error":"#N/A"}},null,null,null,null,null,null,null,{"$f":"VLOOKUP(T274,állásidő_kódok!$B:$D,3,0)","v":{"$error":"#N/A"}}]
[null,null,null,null,null,{"$f":"VLOOKUP(D275,állásidő_kódok!$B:$D,3,0)","v":{"$error":"#N/A"}},null,null,null,null,null,null,null,{"$f":"VLOOKUP(L275,állásidő_kódok!$B:$D,3,0)","v":{"$error":"#N/A"}},null,null,null,null,null,null,null,{"$f":"VLOOKUP(T275,állásidő_kódok!$B:$D,3,0)","v":{"$error":"#N/A"}}]
[null,null,null,null,null,{"$f":"VLOOKUP(D276,állásidő_kódok!$B:$D,3,0)","v":{"$error":"#N/A"}},null,null,null,null,null,null,null,{"$f":"VLOOKUP(L276,állásidő_kódok!$B:$D,3,0)","v":{"$error":"#N/A"}},null,null,null,null,null,null,null,{"$f":"VLOOKUP(T276,állásidő_kódok!$B:$D,3,0)","v":{"$error":"#N/A"}}]
[null,null,null,null,null,{"$f":"VLOOKUP(D277,állásidő_kódok!$B:$D,3,0)","v":{"$error":"#N/A"}},null,null,null,null,null,null,null,{"$f":"VLOOKUP(L277,állásidő_kódok!$B:$D,3,0)","v":{"$error":"#N/A"}},null,null,null,null,null,null,null,{"$f":"VLOOKUP(T277,állásidő_kódok!$B:$D,3,0)","v":{"$error":"#N/A"}}]
[null,null,null,null,null,{"$f":"VLOOKUP(D278,állásidő_kódok!$B:$D,3,0)","v":{"$error":"#N/A"}},null,null,null,null,null,null,null,{"$f":"VLOOKUP(L278,állásidő_kódok!$B:$D,3,0)","v":{"$error":"#N/A"}},null,null,null,null,null,null,null,{"$f":"VLOOKUP(T278,állásidő_kódok!$B:$D,3,0)","v":{"$error":"#N/A"}}]
[null,null,null,null,null,{"$f":"VLOOKUP(D279,állásidő_kódok!$B:$D,3,0)","v":{"$error":"#N/A"}},null,null,null,null,null,null,null,{"$f":"VLOOKUP(L279,állásidő_kódok!$B:$D,3,0)","v":{"$error":"#N/A"}},null,null,null,null,null,null,null,{"$f":"VLOOKUP(T279,állásidő_kódok!$B:$D,3,0)","v":{"$error":"#N/A"}}]
[null,null,null,null,null,{"$f":"VLOOKUP(D280,állásidő_kódok!$B:$D,3,0)","v":{"$error":"#N/A"}},null,null,null,null,null,null,null,{"$f":"VLOOKUP(L280,állásidő_kódok!$B:$D,3,0)","v":{"$error":"#N/A"}},null,null,null,null,null,null,null,{"$f":"VLOOKUP(T280,állásidő_kódok!$B:$D,3,0)","v":{"$error":"#N/A"}}]
[null,null,null,null,null,{"$f":"VLOOKUP(D281,állásidő_kódok!$B:$D,3,0)","v":{"$error":"#N/A"}},null,null,null,null,null,null,null,{"$f":"VLOOKUP(L281,állásidő_kódok!$B:$D,3,0)","v":{"$error":"#N/A"}},null,null,null,null,null,null,null,{"$f":"VLOOKUP(T281,állásidő_kódok!$B:$D,3,0)","v":{"$error":"#N/A"}}]
[null,null,null,null,null,{"$f":"VLOOKUP(D282,állásidő_kódok!$B:$D,3,0)","v":{"$error":"#N/A"}},null,null,null,null,null,null,null,{"$f":"VLOOKUP(L282,állásidő_kódok!$B:$D,3,0)","v":{"$error":"#N/A"}},null,null,null,null,null,null,null,{"$f":"VLOOKUP(T282,állásidő_kódok!$B:$D,3,0)","v":{"$error":"#N/A"}}]
[null,null,null,null,"Állásidők nélküli teljesítés:",{"$f":"((SUM(E273:E282)/445))+E255/E257","v":{"$error":"#DIV/0!"}},null,null,null,null,null,null,"Állásidők nélküli teljesítés:",{"$f":"((SUM(M273:M282)/445))+M255/M257","v":{"$error":"#DIV/0!"}},null,null,null,null,null,null,"Állásidők nélküli teljesítés:",{"$f":"((SUM(U273:U282)/445))+U255/U257","v":{"$error":"#DIV/0!"}}]
[null,{"$f":"Alapadatok!C12","v":"Cella8"},null,null,null,null,null,null,null,{"$f":"B284","v":"Cella8"},null,null,null,null,null,null,null,{"$f":"B284","v":"Cella8"}]
[null,null,null,"Gyártott:",null,"db",null,null,null,null,null,"Gyártott:",null,"db",null,null,null,null,null,"Gyártott:",null,"db"]
[]
[null,null,null,"Elvárt darabszám:",0,"db",null,"Elvárt db/op:",0,null,null,"Elvárt darabszám:",0,"db",null,"Elvárt db/op:",0,null,null,"Elvárt darabszám:",0,"db",null,"Elvárt db/op:",0]
[null,null,null,"Szükséges létszám: ",0,"fő",null,null,null,null,null,"Szükséges létszám:",0,"fő",null,null,null,null,null,"Szükséges létszám:",0,"fő"]
[null,null,null,"Aktuális létszám:",0,"fő",null,"Aktuális db/op:",0,null,null,"Aktuális létszám:",0,"fő",null,"Aktuális db/op:",0,null,null,"Aktuális létszám:",0,"fő",null,"Aktuális db/op:",0]
[]
[null,null,null,"Operátor",null,"fő",null,null,null,null,null,"Operátor",null,"fő",null,null,null,null,null,"Operátor",null,"fő"]
[null,null,null,"Koordinátor",null,"fő",null,null,null,null,null,"Koordinátor",null,"fő",null,null,null,null,null,"Koordinátor",null,"fő"]
[null,null,null,"Beállító",null,"fő",null,null,null,null,null,"Beállító",null,"fő",null,null,null,null,null,"Beállító",null,"fő"]
[null,null,null,"QA, Service",null,"fő",null,null,null,null,null,"QA, Service",null,"fő",null,null,null,null,null,"QA, Service",null,"fő"]
[null,null,null,"Anyagszállító",null,"fő",null,null,null,null,null,"Anyagszállító",null,"fő",null,null,null,null,null,"Anyagszállító",null,"fő"]
[null,null,null,"Egyéb",null,"fő",null,null,null,null,null,"Egyéb",null,"fő",null,null,null,null,null,"Egyéb",null,"fő"]
[]
[null,null,null,"Backlog:",null,"sorok száma",null,null,null,null,null,"Backlog:",null,"sorok száma",null,null,null,null,null,"Backlog:",null,"sorok száma"]
[]
[null,null,null,"Backlog:",null,"összes darab",null,null,null,null,null,"Backlog:",null,"összes darab",null,null,null,null,null,"Backlog:",null,"összes darab"]
[]
[null,null,null,"Kód:","Időtartam","Állásidő megnevezése",null,null,null,null,null,"Kód:","Időtartam","Állásidő megnevezése",null,null,null,null,null,"Kód:","Időtartam","Állásidő megnevezése"]
[null,null,null,null,null,{"$f":"VLOOKUP(D303,állásidő_kódok!$B:$D,3,0)","v":{"$error":"#N/A"}},null,null,null,null,null,null,null,{"$f":"VLOOKUP(L303,állásidő_kódok!$B:$D,3,0)","v":{"$error":"#N/A"}},null,null,null,null,null,null,null,{"$f":"VLOOKUP(T303,állásidő_kódok!$B:$D,3,0)","v":{"$error":"#N/A"}}]
[null,null,null,null,null,{"$f":"VLOOKUP(D304,állásidő_kódok!$B:$D,3,0)","v":{"$error":"#N/A"}},null,null,null,null,null,null,null,{"$f":"VLOOKUP(L304,állásidő_kódok!$B:$D,3,0)","v":{"$error":"#N/A"}},null,null,null,null,null,null,null,{"$f":"VLOOKUP(T304,állásidő_kódok!$B:$D,3,0)","v":{"$error":"#N/A"}}]
[null,null,null,null,null,{"$f":"VLOOKUP(D305,állásidő_kódok!$B:$D,3,0)","v":{"$error":"#N/A"}},null,null,null,null,null,null,null,{"$f":"VLOOKUP(L305,állásidő_kódok!$B:$D,3,0)","v":{"$error":"#N/A"}},null,null,null,null,null,null,null,{"$f":"VLOOKUP(T305,állásidő_kódok!$B:$D,3,0)","v":{"$error":"#N/A"}}]
[null,null,null,null,null,{"$f":"VLOOKUP(D306,állásidő_kódok!$B:$D,3,0)","v":{"$error":"#N/A"}},null,null,null,null,null,null,null,{"$f":"VLOOKUP(L306,állásidő_kódok!$B:$D,3,0)","v":{"$error":"#N/A"}},null,null,null,null,null,null,null,{"$f":"VLOOKUP(T306,állásidő_kódok!$B:$D,3,0)","v":{"$error":"#N/A"}}]
[null,null,null,null,null,{"$f":"VLOOKUP(D307,állásidő_kódok!$B:$D,3,0)","v":{"$error":"#N/A"}},null,null,null,null,null,null,null,{"$f":"VLOOKUP(L307,állásidő_kódok!$B:$D,3,0)","v":{"$error":"#N/A"}},null,null,null,null,null,null,null,{"$f":"VLOOKUP(T307,állásidő_kódok!$B:$D,3,0)","v":{"$error":"#N/A"}}]
[null,null,null,null,null,{"$f":"VLOOKUP(D308,állásidő_kódok!$B:$D,3,0)","v":{"$error":"#N/A"}},null,null,null,null,null,null,null,{"$f":"VLOOKUP(L308,állásidő_kódok!$B:$D,3,0)","v":{"$error":"#N/A"}},null,null,null,null,null,null,null,{"$f":"VLOOKUP(T308,állásidő_kódok!$B:$D,3,0)","v":{"$error":"#N/A"}}]
[null,null,null,null,null,{"$f":"VLOOKUP(D309,állásidő_kódok!$B:$D,3,0)","v":{"$error":"#N/A"}},null,null,null,null,null,null,null,{"$f":"VLOOKUP(L309,állásidő_kódok!$B:$D,3,0)","v":{"$error":"#N/A"}},null,null,null,null,null,null,null,{"$f":"VLOOKUP(T309,állásidő_kódok!$B:$D,3,0)","v":{"$error":"#N/A"}}]
[null,null,null,null,null,{"$f":"VLOOKUP(D310,állásidő_kódok!$B:$D,3,0)","v":{"$error":"#N/A"}},null,null,null,null,null,null,null,{"$f":"VLOOKUP(L310,állásidő_kódok!$B:$D,3,0)","v":{"$error":"#N/A"}},null,null,null,null,null,null,null,{"$f":"VLOOKUP(T310,állásidő_kódok!$B:$D,3,0)","v":{"$error":"#N/A"}}]
[null,null,null,null,null,{"$f":"VLOOKUP(D311,állásidő_kódok!$B:$D,3,0)","v":{"$error":"#N/A"}},null,null,null,null,null,null,null,{"$f":"VLOOKUP(L311,állásidő_kódok!$B:$D,3,0)","v":{"$error":"#N/A"}},null,null,null,null,null,null,null,{"$f":"VLOOKUP(T311,állásidő_kódok!$B:$D,3,0)","v":{"$error":"#N/A"}}]
[null,null,null,null,null,{"$f":"VLOOKUP(D312,állásidő_kódok!$B:$D,3,0)","v":{"$error":"#N/A"}},null,null,null,null,null,null,null,{"$f":"VLOOKUP(L312,állásidő_kódok!$B:$D,3,0)","v":{"$error":"#N/A"}},null,null,null,null,null,null,null,{"$f":"VLOOKUP(T312,állásidő_kódok!$B:$D,3,0)","v":{"$error":"#N/A"}}]
[null,null,null,null,"Állásidők nélküli teljesítés:",{"$f":"((SUM(E303:E312)/445))+E285/E287","v":{"$error":"#DIV/0!"}},null,null,null,null,null,null,"Állásidők nélküli teljesítés:",{"$f":"((SUM(M303:M312)/445))+M285/M287","v":{"$error":"#DIV/0!"}},null,null,null,null,null,null,"Állásidők nélküli teljesítés:",{"$f":"((SUM(U303:U312)/445))+U285/U287","v":{"$error":"#DIV/0!"}}]
[null,{"$f":"Alapadatok!C13","v":"Cella9"},null,null,null,null,null,null,null,{"$f":"B314","v":"Cella9"},null,null,null,null,null,null,null,{"$f":"B314","v":"Cella9"}]
[null,null,null,"Gyártott:",null,"db",null,null,null,null,null,"Gyártott:",null,"db",null,null,null,null,null,"Gyártott:",null,"db"]
[]
[null,null,null,"Elvárt darabszám:",0,"db",null,"Elvárt db/op:",0,null,null,"Elvárt darabszám:",0,"db",null,"Elvárt db/op:",0,null,null,"Elvárt darabszám:",0,"db",null,"Elvárt db/op:",0]
[null,null,null,"Szükséges létszám: ",0,"fő",null,null,null,null,null,"Szükséges létszám:",0,"fő",null,null,null,null,null,"Szükséges létszám:",0,"fő"]
[null,null,null,"Aktuális létszám:",0,"fő",null,"Aktuális db/op:",0,null,null,"Aktuális létszám:",0,"fő",null,"Aktuális db/op:",0,null,null,"Aktuális létszám:",0,"fő",null,"Aktuális db/op:",0]
[]
[null,null,null,"Operátor",null,"fő",null,null,null,null,null,"Operátor",null,"fő",null,null,null,null,null,"Operátor",null,"fő"]
[null,null,null,"Koordinátor",null,"fő",null,null,null,null,null,"Koordinátor",null,"fő",null,null,null,null,null,"Koordinátor",null,"fő"]
[null,null,null,"Beállító",null,"fő",null,null,null,null,null,"Beállító",null,"fő",null,null,null,null,null,"Beállító",null,"fő"]
[null,null,null,"QA, Service",null,"fő",null,null,null,null,null,"QA, Service",null,"fő",null,null,null,null,null,"QA, Service",null,"fő"]
[null,null,null,"Anyagszállító",null,"fő",null,null,null,null,null,"Anyagszállító",null,"fő",null,null,null,null,null,"Anyagszállító",null,"fő"]
[null,null,null,"Egyéb",null,"fő",null,null,null,null,null,"Egyéb",null,"fő",null,null,null,null,null,"Egyéb",null,"fő"]
[]
[null,null,null,"Backlog:",null,"sorok száma",null,null,null,null,null,"Backlog:",null,"sorok száma",null,null,null,null,null,"Backlog:",null,"sorok száma"]
[]
[null,null,null,"Backlog:",null,"összes darab",null,null,null,null,null,"Backlog:",null,"összes darab",null,null,null,null,null,"Backlog:",null,"összes darab"]
[]
[null,null,null,"Kód:","Időtartam","Állásidő megnevezése",null,null,null,null,null,"Kód:","Időtartam","Állásidő megnevezése",null,null,null,null,null,"Kód:","Időtartam","Állásidő megnevezése"]
[null,null,null,null,null,{"$f":"VLOOKUP(D333,állásidő_kódok!$B:$D,3,0)","v":{"$error":"#N/A"}},null,null,null,null,null,null,null,{"$f":"VLOOKUP(L333,állásidő_kódok!$B:$D,3,0)","v":{"$error":"#N/A"}},null,null,null,null,null,null,null,{"$f":"VLOOKUP(T333,állásidő_kódok!$B:$D,3,0)","v":{"$error":"#N/A"}}]
[null,null,null,null,null,{"$f":"VLOOKUP(D334,állásidő_kódok!$B:$D,3,0)","v":{"$error":"#N/A"}},null,null,null,null,null,null,null,{"$f":"VLOOKUP(L334,állásidő_kódok!$B:$D,3,0)","v":{"$error":"#N/A"}},null,null,null,null,null,null,null,{"$f":"VLOOKUP(T334,állásidő_kódok!$B:$D,3,0)","v":{"$error":"#N/A"}}]
[null,null,null,null,null,{"$f":"VLOOKUP(D335,állásidő_kódok!$B:$D,3,0)","v":{"$error":"#N/A"}},null,null,null,null,null,null,null,{"$f":"VLOOKUP(L335,állásidő_kódok!$B:$D,3,0)","v":{"$error":"#N/A"}},null,null,null,null,null,null,null,{"$f":"VLOOKUP(T335,állásidő_kódok!$B:$D,3,0)","v":{"$error":"#N/A"}}]
[null,null,null,null,null,{"$f":"VLOOKUP(D336,állásidő_kódok!$B:$D,3,0)","v":{"$error":"#N/A"}},null,null,null,null,null,null,null,{"$f":"VLOOKUP(L336,állásidő_kódok!$B:$D,3,0)","v":{"$error":"#N/A"}},null,null,null,null,null,null,null,{"$f":"VLOOKUP(T336,állásidő_kódok!$B:$D,3,0)","v":{"$error":"#N/A"}}]
[null,null,null,null,null,{"$f":"VLOOKUP(D337,állásidő_kódok!$B:$D,3,0)","v":{"$error":"#N/A"}},null,null,null,null,null,null,null,{"$f":"VLOOKUP(L337,állásidő_kódok!$B:$D,3,0)","v":{"$error":"#N/A"}},null,null,null,null,null,null,null,{"$f":"VLOOKUP(T337,állásidő_kódok!$B:$D,3,0)","v":{"$error":"#N/A"}}]
[null,null,null,null,null,{"$f":"VLOOKUP(D338,állásidő_kódok!$B:$D,3,0)","v":{"$error":"#N/A"}},null,null,null,null,null,null,null,{"$f":"VLOOKUP(L338,állásidő_kódok!$B:$D,3,0)","v":{"$error":"#N/A"}},null,null,null,null,null,null,null,{"$f":"VLOOKUP(T338,állásidő_kódok!$B:$D,3,0)","v":{"$error":"#N/A"}}]
[null,null,null,null,null,{"$f":"VLOOKUP(D339,állásidő_kódok!$B:$D,3,0)","v":{"$error":"#N/A"}},null,null,null,null,null,null,null,{"$f":"VLOOKUP(L339,állásidő_kódok!$B:$D,3,0)","v":{"$error":"#N/A"}},null,null,null,null,null,null,null,{"$f":"VLOOKUP(T339,állásidő_kódok!$B:$D,3,0)","v":{"$error":"#N/A"}}]
[null,null,null,null,null,{"$f":"VLOOKUP(D340,állásidő_kódok!$B:$D,3,0)","v":{"$error":"#N/A"}},null,null,null,null,null,null,null,{"$f":"VLOOKUP(L340,állásidő_kódok!$B:$D,3,0)","v":{"$error":"#N/A"}},null,null,null,null,null,null,null,{"$f":"VLOOKUP(T340,állásidő_kódok!$B:$D,3,0)","v":{"$error":"#N/A"}}]
[null,null,null,null,null,{"$f":"VLOOKUP(D341,állásidő_kódok!$B:$D,3,0)","v":{"$error":"#N/A"}},null,null,null,null,null,null,null,{"$f":"VLOOKUP(L341,állásidő_kódok!$B:$D,3,0)","v":{"$error":"#N/A"}},null,null,null,null,null,null,null,{"$f":"VLOOKUP(T341,állásidő_kódok!$B:$D,3,0)","v":{"$error":"#N/A"}}]
[null,null,null,null,null,{"$f":"VLOOKUP(D342,állásidő_kódok!$B:$D,3,0)","v":{"$error":"#N/A"}},null,null,null,null,null,null,null,{"$f":"VLOOKUP(L342,állásidő_kódok!$B:$D,3,0)","v":{"$error":"#N/A"}},null,null,null,null,null,null,null,{"$f":"VLOOKUP(T342,állásidő_kódok!$B:$D,3,0)","v":{"$error":"#N/A"}}]
[null,null,null,null,"Állásidők nélküli teljesítés:",{"$f":"((SUM(E333:E342)/445))+E315/E317","v":{"$error":"#DIV/0!"}},null,null,null,null,null,null,"Állásidők nélküli teljesítés:",{"$f":"((SUM(M333:M342)/445))+M315/M317","v":{"$error":"#DIV/0!"}},null,null,null,null,null,null,"Állásidők nélküli teljesítés:",{"$f":"((SUM(U333:U342)/445))+U315/U317","v":{"$error":"#DIV/0!"}}]
[null,{"$f":"Alapadatok!C14","v":"Cella10"},null,null,null,null,null,null,null,{"$f":"B344","v":"Cella10"},null,null,null,null,null,null,null,{"$f":"B344","v":"Cella10"}]
[null,null,null,"Gyártott:",null,"db",null,null,null,null,null,"Gyártott:",null,"db",null,null,null,null,null,"Gyártott:",null,"db"]
[]
[null,null,null,"Elvárt darabszám:",0,"db",null,"Elvárt db/op:",0,null,null,"Elvárt darabszám:",0,"db",null,"Elvárt db/op:",0,null,null,"Elvárt darabszám:",0,"db",null,"Elvárt db/op:",0]
[null,null,null,"Szükséges létszám: ",0,"fő",null,null,null,null,null,"Szükséges létszám:",0,"fő",null,null,null,null,null,"Szükséges létszám:",0,"fő"]
[null,null,null,"Aktuális létszám:",0,"fő",null,"Aktuális db/op:",0,null,null,"Aktuális létszám:",0,"fő",null,"Aktuális db/op:",0,null,null,"Aktuális létszám:",0,"fő",null,"Aktuális db/op:",0]
[]
[null,null,null,"Operátor",null,"fő",null,null,null,null,null,"Operátor",null,"fő",null,null,null,null,null,"Operátor",null,"fő"]
[null,null,null,"Koordinátor",null,"fő",null,null,null,null,null,"Koordinátor",null,"fő",null,null,null,null,null,"Koordinátor",null,"fő"]
[null,null,null,"Beállító",null,"fő",null,null,null,null,null,"Beállító",null,"fő",null,null,null,null,null,"Beállító",null,"fő"]
[null,null,null,"QA, Service",null,"fő",null,null,null,null,null,"QA, Service",null,"fő",null,null,null,null,null,"QA, Service",null,"fő"]
[null,null,null,"Anyagszállító",null,"fő",null,null,null,null,null,"Anyagszállító",null,"fő",null,null,null,null,null,"Anyagszállító",null,"fő"]
[null,null,null,"Egyéb",null,"fő",null,null,null,null,null,"Egyéb",null,"fő",null,null,null,null,null,"Egyéb",null,"fő"]
[]
[null,null,null,"Backlog:",null,"sorok száma",null,null,null,null,null,"Backlog:",null,"sorok száma",null,null,null,null,null,"Backlog:",null,"sorok száma"]
[]
[null,null,null,"Backlog:",null,"összes darab",null,null,null,null,null,"Backlog:",null,"összes darab",null,null,null,null,null,"Backlog:",null,"összes darab"]
[]
[null,null,null,"Kód:","Időtartam","Állásidő megnevezése",null,null,null,null,null,"Kód:","Időtartam","Állásidő megnevezése",null,null,null,null,null,"Kód:","Időtartam","Állásidő megnevezése"]
[null,null,null,null,null,{"$f":"VLOOKUP(D363,állásidő_kódok!$B:$D,3,0)","v":{"$error":"#N/A"}},null,null,null,null,null,null,null,{"$f":"VLOOKUP(L363,állásidő_kódok!$B:$D,3,0)","v":{"$error":"#N/A"}},null,null,null,null,null,null,null,{"$f":"VLOOKUP(T363,állásidő_kódok!$B:$D,3,0)","v":{"$error":"#N/A"}}]
[null,null,null,null,null,{"$f":"VLOOKUP(D364,állásidő_kódok!$B:$D,3,0)","v":{"$error":"#N/A"}},null,null,null,null,null,null,null,{"$f":"VLOOKUP(L364,állásidő_kódok!$B:$D,3,0)","v":{"$error":"#N/A"}},null,null,null,null,null,null,null,{"$f":"VLOOKUP(T364,állásidő_kódok!$B:$D,3,0)","v":{"$error":"#N/A"}}]
[null,null,null,null,null,{"$f":"VLOOKUP(D365,állásidő_kódok!$B:$D,3,0)","v":{"$error":"#N/A"}},null,null,null,null,null,null,null,{"$f":"VLOOKUP(L365,állásidő_kódok!$B:$D,3,0)","v":{"$error":"#N/A"}},null,null,null,null,null,null,null,{"$f":"VLOOKUP(T365,állásidő_kódok!$B:$D,3,0)","v":{"$error":"#N/A"}}]
[null,null,null,null,null,{"$f":"VLOOKUP(D366,állásidő_kódok!$B:$D,3,0)","v":{"$error":"#N/A"}},null,null,null,null,null,null,null,{"$f":"VLOOKUP(L366,állásidő_kódok!$B:$D,3,0)","v":{"$error":"#N/A"}},null,null,null,null,null,null,null,{"$f":"VLOOKUP(T366,állásidő_kódok!$B:$D,3,0)","v":{"$error":"#N/A"}}]
[null,null,null,null,null,{"$f":"VLOOKUP(D367,állásidő_kódok!$B:$D,3,0)","v":{"$error":"#N/A"}},null,null,null,null,null,null,null,{"$f":"VLOOKUP(L367,állásidő_kódok!$B:$D,3,0)","v":{"$error":"#N/A"}},null,null,null,null,null,null,null,{"$f":"VLOOKUP(T367,állásidő_kódok!$B:$D,3,0)","v":{"$error":"#N/A"}}]
[null,null,null,null,null,{"$f":"VLOOKUP(D368,állásidő_kódok!$B:$D,3,0)","v":{"$error":"#N/A"}},null,null,null,null,null,null,null,{"$f":"VLOOKUP(L368,állásidő_kódok!$B:$D,3,0)","v":{"$error":"#N/A"}},null,null,null,null,null,null,null,{"$f":"VLOOKUP(T368,állásidő_kódok!$B:$D,3,0)","v":{"$error":"#N/A"}}]
[null,null,null,null,null,{"$f":"VLOOKUP(D369,állásidő_kódok!$B:$D,3,0)","v":{"$error":"#N/A"}},null,null,null,null,null,null,null,{"$f":"VLOOKUP(L369,állásidő_kódok!$B:$D,3,0)","v":{"$error":"#N/A"}},null,null,null,null,null,null,null,{"$f":"VLOOKUP(T369,állásidő_kódok!$B:$D,3,0)","v":{"$error":"#N/A"}}]
[null,null,null,null,null,{"$f":"VLOOKUP(D370,állásidő_kódok!$B:$D,3,0)","v":{"$error":"#N/A"}},null,null,null,null,null,null,null,{"$f":"VLOOKUP(L370,állásidő_kódok!$B:$D,3,0)","v":{"$error":"#N/A"}},null,null,null,null,null,null,null,{"$f":"VLOOKUP(T370,állásidő_kódok!$B:$D,3,0)","v":{"$error":"#N/A"}}]
[null,null,null,null,null,{"$f":"VLOOKUP(D371,állásidő_kódok!$B:$D,3,0)","v":{"$error":"#N/A"}},null,null,null,null,null,null,null,{"$f":"VLOOKUP(L371,állásidő_kódok!$B:$D,3,0)","v":{"$error":"#N/A"}},null,null,null,null,null,null,null,{"$f":"VLOOKUP(T371,állásidő_kódok!$B:$D,3,0)","v":{"$error":"#N/A"}}]
[null,null,null,null,null,{"$f":"VLOOKUP(D372,állásidő_kódok!$B:$D,3,0)","v":{"$error":"#N/A"}},null,null,null,null,null,null,null,{"$f":"VLOOKUP(L372,állásidő_kódok!$B:$D,3,0)","v":{"$error":"#N/A"}},null,null,null,null,null,null,null,{"$f":"VLOOKUP(T372,állásidő_kódok!$B:$D,3,0)","v":{"$error":"#N/A"}}]
[null,null,null,null,"Állásidők nélküli teljesítés:",{"$f":"((SUM(E363:E372)/445))+E345/E347","v":{"$error":"#DIV/0!"}},null,null,null,null,null,null,"Állásidők nélküli teljesítés:",{"$f":"((SUM(M363:M372)/445))+M345/M347","v":{"$error":"#DIV/0!"}},null,null,null,null,null,null,"Állásidők nélküli teljesítés:",{"$f":"((SUM(U363:U372)/445))+U345/U347","v":{"$error":"#DIV/0!"}}]
[null,{"$f":"Alapadatok!C15","v":"Cella11"},null,null,null,null,null,null,null,{"$f":"B374","v":"Cella11"},null,null,null,null,null,null,null,{"$f":"B374","v":"Cella11"}]
[null,null,null,"Gyártott:",null,"db",null,null,null,null,null,"Gyártott:",null,"db",null,null,null,null,null,"Gyártott:",null,"db"]
[]
[null,null,null,"Elvárt darabszám:",0,"db",null,"Elvárt db/op:",0,null,null,"Elvárt darabszám:",0,"db",null,"Elvárt db/op:",0,null,null,"Elvárt darabszám:",0,"db",null,"Elvárt db/op:",0]
[null,null,null,"Szükséges létszám: ",0,"fő",null,null,null,null,null,"Szükséges létszám:",0,"fő",null,null,null,null,null,"Szükséges létszám:",0,"fő"]
[null,null,null,"Aktuális létszám:",0,"fő",null,"Aktuális db/op:",0,null,null,"Aktuális létszám:",0,"fő",null,"Aktuális db/op:",0,null,null,"Aktuális létszám:",0,"fő",null,"Aktuális db/op:",0]
[]
[null,null,null,"Operátor",null,"fő",null,null,null,null,null,"Operátor",null,"fő",null,null,null,null,null,"Operátor",null,"fő"]
[null,null,null,"Koordinátor",null,"fő",null,null,null,null,null,"Koordinátor",null,"fő",null,null,null,null,null,"Koordinátor",null,"fő"]
[null,null,null,"Beállító",null,"fő",null,null,null,null,null,"Beállító",null,"fő",null,null,null,null,null,"Beállító",null,"fő"]
[null,null,null,"QA, Service",null,"fő",null,null,null,null,null,"QA, Service",null,"fő",null,null,null,null,null,"QA, Service",null,"fő"]
[null,null,null,"Anyagszállító",null,"fő",null,null,null,null,null,"Anyagszállító",null,"fő",null,null,null,null,null,"Anyagszállító",null,"fő"]
[null,null,null,"Egyéb",null,"fő",null,null,null,null,null,"Egyéb",null,"fő",null,null,null,null,null,"Egyéb",null,"fő"]
[]
[null,null,null,"Backlog:",null,"sorok száma",null,null,null,null,null,"Backlog:",null,"sorok száma",null,null,null,null,null,"Backlog:",null,"sorok száma"]
[]
[null,null,null,"Backlog:",null,"összes darab",null,null,null,null,null,"Backlog:",null,"összes darab",null,null,null,null,null,"Backlog:",null,"összes darab"]
[]
[null,null,null,"Kód:","Időtartam","Állásidő megnevezése",null,null,null,null,null,"Kód:","Időtartam","Állásidő megnevezése",null,null,null,null,null,"Kód:","Időtartam","Állásidő megnevezése"]
[null,null,null,null,null,{"$f":"VLOOKUP(D393,állásidő_kódok!$B:$D,3,0)","v":{"$error":"#N/A"}},null,null,null,null,null,null,null,{"$f":"VLOOKUP(L393,állásidő_kódok!$B:$D,3,0)","v":{"$error":"#N/A"}},null,null,null,null,null,null,null,{"$f":"VLOOKUP(T393,állásidő_kódok!$B:$D,3,0)","v":{"$error":"#N/A"}}]
[null,null,null,null,null,{"$f":"VLOOKUP(D394,állásidő_kódok!$B:$D,3,0)","v":{"$error":"#N/A"}},null,null,null,null,null,null,null,{"$f":"VLOOKUP(L394,állásidő_kódok!$B:$D,3,0)","v":{"$error":"#N/A"}},null,null,null,null,null,null,null,{"$f":"VLOOKUP(T394,állásidő_kódok!$B:$D,3,0)","v":{"$error":"#N/A"}}]
[null,null,null,null,null,{"$f":"VLOOKUP(D395,állásidő_kódok!$B:$D,3,0)","v":{"$error":"#N/A"}},null,null,null,null,null,null,null,{"$f":"VLOOKUP(L395,állásidő_kódok!$B:$D,3,0)","v":{"$error":"#N/A"}},null,null,null,null,null,null,null,{"$f":"VLOOKUP(T395,állásidő_kódok!$B:$D,3,0)","v":{"$error":"#N/A"}}]
[null,null,null,null,null,{"$f":"VLOOKUP(D396,állásidő_kódok!$B:$D,3,0)","v":{"$error":"#N/A"}},null,null,null,null,null,null,null,{"$f":"VLOOKUP(L396,állásidő_kódok!$B:$D,3,0)","v":{"$error":"#N/A"}},null,null,null,null,null,null,null,{"$f":"VLOOKUP(T396,állásidő_kódok!$B:$D,3,0)","v":{"$error":"#N/A"}}]
[null,null,null,null,null,{"$f":"VLOOKUP(D397,állásidő_kódok!$B:$D,3,0)","v":{"$error":"#N/A"}},null,null,null,null,null,null,null,{"$f":"VLOOKUP(L397,állásidő_kódok!$B:$D,3,0)","v":{"$error":"#N/A"}},null,null,null,null,null,null,null,{"$f":"VLOOKUP(T397,állásidő_kódok!$B:$D,3,0)","v":{"$error":"#N/A"}}]
[null,null,null,null,null,{"$f":"VLOOKUP(D398,állásidő_kódok!$B:$D,3,0)","v":{"$error":"#N/A"}},null,null,null,null,null,null,null,{"$f":"VLOOKUP(L398,állásidő_kódok!$B:$D,3,0)","v":{"$error":"#N/A"}},null,null,null,null,null,null,null,{"$f":"VLOOKUP(T398,állásidő_kódok!$B:$D,3,0)","v":{"$error":"#N/A"}}]
[null,null,null,null,null,{"$f":"VLOOKUP(D399,állásidő_kódok!$B:$D,3,0)","v":{"$error":"#N/A"}},null,null,null,null,null,null,null,{"$f":"VLOOKUP(L399,állásidő_kódok!$B:$D,3,0)","v":{"$error":"#N/A"}},null,null,null,null,null,null,null,{"$f":"VLOOKUP(T399,állásidő_kódok!$B:$D,3,0)","v":{"$error":"#N/A"}}]
[null,null,null,null,null,{"$f":"VLOOKUP(D400,állásidő_kódok!$B:$D,3,0)","v":{"$error":"#N/A"}},null,null,null,null,null,null,null,{"$f":"VLOOKUP(L400,állásidő_kódok!$B:$D,3,0)","v":{"$error":"#N/A"}},null,null,null,null,null,null,null,{"$f":"VLOOKUP(T400,állásidő_kódok!$B:$D,3,0)","v":{"$error":"#N/A"}}]
[null,null,null,null,null,{"$f":"VLOOKUP(D401,állásidő_kódok!$B:$D,3,0)","v":{"$error":"#N/A"}},null,null,null,null,null,null,null,{"$f":"VLOOKUP(L401,állásidő_kódok!$B:$D,3,0)","v":{"$error":"#N/A"}},null,null,null,null,null,null,null,{"$f":"VLOOKUP(T401,állásidő_kódok!$B:$D,3,0)","v":{"$error":"#N/A"}}]
[null,null,null,null,null,{"$f":"VLOOKUP(D402,állásidő_kódok!$B:$D,3,0)","v":{"$error":"#N/A"}},null,null,null,null,null,null,null,{"$f":"VLOOKUP(L402,állásidő_kódok!$B:$D,3,0)","v":{"$error":"#N/A"}},null,null,null,null,null,null,null,{"$f":"VLOOKUP(T402,állásidő_kódok!$B:$D,3,0)","v":{"$error":"#N/A"}}]
[null,null,null,null,"Állásidők nélküli teljesítés:",{"$f":"((SUM(E393:E402)/445))+E375/E377","v":{"$error":"#DIV/0!"}},null,null,null,null,null,null,"Állásidők nélküli teljesítés:",{"$f":"((SUM(M393:M402)/445))+M375/M377","v":{"$error":"#DIV/0!"}},null,null,null,null,null,null,"Állásidők nélküli teljesítés:",{"$f":"((SUM(U393:U402)/445))+U375/U377","v":{"$error":"#DIV/0!"}}]
[null,{"$f":"Alapadatok!C16","v":"Cella12"},null,null,null,null,null,null,null,{"$f":"B404","v":"Cella12"},null,null,null,null,null,null,null,{"$f":"B404","v":"Cella12"}]
[null,null,null,"Gyártott:",null,"db",null,null,null,null,null,"Gyártott:",null,"db",null,null,null,null,null,"Gyártott:",null,"db"]
[]
[null,null,null,"Elvárt darabszám:",0,"db",null,"Elvárt db/op:",0,null,null,"Elvárt darabszám:",0,"db",null,"Elvárt db/op:",0,null,null,"Elvárt darabszám:",0,"db",null,"Elvárt db/op:",0]
[null,null,null,"Szükséges létszám: ",0,"fő",null,null,null,null,null,"Szükséges létszám:",0,"fő",null,null,null,null,null,"Szükséges létszám:",0,"fő"]
[null,null,null,"Aktuális létszám:",0,"fő",null,"Aktuális db/op:",0,null,null,"Aktuális létszám:",0,"fő",null,"Aktuális db/op:",0,null,null,"Aktuális létszám:",0,"fő",null,"Aktuális db/op:",0]
[]
[null,null,null,"Operátor",null,"fő",null,null,null,null,null,"Operátor",null,"fő",null,null,null,null,null,"Operátor",null,"fő"]
[null,null,null,"Koordinátor",null,"fő",null,null,null,null,null,"Koordinátor",null,"fő",null,null,null,null,null,"Koordinátor",null,"fő"]
[null,null,null,"Beállító",null,"fő",null,null,null,null,null,"Beállító",null,"fő",null,null,null,null,null,"Beállító",null,"fő"]
[null,null,null,"QA, Service",null,"fő",null,null,null,null,null,"QA, Service",null,"fő",null,null,null,null,null,"QA, Service",null,"fő"]
[null,null,null,"Anyagszállító",null,"fő",null,null,null,null,null,"Anyagszállító",null,"fő",null,null,null,null,null,"Anyagszállító",null,"fő"]
[null,null,null,"Egyéb",null,"fő",null,null,null,null,null,"Egyéb",null,"fő",null,null,null,null,null,"Egyéb",null,"fő"]
[]
[null,null,null,"Backlog:",null,"sorok száma",null,null,null,null,null,"Backlog:",null,"sorok száma",null,null,null,null,null,"Backlog:",null,"sorok száma"]
[]
[null,null,null,"Backlog:",null,"összes darab",null,null,null,null,null,"Backlog:",null,"összes darab",null,null,null,null,null,"Backlog:",null,"összes darab"]
[]
[null,null,null,"Kód:","Időtartam","Állásidő megnevezése",null,null,null,null,null,"Kód:","Időtartam","Állásidő megnevezése",null,null,null,null,null,"Kód:","Időtartam","Állásidő megnevezése"]
[null,null,null,null,null,{"$f":"VLOOKUP(D423,állásidő_kódok!$B:$D,3,0)","v":{"$error":"#N/A"}},null,null,null,null,null,null,null,{"$f":"VLOOKUP(L423,állásidő_kódok!$B:$D,3,0)","v":{"$error":"#N/A"}},null,null,null,null,null,null,null,{"$f":"VLOOKUP(T423,állásidő_kódok!$B:$D,3,0)","v":{"$error":"#N/A"}}]
[null,null,null,null,null,{"$f":"VLOOKUP(D424,állásidő_kódok!$B:$D,3,0)","v":{"$error":"#N/A"}},null,null,null,null,null,null,null,{"$f":"VLOOKUP(L424,állásidő_kódok!$B:$D,3,0)","v":{"$error":"#N/A"}},null,null,null,null,null,null,null,{"$f":"VLOOKUP(T424,állásidő_kódok!$B:$D,3,0)","v":{"$error":"#N/A"}}]
[null,null,null,null,null,{"$f":"VLOOKUP(D425,állásidő_kódok!$B:$D,3,0)","v":{"$error":"#N/A"}},null,null,null,null,null,null,null,{"$f":"VLOOKUP(L425,állásidő_kódok!$B:$D,3,0)","v":{"$error":"#N/A"}},null,null,null,null,null,null,null,{"$f":"VLOOKUP(T425,állásidő_kódok!$B:$D,3,0)","v":{"$error":"#N/A"}}]
[null,null,null,null,null,{"$f":"VLOOKUP(D426,állásidő_kódok!$B:$D,3,0)","v":{"$error":"#N/A"}},null,null,null,null,null,null,null,{"$f":"VLOOKUP(L426,állásidő_kódok!$B:$D,3,0)","v":{"$error":"#N/A"}},null,null,null,null,null,null,null,{"$f":"VLOOKUP(T426,állásidő_kódok!$B:$D,3,0)","v":{"$error":"#N/A"}}]
[null,null,null,null,null,{"$f":"VLOOKUP(D427,állásidő_kódok!$B:$D,3,0)","v":{"$error":"#N/A"}},null,null,null,null,null,null,null,{"$f":"VLOOKUP(L427,állásidő_kódok!$B:$D,3,0)","v":{"$error":"#N/A"}},null,null,null,null,null,null,null,{"$f":"VLOOKUP(T427,állásidő_kódok!$B:$D,3,0)","v":{"$error":"#N/A"}}]
[null,null,null,null,null,{"$f":"VLOOKUP(D428,állásidő_kódok!$B:$D,3,0)","v":{"$error":"#N/A"}},null,null,null,null,null,null,null,{"$f":"VLOOKUP(L428,állásidő_kódok!$B:$D,3,0)","v":{"$error":"#N/A"}},null,null,null,null,null,null,null,{"$f":"VLOOKUP(T428,állásidő_kódok!$B:$D,3,0)","v":{"$error":"#N/A"}}]
[null,null,null,null,null,{"$f":"VLOOKUP(D429,állásidő_kódok!$B:$D,3,0)","v":{"$error":"#N/A"}},null,null,null,null,null,null,null,{"$f":"VLOOKUP(L429,állásidő_kódok!$B:$D,3,0)","v":{"$error":"#N/A"}},null,null,null,null,null,null,null,{"$f":"VLOOKUP(T429,állásidő_kódok!$B:$D,3,0)","v":{"$error":"#N/A"}}]
[null,null,null,null,null,{"$f":"VLOOKUP(D430,állásidő_kódok!$B:$D,3,0)","v":{"$error":"#N/A"}},null,null,null,null,null,null,null,{"$f":"VLOOKUP(L430,állásidő_kódok!$B:$D,3,0)","v":{"$error":"#N/A"}},null,null,null,null,null,null,null,{"$f":"VLOOKUP(T430,állásidő_kódok!$B:$D,3,0)","v":{"$error":"#N/A"}}]
[null,null,null,null,null,{"$f":"VLOOKUP(D431,állásidő_kódok!$B:$D,3,0)","v":{"$error":"#N/A"}},null,null,null,null,null,null,null,{"$f":"VLOOKUP(L431,állásidő_kódok!$B:$D,3,0)","v":{"$error":"#N/A"}},null,null,null,null,null,null,null,{"$f":"VLOOKUP(T431,állásidő_kódok!$B:$D,3,0)","v":{"$error":"#N/A"}}]
[null,null,null,null,null,{"$f":"VLOOKUP(D432,állásidő_kódok!$B:$D,3,0)","v":{"$error":"#N/A"}},null,null,null,null,null,null,null,{"$f":"VLOOKUP(L432,állásidő_kódok!$B:$D,3,0)","v":{"$error":"#N/A"}},null,null,null,null,null,null,null,{"$f":"VLOOKUP(T432,állásidő_kódok!$B:$D,3,0)","v":{"$error":"#N/A"}}]
[null,null,null,null,"Állásidők nélküli teljesítés:",{"$f":"((SUM(E423:E432)/445))+E405/E407","v":{"$error":"#DIV/0!"}},null,null,null,null,null,null,"Állásidők nélküli teljesítés:",{"$f":"((SUM(M423:M432)/445))+M405/M407","v":{"$error":"#DIV/0!"}},null,null,null,null,null,null,"Állásidők nélküli teljesítés:",{"$f":"((SUM(U423:U432)/445))+U405/U407","v":{"$error":"#DIV/0!"}}]
[null,{"$f":"Alapadatok!C17","v":"Cella13"},null,null,null,null,null,null,null,{"$f":"B434","v":"Cella13"},null,null,null,null,null,null,null,{"$f":"B434","v":"Cella13"}]
[null,null,null,"Gyártott:",null,"db",null,null,null,null,null,"Gyártott:",null,"db",null,null,null,null,null,"Gyártott:",null,"db"]
[]
[null,null,null,"Elvárt darabszám:",0,"db",null,"Elvárt db/op:",0,null,null,"Elvárt darabszám:",0,"db",null,"Elvárt db/op:",0,null,null,"Elvárt darabszám:",0,"db",null,"Elvárt db/op:",0]
[null,null,null,"Szükséges létszám: ",0,"fő",null,null,null,null,null,"Szükséges létszám:",0,"fő",null,null,null,null,null,"Szükséges létszám:",0,"fő"]
[null,null,null,"Aktuális létszám:",0,"fő",null,"Aktuális db/op:",0,null,null,"Aktuális létszám:",0,"fő",null,"Aktuális db/op:",0,null,null,"Aktuális létszám:",0,"fő",null,"Aktuális db/op:",0]
[]
[null,null,null,"Operátor",null,"fő",null,null,null,null,null,"Operátor",null,"fő",null,null,null,null,null,"Operátor",null,"fő"]
[null,null,null,"Koordinátor",null,"fő",null,null,null,null,null,"Koordinátor",null,"fő",null,null,null,null,null,"Koordinátor",null,"fő"]
[null,null,null,"Beállító",null,"fő",null,null,null,null,null,"Beállító",null,"fő",null,null,null,null,null,"Beállító",null,"fő"]
[null,null,null,"QA, Service",null,"fő",null,null,null,null,null,"QA, Service",null,"fő",null,null,null,null,null,"QA, Service",null,"fő"]
[null,null,null,"Anyagszállító",null,"fő",null,null,null,null,null,"Anyagszállító",null,"fő",null,null,null,null,null,"Anyagszállító",null,"fő"]
[null,null,null,"Egyéb",null,"fő",null,null,null,null,null,"Egyéb",null,"fő",null,null,null,null,null,"Egyéb",null,"fő"]
[]
[null,null,null,"Backlog:",null,"sorok száma",null,null,null,null,null,"Backlog:",null,"sorok száma",null,null,null,null,null,"Backlog:",null,"sorok száma"]
[]
[null,null,null,"Backlog:",null,"összes darab",null,null,null,null,null,"Backlog:",null,"összes darab",null,null,null,null,null,"Backlog:",null,"összes darab"]
[]
[null,null,null,"Kód:","Időtartam","Állásidő megnevezése",null,null,null,null,null,"Kód:","Időtartam","Állásidő megnevezése",null,null,null,null,null,"Kód:","Időtartam","Állásidő megnevezése"]
[null,null,null,null,null,{"$f":"VLOOKUP(D453,állásidő_kódok!$B:$D,3,0)","v":{"$error":"#N/A"}},null,null,null,null,null,null,null,{"$f":"VLOOKUP(L453,állásidő_kódok!$B:$D,3,0)","v":{"$error":"#N/A"}},null,null,null,null,null,null,null,{"$f":"VLOOKUP(T453,állásidő_kódok!$B:$D,3,0)","v":{"$error":"#N/A"}}]
[null,null,null,null,null,{"$f":"VLOOKUP(D454,állásidő_kódok!$B:$D,3,0)","v":{"$error":"#N/A"}},null,null,null,null,null,null,null,{"$f":"VLOOKUP(L454,állásidő_kódok!$B:$D,3,0)","v":{"$error":"#N/A"}},null,null,null,null,null,null,null,{"$f":"VLOOKUP(T454,állásidő_kódok!$B:$D,3,0)","v":{"$error":"#N/A"}}]
[null,null,null,null,null,{"$f":"VLOOKUP(D455,állásidő_kódok!$B:$D,3,0)","v":{"$error":"#N/A"}},null,null,null,null,null,null,null,{"$f":"VLOOKUP(L455,állásidő_kódok!$B:$D,3,0)","v":{"$error":"#N/A"}},null,null,null,null,null,null,null,{"$f":"VLOOKUP(T455,állásidő_kódok!$B:$D,3,0)","v":{"$error":"#N/A"}}]
[null,null,null,null,null,{"$f":"VLOOKUP(D456,állásidő_kódok!$B:$D,3,0)","v":{"$error":"#N/A"}},null,null,null,null,null,null,null,{"$f":"VLOOKUP(L456,állásidő_kódok!$B:$D,3,0)","v":{"$error":"#N/A"}},null,null,null,null,null,null,null,{"$f":"VLOOKUP(T456,állásidő_kódok!$B:$D,3,0)","v":{"$error":"#N/A"}}]
[null,null,null,null,null,{"$f":"VLOOKUP(D457,állásidő_kódok!$B:$D,3,0)","v":{"$error":"#N/A"}},null,null,null,null,null,null,null,{"$f":"VLOOKUP(L457,állásidő_kódok!$B:$D,3,0)","v":{"$error":"#N/A"}},null,null,null,null,null,null,null,{"$f":"VLOOKUP(T457,állásidő_kódok!$B:$D,3,0)","v":{"$error":"#N/A"}}]
[null,null,null,null,null,{"$f":"VLOOKUP(D458,állásidő_kódok!$B:$D,3,0)","v":{"$error":"#N/A"}},null,null,null,null,null,null,null,{"$f":"VLOOKUP(L458,állásidő_kódok!$B:$D,3,0)","v":{"$error":"#N/A"}},null,null,null,null,null,null,null,{"$f":"VLOOKUP(T458,állásidő_kódok!$B:$D,3,0)","v":{"$error":"#N/A"}}]
[null,null,null,null,null,{"$f":"VLOOKUP(D459,állásidő_kódok!$B:$D,3,0)","v":{"$error":"#N/A"}},null,null,null,null,null,null,null,{"$f":"VLOOKUP(L459,állásidő_kódok!$B:$D,3,0)","v":{"$error":"#N/A"}},null,null,null,null,null,null,null,{"$f":"VLOOKUP(T459,állásidő_kódok!$B:$D,3,0)","v":{"$error":"#N/A"}}]
[null,null,null,null,null,{"$f":"VLOOKUP(D460,állásidő_kódok!$B:$D,3,0)","v":{"$error":"#N/A"}},null,null,null,null,null,null,null,{"$f":"VLOOKUP(L460,állásidő_kódok!$B:$D,3,0)","v":{"$error":"#N/A"}},null,null,null,null,null,null,null,{"$f":"VLOOKUP(T460,állásidő_kódok!$B:$D,3,0)","v":{"$error":"#N/A"}}]
[null,null,null,null,null,{"$f":"VLOOKUP(D461,állásidő_kódok!$B:$D,3,0)","v":{"$error":"#N/A"}},null,null,null,null,null,null,null,{"$f":"VLOOKUP(L461,állásidő_kódok!$B:$D,3,0)","v":{"$error":"#N/A"}},null,null,null,null,null,null,null,{"$f":"VLOOKUP(T461,állásidő_kódok!$B:$D,3,0)","v":{"$error":"#N/A"}}]
[null,null,null,null,null,{"$f":"VLOOKUP(D462,állásidő_kódok!$B:$D,3,0)","v":{"$error":"#N/A"}},null,null,null,null,null,null,null,{"$f":"VLOOKUP(L462,állásidő_kódok!$B:$D,3,0)","v":{"$error":"#N/A"}},null,null,null,null,null,null,null,{"$f":"VLOOKUP(T462,állásidő_kódok!$B:$D,3,0)","v":{"$error":"#N/A"}}]
[null,null,null,null,"Állásidők nélküli teljesítés:",{"$f":"((SUM(E453:E462)/445))+E435/E437","v":{"$error":"#DIV/0!"}},null,null,null,null,null,null,"Állásidők nélküli teljesítés:",{"$f":"((SUM(M453:M462)/445))+M435/M437","v":{"$error":"#DIV/0!"}},null,null,null,null,null,null,"Állásidők nélküli teljesítés:",{"$f":"((SUM(U453:U462)/445))+U435/U437","v":{"$error":"#DIV/0!"}}]
[null,{"$f":"Alapadatok!C18","v":"Cella14"},null,null,null,null,null,null,null,{"$f":"B464","v":"Cella14"},null,null,null,null,null,null,null,{"$f":"B464","v":"Cella14"}]
[null,null,null,"Gyártott:",null,"db",null,null,null,null,null,"Gyártott:",null,"db",null,null,null,null,null,"Gyártott:",null,"db"]
[]
[null,null,null,"Elvárt darabszám:",0,"db",null,"Elvárt db/op:",0,null,null,"Elvárt darabszám:",0,"db",null,"Elvárt db/op:",0,null,null,"Elvárt darabszám:",0,"db",null,"Elvárt db/op:",0]
[null,null,null,"Szükséges létszám: ",0,"fő",null,null,null,null,null,"Szükséges létszám:",0,"fő",null,null,null,null,null,"Szükséges létszám:",0,"fő"]
[null,null,null,"Aktuális létszám:",0,"fő",null,"Aktuális db/op:",0,null,null,"Aktuális létszám:",0,"fő",null,"Aktuális db/op:",0,null,null,"Aktuális létszám:",0,"fő",null,"Aktuális db/op:",0]
[]
[null,null,null,"Operátor",null,"fő",null,null,null,null,null,"Operátor",null,"fő",null,null,null,null,null,"Operátor",null,"fő"]
[null,null,null,"Koordinátor",null,"fő",null,null,null,null,null,"Koordinátor",null,"fő",null,null,null,null,null,"Koordinátor",null,"fő"]
[null,null,null,"Beállító",null,"fő",null,null,null,null,null,"Beállító",null,"fő",null,null,null,null,null,"Beállító",null,"fő"]
[null,null,null,"QA, Service",null,"fő",null,null,null,null,null,"QA, Service",null,"fő",null,null,null,null,null,"QA, Service",null,"fő"]
[null,null,null,"Anyagszállító",null,"fő",null,null,null,null,null,"Anyagszállító",null,"fő",null,null,null,null,null,"Anyagszállító",null,"fő"]
[null,null,null,"Egyéb",null,"fő",null,null,null,null,null,"Egyéb",null,"fő",null,null,null,null,null,"Egyéb",null,"fő"]
[]
[null,null,null,"Backlog:",null,"sorok száma",null,null,null,null,null,"Backlog:",null,"sorok száma",null,null,null,null,null,"Backlog:",null,"sorok száma"]
[]
[null,null,null,"Backlog:",null,"összes darab",null,null,null,null,null,"Backlog:",null,"összes darab",null,null,null,null,null,"Backlog:",null,"összes darab"]
[]
[null,null,null,"Kód:","Időtartam","Állásidő megnevezése",null,null,null,null,null,"Kód:","Időtartam","Állásidő megnevezése",null,null,null,null,null,"Kód:","Időtartam","Állásidő megnevezése"]
[null,null,null,null,null,{"$f":"VLOOKUP(D483,állásidő_kódok!$B:$D,3,0)","v":{"$error":"#N/A"}},null,null,null,null,null,null,null,{"$f":"VLOOKUP(L483,állásidő_kódok!$B:$D,3,0)","v":{"$error":"#N/A"}},null,null,null,null,null,null,null,{"$f":"VLOOKUP(T483,állásidő_kódok!$B:$D,3,0)","v":{"$error":"#N/A"}}]
[null,null,null,null,null,{"$f":"VLOOKUP(D484,állásidő_kódok!$B:$D,3,0)","v":{"$error":"#N/A"}},null,null,null,null,null,null,null,{"$f":"VLOOKUP(L484,állásidő_kódok!$B:$D,3,0)","v":{"$error":"#N/A"}},null,null,null,null,null,null,null,{"$f":"VLOOKUP(T484,állásidő_kódok!$B:$D,3,0)","v":{"$error":"#N/A"}}]
[null,null,null,null,null,{"$f":"VLOOKUP(D485,állásidő_kódok!$B:$D,3,0)","v":{"$error":"#N/A"}},null,null,null,null,null,null,null,{"$f":"VLOOKUP(L485,állásidő_kódok!$B:$D,3,0)","v":{"$error":"#N/A"}},null,null,null,null,null,null,null,{"$f":"VLOOKUP(T485,állásidő_kódok!$B:$D,3,0)","v":{"$error":"#N/A"}}]
[null,null,null,null,null,{"$f":"VLOOKUP(D486,állásidő_kódok!$B:$D,3,0)","v":{"$error":"#N/A"}},null,null,null,null,null,null,null,{"$f":"VLOOKUP(L486,állásidő_kódok!$B:$D,3,0)","v":{"$error":"#N/A"}},null,null,null,null,null,null,null,{"$f":"VLOOKUP(T486,állásidő_kódok!$B:$D,3,0)","v":{"$error":"#N/A"}}]
[null,null,null,null,null,{"$f":"VLOOKUP(D487,állásidő_kódok!$B:$D,3,0)","v":{"$error":"#N/A"}},null,null,null,null,null,null,null,{"$f":"VLOOKUP(L487,állásidő_kódok!$B:$D,3,0)","v":{"$error":"#N/A"}},null,null,null,null,null,null,null,{"$f":"VLOOKUP(T487,állásidő_kódok!$B:$D,3,0)","v":{"$error":"#N/A"}}]
[null,null,null,null,null,{"$f":"VLOOKUP(D488,állásidő_kódok!$B:$D,3,0)","v":{"$error":"#N/A"}},null,null,null,null,null,null,null,{"$f":"VLOOKUP(L488,állásidő_kódok!$B:$D,3,0)","v":{"$error":"#N/A"}},null,null,null,null,null,null,null,{"$f":"VLOOKUP(T488,állásidő_kódok!$B:$D,3,0)","v":{"$error":"#N/A"}}]
[null,null,null,null,null,{"$f":"VLOOKUP(D489,állásidő_kódok!$B:$D,3,0)","v":{"$error":"#N/A"}},null,null,null,null,null,null,null,{"$f":"VLOOKUP(L489,állásidő_kódok!$B:$D,3,0)","v":{"$error":"#N/A"}},null,null,null,null,null,null,null,{"$f":"VLOOKUP(T489,állásidő_kódok!$B:$D,3,0)","v":{"$error":"#N/A"}}]
[null,null,null,null,null,{"$f":"VLOOKUP(D490,állásidő_kódok!$B:$D,3,0)","v":{"$error":"#N/A"}},null,null,null,null,null,null,null,{"$f":"VLOOKUP(L490,állásidő_kódok!$B:$D,3,0)","v":{"$error":"#N/A"}},null,null,null,null,null,null,null,{"$f":"VLOOKUP(T490,állásidő_kódok!$B:$D,3,0)","v":{"$error":"#N/A"}}]
[null,null,null,null,null,{"$f":"VLOOKUP(D491,állásidő_kódok!$B:$D,3,0)","v":{"$error":"#N/A"}},null,null,null,null,null,null,null,{"$f":"VLOOKUP(L491,állásidő_kódok!$B:$D,3,0)","v":{"$error":"#N/A"}},null,null,null,null,null,null,null,{"$f":"VLOOKUP(T491,állásidő_kódok!$B:$D,3,0)","v":{"$error":"#N/A"}}]
[null,null,null,null,null,{"$f":"VLOOKUP(D492,állásidő_kódok!$B:$D,3,0)","v":{"$error":"#N/A"}},null,null,null,null,null,null,null,{"$f":"VLOOKUP(L492,állásidő_kódok!$B:$D,3,0)","v":{"$error":"#N/A"}},null,null,null,null,null,null,null,{"$f":"VLOOKUP(T492,állásidő_kódok!$B:$D,3,0)","v":{"$error":"#N/A"}}]
[null,null,null,null,"Állásidők nélküli teljesítés:",{"$f":"((SUM(E483:E492)/445))+E465/E467","v":{"$error":"#DIV/0!"}},null,null,null,null,null,null,"Állásidők nélküli teljesítés:",{"$f":"((SUM(M483:M492)/445))+M465/M467","v":{"$error":"#DIV/0!"}},null,null,null,null,null,null,"Állásidők nélküli teljesítés:",{"$f":"((SUM(U483:U492)/445))+U465/U467","v":{"$error":"#DIV/0!"}}]
[null,{"$f":"Alapadatok!C19","v":"Cella15"},null,null,null,null,null,null,null,{"$f":"B494","v":"Cella15"},null,null,null,null,null,null,null,{"$f":"B494","v":"Cella15"}]
[null,null,null,"Gyártott:",null,"db",null,null,null,null,null,"Gyártott:",null,"db",null,null,null,null,null,"Gyártott:",null,"db"]
[]
[null,null,null,"Elvárt darabszám:",0,"db",null,"Elvárt db/op:",0,null,null,"Elvárt darabszám:",0,"db",null,"Elvárt db/op:",0,null,null,"Elvárt darabszám:",0,"db",null,"Elvárt db/op:",0]
[null,null,null,"Szükséges létszám: ",0,"fő",null,null,null,null,null,"Szükséges létszám:",0,"fő",null,null,null,null,null,"Szükséges létszám:",0,"fő"]
[null,null,null,"Aktuális létszám:",0,"fő",null,"Aktuális db/op:",0,null,null,"Aktuális létszám:",0,"fő",null,"Aktuális db/op:",0,null,null,"Aktuális létszám:",0,"fő",null,"Aktuális db/op:",0]
[]
[null,null,null,"Operátor",null,"fő",null,null,null,null,null,"Operátor",null,"fő",null,null,null,null,null,"Operátor",null,"fő"]
[null,null,null,"Koordinátor",null,"fő",null,null,null,null,null,"Koordinátor",null,"fő",null,null,null,null,null,"Koordinátor",null,"fő"]
[null,null,null,"Beállító",null,"fő",null,null,null,null,null,"Beállító",null,"fő",null,null,null,null,null,"Beállító",null,"fő"]
[null,null,null,"QA, Service",null,"fő",null,null,null,null,null,"QA, Service",null,"fő",null,null,null,null,null,"QA, Service",null,"fő"]
[null,null,null,"Anyagszállító",null,"fő",null,null,null,null,null,"Anyagszállító",null,"fő",null,null,null,null,null,"Anyagszállító",null,"fő"]
[null,null,null,"Egyéb",null,"fő",null,null,null,null,null,"Egyéb",null,"fő",null,null,null,null,null,"Egyéb",null,"fő"]
[]
[null,null,null,"Backlog:",null,"sorok száma",null,null,null,null,null,"Backlog:",null,"sorok száma",null,null,null,null,null,"Backlog:",null,"sorok száma"]
[]
[null,null,null,"Backlog:",null,"összes darab",null,null,null,null,null,"Backlog:",null,"összes darab",null,null,null,null,null,"Backlog:",null,"összes darab"]
[]
[null,null,null,"Kód:","Időtartam","Állásidő megnevezése",null,null,null,null,null,"Kód:","Időtartam","Állásidő megnevezése",null,null,null,null,null,"Kód:","Időtartam","Állásidő megnevezése"]
[null,null,null,null,null,{"$f":"VLOOKUP(D513,állásidő_kódok!$B:$D,3,0)","v":{"$error":"#N/A"}},null,null,null,null,null,null,null,{"$f":"VLOOKUP(L513,állásidő_kódok!$B:$D,3,0)","v":{"$error":"#N/A"}},null,null,null,null,null,null,null,{"$f":"VLOOKUP(T513,állásidő_kódok!$B:$D,3,0)","v":{"$error":"#N/A"}}]
[null,null,null,null,null,{"$f":"VLOOKUP(D514,állásidő_kódok!$B:$D,3,0)","v":{"$error":"#N/A"}},null,null,null,null,null,null,null,{"$f":"VLOOKUP(L514,állásidő_kódok!$B:$D,3,0)","v":{"$error":"#N/A"}},null,null,null,null,null,null,null,{"$f":"VLOOKUP(T514,állásidő_kódok!$B:$D,3,0)","v":{"$error":"#N/A"}}]
[null,null,null,null,null,{"$f":"VLOOKUP(D515,állásidő_kódok!$B:$D,3,0)","v":{"$error":"#N/A"}},null,null,null,null,null,null,null,{"$f":"VLOOKUP(L515,állásidő_kódok!$B:$D,3,0)","v":{"$error":"#N/A"}},null,null,null,null,null,null,null,{"$f":"VLOOKUP(T515,állásidő_kódok!$B:$D,3,0)","v":{"$error":"#N/A"}}]
[null,null,null,null,null,{"$f":"VLOOKUP(D516,állásidő_kódok!$B:$D,3,0)","v":{"$error":"#N/A"}},null,null,null,null,null,null,null,{"$f":"VLOOKUP(L516,állásidő_kódok!$B:$D,3,0)","v":{"$error":"#N/A"}},null,null,null,null,null,null,null,{"$f":"VLOOKUP(T516,állásidő_kódok!$B:$D,3,0)","v":{"$error":"#N/A"}}]
[null,null,null,null,null,{"$f":"VLOOKUP(D517,állásidő_kódok!$B:$D,3,0)","v":{"$error":"#N/A"}},null,null,null,null,null,null,null,{"$f":"VLOOKUP(L517,állásidő_kódok!$B:$D,3,0)","v":{"$error":"#N/A"}},null,null,null,null,null,null,null,{"$f":"VLOOKUP(T517,állásidő_kódok!$B:$D,3,0)","v":{"$error":"#N/A"}}]
[null,null,null,null,null,{"$f":"VLOOKUP(D518,állásidő_kódok!$B:$D,3,0)","v":{"$error":"#N/A"}},null,null,null,null,null,null,null,{"$f":"VLOOKUP(L518,állásidő_kódok!$B:$D,3,0)","v":{"$error":"#N/A"}},null,null,null,null,null,null,null,{"$f":"VLOOKUP(T518,állásidő_kódok!$B:$D,3,0)","v":{"$error":"#N/A"}}]
[null,null,null,null,null,{"$f":"VLOOKUP(D519,állásidő_kódok!$B:$D,3,0)","v":{"$error":"#N/A"}},null,null,null,null,null,null,null,{"$f":"VLOOKUP(L519,állásidő_kódok!$B:$D,3,0)","v":{"$error":"#N/A"}},null,null,null,null,null,null,null,{"$f":"VLOOKUP(T519,állásidő_kódok!$B:$D,3,0)","v":{"$error":"#N/A"}}]
[null,null,null,null,null,{"$f":"VLOOKUP(D520,állásidő_kódok!$B:$D,3,0)","v":{"$error":"#N/A"}},null,null,null,null,null,null,null,{"$f":"VLOOKUP(L520,állásidő_kódok!$B:$D,3,0)","v":{"$error":"#N/A"}},null,null,null,null,null,null,null,{"$f":"VLOOKUP(T520,állásidő_kódok!$B:$D,3,0)","v":{"$error":"#N/A"}}]
[null,null,null,null,null,{"$f":"VLOOKUP(D521,állásidő_kódok!$B:$D,3,0)","v":{"$error":"#N/A"}},null,null,null,null,null,null,null,{"$f":"VLOOKUP(L521,állásidő_kódok!$B:$D,3,0)","v":{"$error":"#N/A"}},null,null,null,null,null,null,null,{"$f":"VLOOKUP(T521,állásidő_kódok!$B:$D,3,0)","v":{"$error":"#N/A"}}]
[null,null,null,null,null,{"$f":"VLOOKUP(D522,állásidő_kódok!$B:$D,3,0)","v":{"$error":"#N/A"}},null,null,null,null,null,null,null,{"$f":"VLOOKUP(L522,állásidő_kódok!$B:$D,3,0)","v":{"$error":"#N/A"}},null,null,null,null,null,null,null,{"$f":"VLOOKUP(T522,állásidő_kódok!$B:$D,3,0)","v":{"$error":"#N/A"}}]
[null,null,null,null,"Állásidők nélküli teljesítés:",{"$f":"((SUM(E513:E522)/445))+E495/E497","v":{"$error":"#DIV/0!"}},null,null,null,null,null,null,"Állásidők nélküli teljesítés:",{"$f":"((SUM(M513:M522)/445))+M495/M497","v":{"$error":"#DIV/0!"}},null,null,null,null,null,null,"Állásidők nélküli teljesítés:",{"$f":"((SUM(U513:U522)/445))+U495/U497","v":{"$error":"#DIV/0!"}}]